<PAMDataset>
  <SRS dataAxisToSRSAxisMapping="2,1">GEOGCS["WGS 84",DATUM["WGS_1984",SPHEROID["WGS 84",6378137,298.257223563,AUTHORITY["EPSG","7030"]],AUTHORITY["EPSG","6326"]],PRIMEM["Greenwich",0],UNIT["degree",0.0174532925199433,AUTHORITY["EPSG","9122"]],AXIS["Latitude",NORTH],AXIS["Longitude",EAST],AUTHORITY["EPSG","4326"]]</SRS>
  <GeoTransform> -9.6718781519805054e+02,  8.7364329612848856e-03,  0.0000000000000000e+00,  3.8160457070630616e+02,  0.0000000000000000e+00, -8.7364329612848856e-03</GeoTransform>
  <Metadata domain="IMAGE_STRUCTURE">
    <MDI key="INTERLEAVE">PIXEL</MDI>
  </Metadata>
  <Metadata>
    <MDI key="AREA_OR_POINT">Area</MDI>
    <MDI key="EXIF_DateTime">2022.06.28 15:36:45</MDI>
    <MDI key="EXIF_MakerNote">LSI1</MDI>
    <MDI key="EXIF_Orientation">1</MDI>
    <MDI key="EXIF_PixelXDimension">7168</MDI>
    <MDI key="EXIF_PixelYDimension">5607</MDI>
    <MDI key="EXIF_ResolutionUnit">2</MDI>
    <MDI key="EXIF_Software">SilverFast 8.0.1 r11 (May 23 2012)  d920c51 23.05 </MDI>
    <MDI key="EXIF_XResolution">(600)</MDI>
    <MDI key="EXIF_YResolution">(600)</MDI>
  </Metadata>
</PAMDataset>
