<PAMDataset>
  <SRS dataAxisToSRSAxisMapping="2,1">GEOGCS["WGS 84",DATUM["WGS_1984",SPHEROID["WGS 84",6378137,298.257223563,AUTHORITY["EPSG","7030"]],AUTHORITY["EPSG","6326"]],PRIMEM["Greenwich",0],UNIT["degree",0.0174532925199433,AUTHORITY["EPSG","9122"]],AXIS["Latitude",NORTH],AXIS["Longitude",EAST],AUTHORITY["EPSG","4326"]]</SRS>
  <GeoTransform>  2.3262610034555156e+00,  1.9010147115524167e-06,  0.0000000000000000e+00,  4.8851487244000865e+01,  0.0000000000000000e+00, -1.9010147115524167e-06</GeoTransform>
  <Metadata domain="IMAGE_STRUCTURE">
    <MDI key="INTERLEAVE">PIXEL</MDI>
  </Metadata>
  <Metadata>
    <MDI key="AREA_OR_POINT">Area</MDI>
    <MDI key="TIFFTAG_COPYRIGHT">Archives nationales/France - CANTIN Nicolas </MDI>
    <MDI key="TIFFTAG_DATETIME">2026:06:15 10:47:19</MDI>
    <MDI key="TIFFTAG_DOCUMENTNAME">C:\Users\maiwenn.bourdic\Desktop\Wiki_midi_images\CP_F_31_TIFF\reduced\FRAN_0265_00071_A.tif</MDI>
    <MDI key="TIFFTAG_IMAGEDESCRIPTION">Planche 24 [Fol. 41 et 42]	Encre noire et rose, lavis rose, jaune, vert et gris	Division de l'Observatoire	98 x 128
</MDI>
    <MDI key="TIFFTAG_RESOLUTIONUNIT">2 (pixels/inch)</MDI>
    <MDI key="TIFFTAG_SOFTWARE">GIMP 2.10.8</MDI>
    <MDI key="TIFFTAG_XRESOLUTION">400</MDI>
    <MDI key="TIFFTAG_YRESOLUTION">400</MDI>
  </Metadata>
</PAMDataset>
