<PAMDataset>
  <SRS dataAxisToSRSAxisMapping="2,1">GEOGCS["WGS 84",DATUM["WGS_1984",SPHEROID["WGS 84",6378137,298.257223563,AUTHORITY["EPSG","7030"]],AUTHORITY["EPSG","6326"]],PRIMEM["Greenwich",0],UNIT["degree",0.0174532925199433,AUTHORITY["EPSG","9122"]],AXIS["Latitude",NORTH],AXIS["Longitude",EAST],AUTHORITY["EPSG","4326"]]</SRS>
  <GeoTransform> -1.0931146441504450e+02,  2.1883066643067829e-03,  0.0000000000000000e+00,  8.4858732020025542e+01,  0.0000000000000000e+00, -2.1883066643067829e-03</GeoTransform>
  <Metadata domain="IMAGE_STRUCTURE">
    <MDI key="INTERLEAVE">PIXEL</MDI>
  </Metadata>
  <Metadata>
    <MDI key="AREA_OR_POINT">Area</MDI>
    <MDI key="Raw_profile_type_8bim">8bim
    9360
3842494d0425000000000010000000000000000000000000000000003842494d043a0000
0000009d000000100000000100000000000b7072696e744f757470757400000004000000
0050737453626f6f6c0100000000496e7465656e756d00000000496e746500000000436c
726d0000000f7072696e745369787465656e426974626f6f6c000000000b7072696e7465
724e616d655445585400000014005c005c0065006c006c0069006e0067005c0070006900
6e006700760069006e002e006300320000003842494d043b0000000001b2000000100000
00010000000000127072696e744f75747075744f7074696f6e7300000012000000004370
746e626f6f6c0000000000436c6272626f6f6c00000000005267734d626f6f6c00000000
0043726e43626f6f6c0000000000436e7443626f6f6c00000000004c626c73626f6f6c00
000000004e677476626f6f6c0000000000456d6c44626f6f6c0000000000496e7472626f
6f6c000000000042636b674f626a63000000010000000000005247424300000003000000
0052642020646f7562406fe000000000000000000047726e20646f7562406fe000000000
0000000000426c2020646f7562406fe000000000000000000042726454556e744623526c
74000000000000000000000000426c6420556e744623526c740000000000000000000000
0052736c74556e74462350786c40790000000000000000000a766563746f724461746162
6f6f6c010000000050675073656e756d0000000050675073000000005067504300000000
4c656674556e744623526c74000000000000000000000000546f7020556e744623526c74
00000000000000000000000053636c20556e74462350726340590000000000003842494d
03ed000000000010019000000001000201900000000100023842494d042600000000000e
000000000000000000003f8000003842494d040d0000000000040000001e3842494d0419
0000000000040000001e3842494d03f3000000000009000000000000000001003842494d
271000000000000a000100000000000000023842494d03f5000000000048002f66660001
006c66660006000000000001002f6666000100a1999a0006000000000001003200000001
005a00000006000000000001003500000001002d000000060000000000013842494d03f8
0000000000700000ffffffffffffffffffffffffffffffffffffffffffff03e800000000
ffffffffffffffffffffffffffffffffffffffffffff03e800000000ffffffffffffffff
ffffffffffffffffffffffffffff03e800000000ffffffffffffffffffffffffffffffff
ffffffffffff03e800003842494d04080000000000100000000100000240000002400000
00003842494d041e000000000004000000003842494d041a00000000035b000000060000
00000000000000003f2400002a140000001300470072006f006e006c0061006e0064005f
0066006f0072006500690067006e005f0036003800000001000000000000000000000000
0000000000000001000000000000000000002a1400003f24000000000000000000000000
00000000010000000000000000000000000000000000000010000000010000000000006e
756c6c0000000200000006626f756e64734f626a63000000010000000000005263743100
00000400000000546f70206c6f6e6700000000000000004c6566746c6f6e670000000000
00000042746f6d6c6f6e6700003f2400000000526768746c6f6e6700002a140000000673
6c69636573566c4c73000000014f626a6300000001000000000005736c69636500000012
00000007736c69636549446c6f6e67000000000000000767726f757049446c6f6e670000
0000000000066f726967696e656e756d0000000c45536c6963654f726967696e0000000d
6175746f47656e6572617465640000000054797065656e756d0000000a45536c69636554
79706500000000496d672000000006626f756e64734f626a630000000100000000000052
6374310000000400000000546f70206c6f6e6700000000000000004c6566746c6f6e6700
0000000000000042746f6d6c6f6e6700003f2400000000526768746c6f6e6700002a1400
00000375726c54455854000000010000000000006e756c6c544558540000000100000000
00004d7367655445585400000001000000000006616c7454616754455854000000010000
0000000e63656c6c54657874497348544d4c626f6f6c010000000863656c6c5465787454
45585400000001000000000009686f727a416c69676e656e756d0000000f45536c696365
486f727a416c69676e0000000764656661756c740000000976657274416c69676e656e75
6d0000000f45536c69636556657274416c69676e0000000764656661756c740000000b62
67436f6c6f7254797065656e756d0000001145536c6963654247436f6c6f725479706500
0000004e6f6e6500000009746f704f75747365746c6f6e67000000000000000a6c656674
4f75747365746c6f6e67000000000000000c626f74746f6d4f75747365746c6f6e670000
00000000000b72696768744f75747365746c6f6e6700000000003842494d042800000000
000c000000023ff00000000000003842494d041100000000000101003842494d04140000
00000004000000013842494d040c000000001b42000000010000006b000000a000000144
0000ca8000001b2600180001ffd8ffe20c584943435f50524f46494c4500010100000c48
4c696e6f021000006d6e74725247422058595a2007ce0002000900060031000061637370
4d5346540000000049454320735247420000000000000000000000010000f6d600010000
0000d32d4850202000000000000000000000000000000000000000000000000000000000
000000000000000000000000000000000000001163707274000001500000003364657363
000001840000006c77747074000001f000000014626b707400000204000000147258595a
00000218000000146758595a0000022c000000146258595a0000024000000014646d6e64
0000025400000070646d6464000002c400000088767565640000034c0000008676696577
000003d4000000246c756d69000003f8000000146d6561730000040c0000002474656368
000004300000000c725452430000043c0000080c675452430000043c0000080c62545243
0000043c0000080c7465787400000000436f707972696768742028632920313939382048
65776c6574742d5061636b61726420436f6d70616e790000646573630000000000000012
735247422049454336313936362d322e3100000000000000000000001273524742204945
4336313936362d322e310000000000000000000000000000000000000000000000000000
00000000000000000000000000000000000000000000000058595a20000000000000f351
00010000000116cc58595a200000000000000000000000000000000058595a2000000000
00006fa2000038f50000039058595a2000000000000062990000b785000018da58595a20
00000000000024a000000f840000b6cf6465736300000000000000164945432068747470
3a2f2f7777772e6965632e636800000000000000000000001649454320687474703a2f2f
7777772e6965632e63680000000000000000000000000000000000000000000000000000
000000000000000000000000000000000000000064657363000000000000002e49454320
36313936362d322e312044656661756c742052474220636f6c6f7572207370616365202d
207352474200000000000000000000002e4945432036313936362d322e31204465666175
6c742052474220636f6c6f7572207370616365202d207352474200000000000000000000
00000000000000000000000064657363000000000000002c5265666572656e6365205669
6577696e6720436f6e646974696f6e20696e2049454336313936362d322e310000000000
0000000000002c5265666572656e63652056696577696e6720436f6e646974696f6e2069
6e2049454336313936362d322e3100000000000000000000000000000000000000000000
0000000076696577000000000013a4fe00145f2e0010cf140003edcc0004130b00035c9e
0000000158595a2000000000004c09560050000000571fe76d6561730000000000000001
000000000000000000000000000000000000028f00000002736967200000000043525420
63757276000000000000040000000005000a000f00140019001e00230028002d00320037
003b00400045004a004f00540059005e00630068006d00720077007c00810086008b0090
0095009a009f00a400a900ae00b200b700bc00c100c600cb00d000d500db00e000e500eb
00f000f600fb01010107010d01130119011f0125012b01320138013e0145014c01520159
01600167016e0175017c0183018b0192019a01a101a901b101b901c101c901d101d901e1
01e901f201fa0203020c0214021d0226022f02380241024b0254025d02670271027a0284
028e029802a202ac02b602c102cb02d502e002eb02f50300030b03160321032d03380343
034f035a03660372037e038a039603a203ae03ba03c703d303e003ec03f9040604130420
042d043b0448045504630471047e048c049a04a804b604c404d304e104f004fe050d051c
052b053a05490558056705770586059605a605b505c505d505e505f60606061606270637
06480659066a067b068c069d06af06c006d106e306f507070719072b073d074f07610774
0786079907ac07bf07d207e507f8080b081f08320846085a086e0882089608aa08be08d2
08e708fb09100925093a094f09640979098f09a409ba09cf09e509fb0a110a270a3d0a54
0a6a0a810a980aae0ac50adc0af30b0b0b220b390b510b690b800b980bb00bc80be10bf9
0c120c2a0c430c5c0c750c8e0ca70cc00cd90cf30d0d0d260d400d5a0d740d8e0da90dc3
0dde0df80e130e2e0e490e640e7f0e9b0eb60ed20eee0f090f250f410f5e0f7a0f960fb3
0fcf0fec1009102610431061107e109b10b910d710f511131131114f116d118c11aa11c9
11e81207122612451264128412a312c312e31303132313431363138313a413c513e51406
14271449146a148b14ad14ce14f01512153415561578159b15bd15e0160316261649166c
168f16b216d616fa171d17411765178917ae17d217f7181b18401865188a18af18d518fa
19201945196b199119b719dd1a041a2a1a511a771a9e1ac51aec1b141b3b1b631b8a1bb2
1bda1c021c2a1c521c7b1ca31ccc1cf51d1e1d471d701d991dc31dec1e161e401e6a1e94
1ebe1ee91f131f3e1f691f941fbf1fea20152041206c209820c420f0211c2148217521a1
21ce21fb22272255228222af22dd230a23382366239423c223f0241f244d247c24ab24da
250925382568259725c725f726272657268726b726e827182749277a27ab27dc280d283f
287128a228d429062938296b299d29d02a022a352a682a9b2acf2b022b362b692b9d2bd1
2c052c392c6e2ca22cd72d0c2d412d762dab2de12e162e4c2e822eb72eee2f242f5a2f91
2fc72ffe3035306c30a430db3112314a318231ba31f2322a3263329b32d4330d3346337f
33b833f1342b3465349e34d83513354d358735c235fd3637367236ae36e937243760379c
37d738143850388c38c839053942397f39bc39f93a363a743ab23aef3b2d3b6b3baa3be8
3c273c653ca43ce33d223d613da13de03e203e603ea03ee03f213f613fa23fe240234064
40a640e74129416a41ac41ee4230427242b542f7433a437d43c044034447448a44ce4512
4555459a45de4622466746ab46f04735477b47c04805484b489148d7491d496349a949f0
4a374a7d4ac44b0c4b534b9a4be24c2a4c724cba4d024d4a4d934ddc4e254e6e4eb74f00
4f494f934fdd5027507150bb51065150519b51e65231527c52c75313535f53aa53f65442
548f54db5528557555c2560f565c56a956f75744579257e0582f587d58cb591a596959b8
5a075a565aa65af55b455b955be55c355c865cd65d275d785dc95e1a5e6c5ebd5f0f5f61
5fb36005605760aa60fc614f61a261f56249629c62f06343639763eb6440649464e9653d
659265e7663d669266e8673d679367e9683f689668ec6943699a69f16a486a9f6af76b4f
6ba76bff6c576caf6d086d606db96e126e6b6ec46f1e6f786fd1702b708670e0713a7195
71f0724b72a67301735d73b87414747074cc7528758575e1763e769b76f8775677b37811
786e78cc792a798979e77a467aa57b047b637bc27c217c817ce17d417da17e017e627ec2
7f237f847fe5804780a8810a816b81cd8230829282f4835783ba841d848084e3854785ab
860e867286d7873b879f8804886988ce8933899989fe8a648aca8b308b968bfc8c638cca
8d318d988dff8e668ece8f368f9e9006906e90d6913f91a89211927a92e3934d93b69420
948a94f4955f95c99634969f970a977597e0984c98b89924999099fc9a689ad59b429baf
9c1c9c899cf79d649dd29e409eae9f1d9f8b9ffaa069a0d8a147a1b6a226a296a306a376
a3e6a456a4c7a538a5a9a61aa68ba6fda76ea7e0a852a8c4a937a9a9aa1caa8fab02ab75
abe9ac5cacd0ad44adb8ae2daea1af16af8bb000b075b0eab160b1d6b24bb2c2b338b3ae
b425b49cb513b58ab601b679b6f0b768b7e0b859b8d1b94ab9c2ba3bbab5bb2ebba7bc21
bc9bbd15bd8fbe0abe84beffbf7abff5c070c0ecc167c1e3c25fc2dbc358c3d4c451c4ce
c54bc5c8c646c6c3c741c7bfc83dc8bcc93ac9b9ca38cab7cb36cbb6cc35ccb5cd35cdb5
ce36ceb6cf37cfb8d039d0bad13cd1bed23fd2c1d344d3c6d449d4cbd54ed5d1d655d6d8
d75cd7e0d864d8e8d96cd9f1da76dafbdb80dc05dc8add10dd96de1cdea2df29dfafe036
e0bde144e1cce253e2dbe363e3ebe473e4fce584e60de696e71fe7a9e832e8bce946e9d0
ea5beae5eb70ebfbec86ed11ed9cee28eeb4ef40efccf058f0e5f172f1fff28cf319f3a7
f434f4c2f550f5def66df6fbf78af819f8a8f938f9c7fa57fae7fb77fc07fc98fd29fdba
fe4bfedcff6dffffffed000c41646f62655f434d0002ffee000e41646f62650064800000
0001ffdb0084000c08080809080c09090c110b0a0b11150f0c0c0f151813131513131811
0c0c0c0c0c0c110c0c0c0c0c0c0c0c0c0c0c0c0c0c0c0c0c0c0c0c0c0c0c0c0c0c0c0c01
0d0b0b0d0e0d100e0e10140e0e0e14140e0e0e0e14110c0c0c0c0c11110c0c0c0c0c0c11
0c0c0c0c0c0c0c0c0c0c0c0c0c0c0c0c0c0c0c0c0c0c0c0c0c0c0c0cffc000110800a000
6b03012200021101031101ffdd00040007ffc4013f000001050101010101010000000000
0000030001020405060708090a0b01000105010101010101000000000000000100020304
05060708090a0b1000010401030204020507060805030c33010002110304211231054151
611322718132061491a1b14223241552c16233347282d14307259253f0e1f163733516a2
b283264493546445c2a3743617d255e265f2b384c3d375e3f3462794a485b495c4d4e4f4
a5b5c5d5e5f55666768696a6b6c6d6e6f637475767778797a7b7c7d7e7f7110002020102
04040304050607070605350100021103213112044151617122130532819114a1b14223c1
52d1f0332462e1728292435315637334f1250616a2b283072635c2d2449354a317644555
367465e2f2b384c3d375e3f34694a485b495c4d4e4f4a5b5c5d5e5f55666768696a6b6c6
d6e6f62737475767778797a7b7c7ffda000c03010002110311003f00ed6ec9c863f6b2c3
e30e24f7779a0bf372c7e7807ccbbf2053c821b7493036893f32b287da2c7b29afd46ee2
5a4341860d4fe9323616d7bffd332dff00ad28991bceea6f6586bb2fadaf0012d717030e
fa3c9fce52af3aeb01735ed21a76bb470209fa3b98e735eddffe0ff7d6764e25d5b4bb19
81efadc3706fe9ad0e78219d9deef6fd3fe7147a46364599375994c6beaba6ac82f1b5cf
7300735be986b1db98e737d47bbe824a7643b2dcdddb99af6d74ff00a69bf5aee59f71ff
00c92256218d020012008d0004809cf6fef482911193075af5f23ff924dfacf00d5e1001
ff00c9a34991007de9a04c86804f2749fc88a918198350583ce0ff00e49396e64cc567e4
7ff268a3e29c81a72815209ca07fc17c20ff00e4d49a32bc2bf2e7ff00268a78f82513c8
0829ae5b783b9e5bb67586977fdf94e6a88dda44f3f9b33ff54a390403b446f709da0c3b
4e5db4feea7f40c46f77f37b793ccceffeb2497fffd0eafaadaea41b1aed846c05fb43e0
39fb5dec77d2e52c6666d91f680cc7a1a7706b0163ac77e73df5bbf9aa5ffe8dff00a4ff
00ab56c869c924f21820891dca93abac982d9f8927f8a8991ad8bd3f0b19ae6d2d0039db
8c3c90359f6ebec6ff00254c641dd1e9bb693abb5ff3b844355404ed03cd0efb6aa40de5
c38921d11e7ef76dda929257f47eff00faa727312abd6ecb702d6d6d6b3f7de4ea0fee36
3d5ffb73e9a231b9209dee6ea20ed9e7f7c070f6a414ccccb7e3fc0a67d8c646e313c4f3
f82158dbc11b01733bb1ba123f92e951666b21dea6e616f2d70da67fd1b3fd2ff6114360
593f45ae2343ba047fd2daa41b3cfe5ff728d5632d12dd79048d4023dae6eefeb298f340
a57fb8215efdac8079d0c448f94228855ad155b66c683bda7dcf71fa1a09d9ea7ef7e7ec
494c5cca99841acd418dc639227dced1aaec7c3e92af90d1f67f6ea24447cfc159877fd2
414fffd1edf74641274f68127c64e893de1aee09d3480877b5a6d738804d6c0e6b8ce9ce
bed53b47b87f54850b23171b1c4963351afb8083e5f49332b3b8b9ed0f260360021ad03e
833d43edf7fbd4aad1c74898d679d14dbc0f77cb4454a6801bb437681a6dff00728ec13c
47c0944daed7fb957b32a96480f0fb3815b4cb89f0da276ff6920a66e66f01bb9cdf369d
7e124216450c2d0c0c6b9e4400e23739b237eeb1ecb2c6d7fe9367fd5a191936b839ceda
0024005cd6f87fc639dfebe922526a66e71b21c65ae6b88d4b7c647a8e77bbf7ff003d15
35edbb23067dbbab046d23680edc47b6a66e77fc23d5f7d8da985d611a7310ab3cd77dad
b43c966335ce77ee8313bbd3fcf7b36a9505b65a6d2d2346fa6d24180777bbf37dcedbfa
540a981b735ef73ab0194904073bb7d1db70dce1b9beedc895b8b98d7ded05e0c35c60b6
7876c8fe57d0dcace89b522412083c01c764948f221d50f7f24111a7628f1e67e92ad78f
618912759efa2b323fe920a7ffd2ed2c6cdfa8dd1b21a08827dd1ba54c9c9006da41ec06
f08776cf55e1cd2fdcd6b7689d499fdd43b30715bfa3a994b4bc196169870d3f71cc77b5
ca1644ee7dc06b491f17347fdf90dd666c698ad703ccdade3fcd501818ed3b5b8f590383
b9e3fe8ed7b5bfe7281c0c2dfb852c6bc020164bdf1fbad1ec45489ccea6eacfa7d3b1f7
c88165e5f586fe77e8e1bb1c8d5d7916398db5a2a2d973ab66d731b102b0d73767e91dee
f77a7fa34cdc5635ed6b6b771237120b7fabe93f6a33289600ff007126483a73e3afbb6a
214c77e3b5e2b10e224bed71d03a3fc259fbce54dc197ded6801efe499da36fefbed3eef
b37f5bf9cfe6aaf623598e2db43e903d16b4b4824b59b9bb86c0d6ff002ddf98a5552eac
0a5c03c170b2d8076cff0082a75dfea7bbf49bac4509a8a43b1dad73406932037db20196
16b6777b9befda89530c9739a1a386b23803fefee507545f064b87d1892235fe719b4fd2
4ed2e63cee320e8f3e27f36cff0037e9a694a497124888f0effe724d264e849ee7b7c133
ddb2973cb4bbd369710de4c0ddb1a9ea7fa9532cda5a1ed0eda79122769414c3267d313e
211a35fed7f041c9d6b13fbc11b49e3f39253fffd3ed2c0e75e5a38735b27c00f7149f5b
2c21c4ed7ccb5ede5b03dbdf6b9beef756a1904b5cf7b757b034b1a3bbb866efe4eefa48
ac6913b88770d27b1701ef728591136e6dbb37b43b52d238131bb780efcc7351c40d0081
e03455fd3bc5e5fed730b840982d681b7c3ddbb77d0469686974c01a93f0494a2c983cc6
a67f828d8f15b4077d23a35adfa4efdd6b27f3bfea12f518585ed7176848004f1fd9fa48
34be5e6c901ce69025bf475dd0d67d3febfb910a5c6fa58cadcd05e1876381d0bf977247
e71537b433635a60b8e84cccff00847bbf79ee51a37d8e1758e0790dd20783b6ea7e9a31
6926438b4f6450a2e2d01ad6ef3de127e8439c35e06d05daf2d247f253341de43cc92041
0080a4e6b4820c40d75e3f820528b759248af49fdd7ee23c4e9f49387d921db073e0f9fc
886e7364c003e4126b9923da0fc87fb10524b9c1cc100801c3e9023f2ab13f9557b83454
dda041703a71f146d7fe92497fffd4ed0b9c3208001690d0e9ec126da2b6c5eedb2490e7
0dad8febc967f29386b5d90f0e8236b79d549f4b06d0044731dc0fdf50b2359f97b89663
ee7bdd1ee735c58c1fbc63f49ff5b67fe0686696b1819eabdd065fb9a40dc4cb9ee2efa2
f7abb01a3686e83803ccf9aab763837fb5be9d65a4bdc3bb9c783aa2a59ed78697071aa0
8d75823f77d83f394a9c52e6eeb8fa8e3d9fafef7e77f39edddb3fa886d9a06cb49871d6
3500fd281b95c6be5a0876f9d41494b805b0dec3b2531dd40d80004b81266081327fb290
2f7b7521be0399fbd152fb81788d4a939d503b5ce12efcd2755001a185c40036c40f6e9f
d7551d8f8c4b9cec6adcf74924dc4c93fbfb902a6d3ab2ee1a016f3041fbd26547f703cf
6d47f72a431ea69f6e354d11122d8edc683e86e443452e6ec752c2d77d26faba69c424a6
ce408ac0100070d3c11bfbd67331f12a717d5532ab5db5a4b5db89683bb6ad2fef414fff
d5ed847dadfae9b076f82238b6342e43007da9e7f923fefa884050b23076c241e4b4c893
e487bb60363a499f683cea6111db7beb0a01a1e635911df41fca6ff5525236b1ceb0b9c0
3ab881121dba787363fe9a8d974bc32096cfbb691a9f385640881285754237b40de0c827
8fed04429900d0346800ea7bfcd4a0bb50604ebdd55399b1cd6dad2d3f9c4f00f9e9e489
f6aa4825b688076980666262211524b9b15932400389f36a9d8091ed7359e64042f5996d
0e730c8d071046a11ccfef7fafcd02a61fa3009791a9e4c469dc4a8bd96e9b47c6344c03
9ef3001afb9db23fabfd652656eacfb1c48fdc3200ff003a52523c9041a818fa5a42b506
3e7fc555c99df54f3bbe5cab51a76e7f8a0a7fffd6ed41fd6ecfeab7f23511de7a218fe9
76c91a86ebf262216cea083e07fdca164604cba06be20730a427c23e2a2f04b74883c932
3bf6d0a90888d4791d1252a0ca85c2fd87d0dbbfb07c8f9eeffcc54c7cc7ce4a8ef6976c
0e870e447fb110a6a59b5e40b9ed60fa4d82e241fce759b7d967bbf9086d76332d3a13cc
bdd208fe5433f468c690cb0bcb60999788dc75fce7fb1ad47065a5c089824910498fe542
286b52edd459f9dee1364e8e32ddc47e72ba4b4822418ec0c7c95776f707555fa72d825a
0c10643be8ff002910d96131b0970fa4191a1fe54a052bb2b688796fbfc4ff00aeddca65
cd6c4900bb8500fb469e9bcebe498973dcd2ea9c76cc131a1d10530c920d957f587208ee
df10adf6ff005f1544b6d0f61b185a370209208991a6d0af691f3fe2929fffd7ed009cab
a4077b5ba13e4c5370f7171904880638f98942d9393641820360fc99d94fdcc6b438ee93
04f82859190da491f488fc13c688639982e831e63e3b94a01d7c3e49299094a04cc007c5
301a684a507c48fb910a47632d738398e123e88331f953b581acb00dc7427dc223c7b052
2351af8e9a28b6b0c0034ba0700ebf95143036d3ba59b5ce3037346be5c0dca7430b01de
e2fb1e77171f01a37fd589cb0b810f25c4f8f11fca67d172980d1c0e7540a55ac491b7f1
4c1d1a8323c849f34a3b93f804b83a71e082985e7467f5dbf9423ebb7bff00a955ae8018
071b9ba93e6158fccff5fde494ff00ffd0ecda6726df837f231339cc2406cee07823c3fe
8a93b1ee73dcf63b66e03f31c488007ef37c131c4c983fa4067b161fcbbd42c8ca53b49e
fc05018f94340e03fb07ff00249bd0c903e9c79061e7fce4a936964c0d2529f1e3c50bd0
cbe03c69fc8227f15135663792d9f0d40ffa944212ea5c3ca53826103666f21e23c813f9
42715670e4b63bc83ff914549ff22605a07fb650c559b20ee698e7daefee4bd2cdf1691f
d577f720549240d4e91e2a3bbe13d88d794c29cdd223fcc77f72431f38f87c763bff0022
82985fa0ac4cc3dba9f88563f33e5ff7f413899ee2039a0b5ae0746b81807fa88de85fb3
e859f463e89e777c121d55d9ffd93842494d042100000000005500000001010000000f00
410064006f00620065002000500068006f0074006f00730068006f007000000013004100
64006f00620065002000500068006f0074006f00730068006f0070002000430053003500
000001003842494d0fa000000000010c6d616e6949524652000001003842494d416e4473
000000e000000010000000010000000000006e756c6c0000000300000000414653746c6f
6e6700000000000000004672496e566c4c73000000014f626a6300000001000000000000
6e756c6c0000000200000000467249446c6f6e672a3efae30000000046724741646f7562
403e0000000000000000000046537473566c4c73000000014f626a630000000100000000
00006e756c6c0000000400000000467349446c6f6e6700000000000000004146726d6c6f
6e67000000000000000046734672566c4c73000000016c6f6e672a3efae3000000004c43
6e746c6f6e670000000000003842494d526f6c6c0000000800000000000000003842494d
0fa100000000001c6d667269000000020000001000000001000000000000000100000000
</MDI>
    <MDI key="Raw_profile_type_xmp">xmp
   14026
3c3f787061636b657420626567696e3d22efbbbf222069643d2257354d304d7043656869
487a7265537a4e54637a6b633964223f3e0a3c783a786d706d65746120786d6c6e733a78
3d2261646f62653a6e733a6d6574612f2220783a786d70746b3d2241646f626520584d50
20436f726520352e302d633036302036312e3133343737372c20323031302f30322f3132
2d31373a33323a30302020202020202020223e0a2020203c7264663a52444620786d6c6e
733a7264663d22687474703a2f2f7777772e77332e6f72672f313939392f30322f32322d
7264662d73796e7461782d6e7323223e0a2020202020203c7264663a4465736372697074
696f6e207264663a61626f75743d22220a202020202020202020202020786d6c6e733a78
6d703d22687474703a2f2f6e732e61646f62652e636f6d2f7861702f312e302f223e0a20
20202020202020203c786d703a43726561746f72546f6f6c3e5363616e6e696e67204d61
737465722050726f20436f6c6f722056657273696f6e20372e30303c2f786d703a437265
61746f72546f6f6c3e0a2020202020202020203c786d703a437265617465446174653e32
3031332d30362d31325431323a32393a34352b30323a30303c2f786d703a437265617465
446174653e0a2020202020202020203c786d703a4d6f64696679446174653e323031332d
30362d31325431323a33313a35382b30323a30303c2f786d703a4d6f6469667944617465
3e0a2020202020202020203c786d703a4d65746164617461446174653e323031332d3036
2d31325431323a33313a35382b30323a30303c2f786d703a4d6574616461746144617465
3e0a2020202020203c2f7264663a4465736372697074696f6e3e0a2020202020203c7264
663a4465736372697074696f6e207264663a61626f75743d22220a202020202020202020
202020786d6c6e733a64633d22687474703a2f2f7075726c2e6f72672f64632f656c656d
656e74732f312e312f223e0a2020202020202020203c64633a666f726d61743e696d6167
652f746966663c2f64633a666f726d61743e0a2020202020203c2f7264663a4465736372
697074696f6e3e0a2020202020203c7264663a4465736372697074696f6e207264663a61
626f75743d22220a202020202020202020202020786d6c6e733a70686f746f73686f703d
22687474703a2f2f6e732e61646f62652e636f6d2f70686f746f73686f702f312e302f22
3e0a2020202020202020203c70686f746f73686f703a436f6c6f724d6f64653e333c2f70
686f746f73686f703a436f6c6f724d6f64653e0a2020202020203c2f7264663a44657363
72697074696f6e3e0a2020202020203c7264663a4465736372697074696f6e207264663a
61626f75743d22220a202020202020202020202020786d6c6e733a786d704d4d3d226874
74703a2f2f6e732e61646f62652e636f6d2f7861702f312e302f6d6d2f220a2020202020
20202020202020786d6c6e733a73744576743d22687474703a2f2f6e732e61646f62652e
636f6d2f7861702f312e302f73547970652f5265736f757263654576656e7423223e0a20
20202020202020203c786d704d4d3a496e7374616e636549443e786d702e6969643a3535
3541394131423441443345323131414545314646353442393334413043413c2f786d704d
4d3a496e7374616e636549443e0a2020202020202020203c786d704d4d3a446f63756d65
6e7449443e786d702e6469643a3535354139413142344144334532313141454531464635
3442393334413043413c2f786d704d4d3a446f63756d656e7449443e0a20202020202020
20203c786d704d4d3a4f726967696e616c446f63756d656e7449443e786d702e6469643a
35353541394131423441443345323131414545314646353442393334413043413c2f786d
704d4d3a4f726967696e616c446f63756d656e7449443e0a2020202020202020203c786d
704d4d3a486973746f72793e0a2020202020202020202020203c7264663a5365713e0a20
20202020202020202020202020203c7264663a6c69207264663a7061727365547970653d
225265736f75726365223e0a2020202020202020202020202020202020203c7374457674
3a616374696f6e3e637265617465643c2f73744576743a616374696f6e3e0a2020202020
202020202020202020202020203c73744576743a696e7374616e636549443e786d702e69
69643a35353541394131423441443345323131414545314646353442393334413043413c
2f73744576743a696e7374616e636549443e0a2020202020202020202020202020202020
203c73744576743a7768656e3e323031332d30362d31325431323a32393a34352b30323a
30303c2f73744576743a7768656e3e0a2020202020202020202020202020202020203c73
744576743a736f6674776172654167656e743e41646f62652050686f746f73686f702043
53352057696e646f77733c2f73744576743a736f6674776172654167656e743e0a202020
2020202020202020202020203c2f7264663a6c693e0a2020202020202020202020203c2f
7264663a5365713e0a2020202020202020203c2f786d704d4d3a486973746f72793e0a20
20202020203c2f7264663a4465736372697074696f6e3e0a2020203c2f7264663a524446
3e0a3c2f783a786d706d6574613e0a202020202020202020202020202020202020202020
202020202020202020202020202020202020202020202020202020202020202020202020
202020202020202020202020202020202020202020202020202020202020202020202020
202020202020200a20202020202020202020202020202020202020202020202020202020
