<PAMDataset>
  <SRS dataAxisToSRSAxisMapping="2,1">GEOGCS["WGS 84",DATUM["WGS_1984",SPHEROID["WGS 84",6378137,298.257223563,AUTHORITY["EPSG","7030"]],AUTHORITY["EPSG","6326"]],PRIMEM["Greenwich",0,AUTHORITY["EPSG","8901"]],UNIT["degree",0.0174532925199433,AUTHORITY["EPSG","9122"]],AXIS["Latitude",NORTH],AXIS["Longitude",EAST],AUTHORITY["EPSG","4326"]]</SRS>
  <GeoTransform>  3.9883225868412161e+01,  1.5208253830656869e-05,  0.0000000000000000e+00,  5.7633298419700537e+01,  0.0000000000000000e+00, -1.5208253830656869e-05</GeoTransform>
  <Metadata>
    <MDI key="AREA_OR_POINT">Area</MDI>
    <MDI key="XML_com.adobe.xmp">&lt;?xpacket begin="&#xFEFF;" id="W5M0MpCehiHzreSzNTczkc9d"?&gt; &lt;x:xmpmeta xmlns:x="adobe:ns:meta/" x:xmptk="Adobe XMP Core 6.0-c002 79.164460, 2020/05/12-16:04:17        "&gt; &lt;rdf:RDF xmlns:rdf="http://www.w3.org/1999/02/22-rdf-syntax-ns#"&gt; &lt;rdf:Description rdf:about="" xmlns:photoshop="http://ns.adobe.com/photoshop/1.0/" xmlns:xmp="http://ns.adobe.com/xap/1.0/" xmlns:dc="http://purl.org/dc/elements/1.1/" xmlns:xmpMM="http://ns.adobe.com/xap/1.0/mm/" xmlns:stEvt="http://ns.adobe.com/xap/1.0/sType/ResourceEvent#" xmlns:stRef="http://ns.adobe.com/xap/1.0/sType/ResourceRef#" xmlns:tiff="http://ns.adobe.com/tiff/1.0/" xmlns:exif="http://ns.adobe.com/exif/1.0/" photoshop:LegacyIPTCDigest="CDCFFA7DA8C7BE09057076AEAF05C34E" photoshop:ColorMode="3" photoshop:ICCProfile="" xmp:CreateDate="2013-02-03T23:15:54+04:00" xmp:ModifyDate="2022-02-11T04:26:32+03:00" xmp:MetadataDate="2022-02-11T04:26:32+03:00" xmp:CreatorTool="Adobe Photoshop CS5 Windows" dc:format="image/png" xmpMM:InstanceID="xmp.iid:2e856a29-d691-8f47-9a88-182da2167b07" xmpMM:DocumentID="adobe:docid:photoshop:d34e9de4-e0dd-1448-98a9-acdf75483a4a" xmpMM:OriginalDocumentID="xmp.did:D14617014B6EE21191EF8252C6D2C401" tiff:ImageWidth="3791" tiff:ImageLength="4913" tiff:PhotometricInterpretation="2" tiff:Orientation="1" tiff:SamplesPerPixel="3" tiff:XResolution="720000/10000" tiff:YResolution="720000/10000" tiff:ResolutionUnit="2" exif:ExifVersion="0221" exif:ColorSpace="65535" exif:PixelXDimension="4600" exif:PixelYDimension="6000"&gt; &lt;photoshop:DocumentAncestors&gt; &lt;rdf:Bag&gt; &lt;rdf:li&gt;adobe:docid:photoshop:b721fa67-2cbb-11e2-a0e6-df6a4dbedaba&lt;/rdf:li&gt; &lt;rdf:li&gt;xmp.did:9c7b8976-c8d4-6f4b-a82c-642cecdbc3e8&lt;/rdf:li&gt; &lt;rdf:li&gt;xmp.did:d61e3d52-0177-5746-9556-f9908f24d278&lt;/rdf:li&gt; &lt;/rdf:Bag&gt; &lt;/photoshop:DocumentAncestors&gt; &lt;xmpMM:History&gt; &lt;rdf:Seq&gt; &lt;rdf:li stEvt:action="saved" stEvt:instanceID="xmp.iid:D14617014B6EE21191EF8252C6D2C401" stEvt:when="2013-02-04T01:45:19+04:00" stEvt:softwareAgent="Adobe Photoshop CS5 Windows" stEvt:changed="/"/&gt; &lt;rdf:li stEvt:action="saved" stEvt:instanceID="xmp.iid:d294535b-d990-5542-a858-21fac8986c48" stEvt:when="2022-01-29T01:53:36+03:00" stEvt:softwareAgent="Adobe Photoshop 21.2 (Windows)" stEvt:changed="/"/&gt; &lt;rdf:li stEvt:action="converted" stEvt:parameters="from image/jpeg to application/vnd.adobe.photoshop"/&gt; &lt;rdf:li stEvt:action="derived" stEvt:parameters="converted from image/jpeg to application/vnd.adobe.photoshop"/&gt; &lt;rdf:li stEvt:action="saved" stEvt:instanceID="xmp.iid:d61e3d52-0177-5746-9556-f9908f24d278" stEvt:when="2022-01-29T01:53:36+03:00" stEvt:softwareAgent="Adobe Photoshop 21.2 (Windows)" stEvt:changed="/"/&gt; &lt;rdf:li stEvt:action="saved" stEvt:instanceID="xmp.iid:948e674f-9b17-274d-ada6-7b42fa39220f" stEvt:when="2022-02-08T01:57:22+03:00" stEvt:softwareAgent="Adobe Photoshop 21.2 (Windows)" stEvt:changed="/"/&gt; &lt;rdf:li stEvt:action="converted" stEvt:parameters="from application/vnd.adobe.photoshop to image/png"/&gt; &lt;rdf:li stEvt:action="derived" stEvt:parameters="converted from application/vnd.adobe.photoshop to image/png"/&gt; &lt;rdf:li stEvt:action="saved" stEvt:instanceID="xmp.iid:ac498ba0-c2c7-054c-a802-09c0d338c114" stEvt:when="2022-02-08T01:57:22+03:00" stEvt:softwareAgent="Adobe Photoshop 21.2 (Windows)" stEvt:changed="/"/&gt; &lt;rdf:li stEvt:action="derived" stEvt:parameters="converted from image/png to application/vnd.adobe.photoshop"/&gt; &lt;rdf:li stEvt:action="saved" stEvt:instanceID="xmp.iid:9c7b8976-c8d4-6f4b-a82c-642cecdbc3e8" stEvt:when="2022-02-08T03:44:39+03:00" stEvt:softwareAgent="Adobe Photoshop 21.2 (Windows)" stEvt:changed="/"/&gt; &lt;rdf:li stEvt:action="saved" stEvt:instanceID="xmp.iid:73cf7f5b-dc50-474f-8a40-a0fdeed8dd77" stEvt:when="2022-02-10T03:45:47+03:00" stEvt:softwareAgent="Adobe Photoshop 21.2 (Windows)" stEvt:changed="/"/&gt; &lt;rdf:li stEvt:action="converted" stEvt:parameters="from application/vnd.adobe.photoshop to image/png"/&gt; &lt;rdf:li stEvt:action="derived" stEvt:parameters="converted from application/vnd.adobe.photoshop to image/png"/&gt; &lt;rdf:li stEvt:action="saved" stEvt:instanceID="xmp.iid:7cacfb93-7b60-9d45-9fa9-d01647746a70" stEvt:when="2022-02-10T03:45:47+03:00" stEvt:softwareAgent="Adobe Photoshop 21.2 (Windows)" stEvt:changed="/"/&gt; &lt;rdf:li stEvt:action="saved" stEvt:instanceID="xmp.iid:2e856a29-d691-8f47-9a88-182da2167b07" stEvt:when="2022-02-11T04:26:32+03:00" stEvt:softwareAgent="Adobe Photoshop 21.2 (Windows)" stEvt:changed="/"/&gt; &lt;/rdf:Seq&gt; &lt;/xmpMM:History&gt; &lt;xmpMM:DerivedFrom stRef:instanceID="xmp.iid:73cf7f5b-dc50-474f-8a40-a0fdeed8dd77" stRef:documentID="xmp.did:9c7b8976-c8d4-6f4b-a82c-642cecdbc3e8" stRef:originalDocumentID="xmp.did:D14617014B6EE21191EF8252C6D2C401"/&gt; &lt;tiff:BitsPerSample&gt; &lt;rdf:Seq&gt; &lt;rdf:li&gt;8&lt;/rdf:li&gt; &lt;rdf:li&gt;8&lt;/rdf:li&gt; &lt;rdf:li&gt;8&lt;/rdf:li&gt; &lt;/rdf:Seq&gt; &lt;/tiff:BitsPerSample&gt; &lt;/rdf:Description&gt; &lt;/rdf:RDF&gt; &lt;/x:xmpmeta&gt; &lt;?xpacket end="r"?&gt;</MDI>
  </Metadata>
  <Metadata domain="IMAGE_STRUCTURE">
    <MDI key="INTERLEAVE">PIXEL</MDI>
  </Metadata>
</PAMDataset>
