<PAMDataset>
  <SRS dataAxisToSRSAxisMapping="2,1">GEOGCS["WGS 84",DATUM["WGS_1984",SPHEROID["WGS 84",6378137,298.257223563,AUTHORITY["EPSG","7030"]],AUTHORITY["EPSG","6326"]],PRIMEM["Greenwich",0,AUTHORITY["EPSG","8901"]],UNIT["degree",0.0174532925199433,AUTHORITY["EPSG","9122"]],AXIS["Latitude",NORTH],AXIS["Longitude",EAST],AUTHORITY["EPSG","4326"]]</SRS>
  <GeoTransform>  3.9832368873590077e+01,  1.1206481986789414e-05,  0.0000000000000000e+00,  5.7655164827682917e+01,  0.0000000000000000e+00, -1.1206481986789414e-05</GeoTransform>
  <Metadata>
    <MDI key="AREA_OR_POINT">Area</MDI>
    <MDI key="EXIF_ApertureValue">(4.625)</MDI>
    <MDI key="EXIF_BodySerialNumber">023070033344</MDI>
    <MDI key="EXIF_ColorSpace">1</MDI>
    <MDI key="EXIF_ComponentsConfiguration">0x01 0x02 0x03 0x00</MDI>
    <MDI key="EXIF_CustomRendered">0</MDI>
    <MDI key="EXIF_DateTime">2021:02:12 14:41:06</MDI>
    <MDI key="EXIF_DateTimeDigitized">2021:02:12 10:53:55</MDI>
    <MDI key="EXIF_DateTimeOriginal">2021:02:12 10:53:55</MDI>
    <MDI key="EXIF_ExifVersion">0231</MDI>
    <MDI key="EXIF_ExposureBiasValue">(0)</MDI>
    <MDI key="EXIF_ExposureMode">0</MDI>
    <MDI key="EXIF_ExposureProgram">2</MDI>
    <MDI key="EXIF_ExposureTime">(0.01)</MDI>
    <MDI key="EXIF_Flash">0</MDI>
    <MDI key="EXIF_FlashpixVersion">0100</MDI>
    <MDI key="EXIF_FNumber">(5)</MDI>
    <MDI key="EXIF_FocalLength">(18)</MDI>
    <MDI key="EXIF_FocalPlaneResolutionUnit">2</MDI>
    <MDI key="EXIF_FocalPlaneXResolution">(6825.94)</MDI>
    <MDI key="EXIF_FocalPlaneYResolution">(6825.94)</MDI>
    <MDI key="EXIF_GPSVersionID">0x02 0x03 0x00 0x00</MDI>
    <MDI key="EXIF_Interoperability_Index">R98</MDI>
    <MDI key="EXIF_Interoperability_Version">0x30 0x31 0x30 0x30</MDI>
    <MDI key="EXIF_ISOSpeedRatings">200</MDI>
    <MDI key="EXIF_LensModel">EF-S18-55mm f/4-5.6 IS STM</MDI>
    <MDI key="EXIF_LensSerialNumber">0000086cf9</MDI>
    <MDI key="EXIF_LensSpecification">(18) (55) (0) (0)</MDI>
    <MDI key="EXIF_Make">Canon</MDI>
    <MDI key="EXIF_MakerNote">4</MDI>
    <MDI key="EXIF_MeteringMode">5</MDI>
    <MDI key="EXIF_Model">Canon EOS 250D</MDI>
    <MDI key="EXIF_Orientation">1</MDI>
    <MDI key="EXIF_PixelXDimension">3628</MDI>
    <MDI key="EXIF_PixelYDimension">4924</MDI>
    <MDI key="EXIF_RecommendedExposureIndex">200</MDI>
    <MDI key="EXIF_ResolutionUnit">2</MDI>
    <MDI key="EXIF_SceneCaptureType">0</MDI>
    <MDI key="EXIF_SensitivityType">2</MDI>
    <MDI key="EXIF_ShutterSpeedValue">(6.625)</MDI>
    <MDI key="EXIF_Software">ACDSee Pro 8</MDI>
    <MDI key="EXIF_SubSecTime">505</MDI>
    <MDI key="EXIF_SubSecTime_Digitized">12</MDI>
    <MDI key="EXIF_SubSecTime_Original">12</MDI>
    <MDI key="EXIF_WhiteBalance">1</MDI>
    <MDI key="EXIF_XResolution">(72)</MDI>
    <MDI key="EXIF_YCbCrPositioning">1</MDI>
    <MDI key="EXIF_YResolution">(72)</MDI>
  </Metadata>
  <Metadata domain="IMAGE_STRUCTURE">
    <MDI key="INTERLEAVE">PIXEL</MDI>
  </Metadata>
</PAMDataset>
