<PAMDataset>
  <SRS dataAxisToSRSAxisMapping="2,1">GEOGCS["WGS 84",DATUM["WGS_1984",SPHEROID["WGS 84",6378137,298.257223563,AUTHORITY["EPSG","7030"]],AUTHORITY["EPSG","6326"]],PRIMEM["Greenwich",0,AUTHORITY["EPSG","8901"]],UNIT["degree",0.0174532925199433,AUTHORITY["EPSG","9122"]],AXIS["Latitude",NORTH],AXIS["Longitude",EAST],AUTHORITY["EPSG","4326"]]</SRS>
  <GeoTransform> -4.8072408592687630e+01,  1.1549665081645950e-04,  0.0000000000000000e+00, -2.4440129543896749e+01,  0.0000000000000000e+00, -1.1549665081645950e-04</GeoTransform>
  <Metadata>
    <MDI key="AREA_OR_POINT">Area</MDI>
    <MDI key="EXIF_ApertureValue">(6)</MDI>
    <MDI key="EXIF_Artist">Iconografico</MDI>
    <MDI key="EXIF_BodySerialNumber">DP41036087</MDI>
    <MDI key="EXIF_DateTime">2012:12:03 16:28:54</MDI>
    <MDI key="EXIF_DateTimeDigitized">2012:10:18 16:30:31</MDI>
    <MDI key="EXIF_DateTimeOriginal">2012:10:18 16:30:31</MDI>
    <MDI key="EXIF_ExifVersion">0230</MDI>
    <MDI key="EXIF_ExposureProgram">1</MDI>
    <MDI key="EXIF_ExposureTime">(0.008)</MDI>
    <MDI key="EXIF_Flash">0</MDI>
    <MDI key="EXIF_FNumber">(8)</MDI>
    <MDI key="EXIF_FocalLength">(80)</MDI>
    <MDI key="EXIF_FocalLengthIn35mmFilm">56</MDI>
    <MDI key="EXIF_FocalPlaneResolutionUnit">3</MDI>
    <MDI key="EXIF_FocalPlaneXResolution">(1666.67)</MDI>
    <MDI key="EXIF_FocalPlaneYResolution">(1666.67)</MDI>
    <MDI key="EXIF_ISOSpeedRatings">100</MDI>
    <MDI key="EXIF_LensModel">HC 80</MDI>
    <MDI key="EXIF_LightSource">1</MDI>
    <MDI key="EXIF_Make">Hasselblad</MDI>
    <MDI key="EXIF_MaxApertureValue">(3)</MDI>
    <MDI key="EXIF_MeteringMode">255</MDI>
    <MDI key="EXIF_Model">Hasselblad H4D-50MS - Hasselblad H4D</MDI>
    <MDI key="EXIF_ResolutionUnit">2</MDI>
    <MDI key="EXIF_SensingMethod">2</MDI>
    <MDI key="EXIF_ShutterSpeedValue">(6.96578)</MDI>
    <MDI key="EXIF_Software">Adobe Photoshop Lightroom 4.1 (Windows)</MDI>
    <MDI key="EXIF_SubjectDistance">(1.659)</MDI>
    <MDI key="EXIF_XResolution">(150)</MDI>
    <MDI key="EXIF_YResolution">(150)</MDI>
  </Metadata>
  <Metadata domain="IMAGE_STRUCTURE">
    <MDI key="INTERLEAVE">PIXEL</MDI>
  </Metadata>
</PAMDataset>
