<PAMDataset>
  <SRS dataAxisToSRSAxisMapping="2,1">GEOGCS["WGS 84",DATUM["WGS_1984",SPHEROID["WGS 84",6378137,298.257223563,AUTHORITY["EPSG","7030"]],AUTHORITY["EPSG","6326"]],PRIMEM["Greenwich",0,AUTHORITY["EPSG","8901"]],UNIT["degree",0.0174532925199433,AUTHORITY["EPSG","9122"]],AXIS["Latitude",NORTH],AXIS["Longitude",EAST],AUTHORITY["EPSG","4326"]]</SRS>
  <GeoTransform> -4.7296041660842810e+01,  1.3228141895414881e-04,  0.0000000000000000e+00, -2.2860176667111077e+01,  0.0000000000000000e+00, -1.3228141895414881e-04</GeoTransform>
  <Metadata>
    <MDI key="AREA_OR_POINT">Area</MDI>
    <MDI key="EXIF_ApertureValue">(7.16993)</MDI>
    <MDI key="EXIF_BodySerialNumber">IX86044043</MDI>
    <MDI key="EXIF_DateTime">2017:09:20 11:40:02</MDI>
    <MDI key="EXIF_DateTimeDigitized">2008:08:13 14:28:12</MDI>
    <MDI key="EXIF_DateTimeOriginal">2008:08:13 14:28:12</MDI>
    <MDI key="EXIF_ExifVersion">0230</MDI>
    <MDI key="EXIF_ExposureProgram">1</MDI>
    <MDI key="EXIF_ExposureTime">(0.125)</MDI>
    <MDI key="EXIF_Flash">0</MDI>
    <MDI key="EXIF_FNumber">(12)</MDI>
    <MDI key="EXIF_FocalLength">(50)</MDI>
    <MDI key="EXIF_FocalLengthIn35mmFilm">35</MDI>
    <MDI key="EXIF_FocalPlaneResolutionUnit">3</MDI>
    <MDI key="EXIF_FocalPlaneXResolution">(1470.59)</MDI>
    <MDI key="EXIF_FocalPlaneYResolution">(1470.59)</MDI>
    <MDI key="EXIF_ImageDescription">1-05299-0000-0000-01 001</MDI>
    <MDI key="EXIF_ISOSpeedRatings">200</MDI>
    <MDI key="EXIF_LensModel">HC 50</MDI>
    <MDI key="EXIF_LightSource">1</MDI>
    <MDI key="EXIF_Make">Hasselblad</MDI>
    <MDI key="EXIF_MaxApertureValue">(3)</MDI>
    <MDI key="EXIF_MeteringMode">3</MDI>
    <MDI key="EXIF_Model">Hasselblad CF-39MS - Hasselblad H Series</MDI>
    <MDI key="EXIF_ResolutionUnit">2</MDI>
    <MDI key="EXIF_SensingMethod">2</MDI>
    <MDI key="EXIF_ShutterSpeedValue">(3)</MDI>
    <MDI key="EXIF_Software">Adobe Photoshop Lightroom 4.4 (Macintosh)</MDI>
    <MDI key="EXIF_SubjectDistance">(1.054)</MDI>
    <MDI key="EXIF_XResolution">(300)</MDI>
    <MDI key="EXIF_YResolution">(300)</MDI>
  </Metadata>
  <Metadata domain="IMAGE_STRUCTURE">
    <MDI key="INTERLEAVE">PIXEL</MDI>
  </Metadata>
</PAMDataset>
