<PAMDataset>
  <SRS dataAxisToSRSAxisMapping="2,1">GEOGCS["WGS 84",DATUM["WGS_1984",SPHEROID["WGS 84",6378137,298.257223563,AUTHORITY["EPSG","7030"]],AUTHORITY["EPSG","6326"]],PRIMEM["Greenwich",0,AUTHORITY["EPSG","8901"]],UNIT["degree",0.0174532925199433,AUTHORITY["EPSG","9122"]],AXIS["Latitude",NORTH],AXIS["Longitude",EAST],AUTHORITY["EPSG","4326"]]</SRS>
  <GeoTransform> -7.3766393250785427e+01,  3.8500374789667714e-03,  0.0000000000000000e+00,  4.6894800474449262e+01,  0.0000000000000000e+00, -3.8500374789667714e-03</GeoTransform>
  <Metadata>
    <MDI key="AREA_OR_POINT">Area</MDI>
    <MDI key="Author">Félix Mathieu-Bégin</MDI>
    <MDI key="Created">2024-08-06T15:44:12</MDI>
    <MDI key="Creator">QGIS 3.22.13-BiaÅ‚owieÅ¼a</MDI>
    <MDI key="Producer">QGIS 3.22.13-BiaÅ‚owieÅ¼a</MDI>
  </Metadata>
  <Metadata domain="IMAGE_STRUCTURE">
    <MDI key="INTERLEAVE">PIXEL</MDI>
  </Metadata>
</PAMDataset>
