<PAMDataset>
  <SRS dataAxisToSRSAxisMapping="2,1">GEOGCS["WGS 84",DATUM["WGS_1984",SPHEROID["WGS 84",6378137,298.257223563,AUTHORITY["EPSG","7030"]],AUTHORITY["EPSG","6326"]],PRIMEM["Greenwich",0],UNIT["degree",0.0174532925199433,AUTHORITY["EPSG","9122"]],AXIS["Latitude",NORTH],AXIS["Longitude",EAST],AUTHORITY["EPSG","4326"]]</SRS>
  <GeoTransform>  1.3254216872129387e+01,  1.9883753973395154e-05,  0.0000000000000000e+00,  5.2555461718733632e+01,  0.0000000000000000e+00, -1.9883753973395154e-05</GeoTransform>
  <Metadata domain="IMAGE_STRUCTURE">
    <MDI key="INTERLEAVE">PIXEL</MDI>
  </Metadata>
  <Metadata>
    <MDI key="AREA_OR_POINT">Area</MDI>
    <MDI key="EXIF_BitsPerSample">8 8 8 8</MDI>
    <MDI key="EXIF_ColorSpace">65535</MDI>
    <MDI key="EXIF_Compression">1</MDI>
    <MDI key="EXIF_DateTime">2016:01:21 22:52:23</MDI>
    <MDI key="EXIF_Orientation">1</MDI>
    <MDI key="EXIF_PhotometricInterpretation">2</MDI>
    <MDI key="EXIF_PixelXDimension">10369</MDI>
    <MDI key="EXIF_PixelYDimension">7374</MDI>
    <MDI key="EXIF_PlanarConfiguration">1</MDI>
    <MDI key="EXIF_ResolutionUnit">2</MDI>
    <MDI key="EXIF_SamplesPerPixel">4</MDI>
    <MDI key="EXIF_Software">Adobe Photoshop CS5.1 Windows</MDI>
    <MDI key="EXIF_XResolution">(900)</MDI>
    <MDI key="EXIF_YResolution">(900)</MDI>
  </Metadata>
</PAMDataset>
