<PAMDataset>
  <SRS>GEOGCS[&quot;WGS 84&quot;,DATUM[&quot;WGS_1984&quot;,SPHEROID[&quot;WGS 84&quot;,6378137,298.257223563,AUTHORITY[&quot;EPSG&quot;,&quot;7030&quot;]],AUTHORITY[&quot;EPSG&quot;,&quot;6326&quot;]],PRIMEM[&quot;Greenwich&quot;,0],UNIT[&quot;degree&quot;,0.0174532925199433],AUTHORITY[&quot;EPSG&quot;,&quot;4326&quot;]]</SRS>
  <GeoTransform> -7.5200881847418756e+01,  2.3711660710268649e-05,  0.0000000000000000e+00,  3.9992985597248548e+01,  0.0000000000000000e+00, -2.3711660710268649e-05</GeoTransform>
  <Metadata domain="IMAGE_STRUCTURE">
    <MDI key="INTERLEAVE">PIXEL</MDI>
  </Metadata>
  <Metadata>
    <MDI key="AREA_OR_POINT">Area</MDI>
  </Metadata>
</PAMDataset>
