<PAMDataset>
  <SRS>GEOGCS["WGS 84",DATUM["WGS_1984",SPHEROID["WGS 84",6378137,298.257223563,AUTHORITY["EPSG","7030"]],AUTHORITY["EPSG","6326"]],PRIMEM["Greenwich",0],UNIT["degree",0.0174532925199433],AUTHORITY["EPSG","4326"]]</SRS>
  <GeoTransform> -1.1616747258004450e+00,  2.0100896054523424e-03,  0.0000000000000000e+00,  7.1910798840050120e+01,  0.0000000000000000e+00, -2.0100896054523424e-03</GeoTransform>
  <Metadata domain="IMAGE_STRUCTURE">
    <MDI key="INTERLEAVE">PIXEL</MDI>
  </Metadata>
  <Metadata>
    <MDI key="AREA_OR_POINT">Area</MDI>
    <MDI key="EXIF_DateTime">2014:01:31 13:38:19</MDI>
    <MDI key="EXIF_Make">i2S DigiBook Scanner</MDI>
    <MDI key="EXIF_Model">CopiBook</MDI>
    <MDI key="EXIF_Orientation">1</MDI>
    <MDI key="EXIF_Software">4.0.3</MDI>
  </Metadata>
</PAMDataset>
