<PAMDataset>
  <SRS>GEOGCS["WGS 84",DATUM["WGS_1984",SPHEROID["WGS 84",6378137,298.257223563,AUTHORITY["EPSG","7030"]],AUTHORITY["EPSG","6326"]],PRIMEM["Greenwich",0],UNIT["degree",0.0174532925199433],AUTHORITY["EPSG","4326"]]</SRS>
  <GeoTransform>  6.8029317646816693e+01,  9.1148094549590632e-03,  0.0000000000000000e+00,  2.4882306845650120e+01,  0.0000000000000000e+00, -9.1148094549590632e-03</GeoTransform>
  <Metadata domain="IMAGE_STRUCTURE">
    <MDI key="INTERLEAVE">PIXEL</MDI>
  </Metadata>
  <Metadata>
    <MDI key="AREA_OR_POINT">Area</MDI>
    <MDI key="date_create">2017-09-14T18:19:05+00:00</MDI>
    <MDI key="date_modify">2017-09-14T18:19:05+00:00</MDI>
  </Metadata>
</PAMDataset>
