<PAMDataset>
  <SRS>GEOGCS["WGS 84",DATUM["WGS_1984",SPHEROID["WGS 84",6378137,298.257223563,AUTHORITY["EPSG","7030"]],AUTHORITY["EPSG","6326"]],PRIMEM["Greenwich",0],UNIT["degree",0.0174532925199433],AUTHORITY["EPSG","4326"]]</SRS>
  <GeoTransform>  7.2132790308396181e+01,  1.4334916407627240e-06,  0.0000000000000000e+00,  2.3583872366892393e+01,  0.0000000000000000e+00, -1.4334916407627240e-06</GeoTransform>
  <Metadata domain="IMAGE_STRUCTURE">
    <MDI key="INTERLEAVE">PIXEL</MDI>
  </Metadata>
  <Metadata>
    <MDI key="AREA_OR_POINT">Area</MDI>
    <MDI key="EXIF_DateTime">2015:03:15 00:42:02</MDI>
    <MDI key="EXIF_JPEGInterchangeFormat">166</MDI>
    <MDI key="EXIF_JPEGInterchangeFormatLength">0</MDI>
    <MDI key="EXIF_LightSource">0</MDI>
    <MDI key="EXIF_MeteringMode">65535</MDI>
    <MDI key="EXIF_Orientation">1</MDI>
    <MDI key="EXIF_Software">Pixlr</MDI>
  </Metadata>
</PAMDataset>
