<PAMDataset>
  <SRS dataAxisToSRSAxisMapping="2,1">GEOGCS["WGS 84",DATUM["WGS_1984",SPHEROID["WGS 84",6378137,298.257223563,AUTHORITY["EPSG","7030"]],AUTHORITY["EPSG","6326"]],PRIMEM["Greenwich",0],UNIT["degree",0.0174532925199433,AUTHORITY["EPSG","9122"]],AXIS["Latitude",NORTH],AXIS["Longitude",EAST],AUTHORITY["EPSG","4326"]]</SRS>
  <GeoTransform>  2.2121254867581110e+00,  1.7481280622505253e-04,  0.0000000000000000e+00,  4.8912664081429419e+01,  0.0000000000000000e+00, -1.7481280622505253e-04</GeoTransform>
  <Metadata domain="IMAGE_STRUCTURE">
    <MDI key="INTERLEAVE">PIXEL</MDI>
  </Metadata>
  <Metadata>
    <MDI key="AREA_OR_POINT">Area</MDI>
    <MDI key="EXIF_Artist">Eric Gaba for Wikimedia Commons</MDI>
    <MDI key="EXIF_ColorSpace">1</MDI>
    <MDI key="EXIF_Copyright">CC Attribution-ShareAlike http://creativecommons.org/licenses/by-sa/3.0/</MDI>
    <MDI key="EXIF_DateTime">2015:02:22 17:41:02</MDI>
    <MDI key="EXIF_ImageDescription">Land cover map of the city and department of Paris, France, equirectangular projection, with data from www.iau-idf.fr</MDI>
    <MDI key="EXIF_Orientation">1</MDI>
    <MDI key="EXIF_PixelXDimension">1371</MDI>
    <MDI key="EXIF_PixelYDimension">893</MDI>
    <MDI key="EXIF_ResolutionUnit">2</MDI>
    <MDI key="EXIF_Software">Adobe Photoshop CS3 Macintosh</MDI>
    <MDI key="EXIF_XResolution">(89.9922)</MDI>
    <MDI key="EXIF_YResolution">(89.9922)</MDI>
  </Metadata>
</PAMDataset>
