<PAMDataset>
  <SRS>GEOGCS["WGS 84",DATUM["WGS_1984",SPHEROID["WGS 84",6378137,298.257223563,AUTHORITY["EPSG","7030"]],AUTHORITY["EPSG","6326"]],PRIMEM["Greenwich",0],UNIT["degree",0.0174532925199433],AUTHORITY["EPSG","4326"]]</SRS>
  <GeoTransform>  6.0730969144664463e+01,  7.8652649434703542e-03,  0.0000000000000000e+00,  3.2180374898299966e+01,  0.0000000000000000e+00, -7.8652649434703542e-03</GeoTransform>
  <Metadata domain="IMAGE_STRUCTURE">
    <MDI key="INTERLEAVE">PIXEL</MDI>
  </Metadata>
  <Metadata>
    <MDI key="AREA_OR_POINT">Area</MDI>
    <MDI key="EXIF_ColorSpace">1</MDI>
    <MDI key="EXIF_ComponentsConfiguration">0x1 0x2 0x3 00</MDI>
    <MDI key="EXIF_ExifVersion">0220</MDI>
    <MDI key="EXIF_FlashpixVersion">0100</MDI>
    <MDI key="EXIF_ImageDescription">LEAD Technologies Inc. V1.01</MDI>
    <MDI key="EXIF_PixelXDimension">1200</MDI>
    <MDI key="EXIF_PixelYDimension">995</MDI>
    <MDI key="EXIF_ReferenceBlackWhite">(0) (255) (128) (255) (128) (255)</MDI>
    <MDI key="EXIF_ResolutionUnit">2</MDI>
    <MDI key="EXIF_UserComment">LEAD Technologies Inc. V1.01</MDI>
    <MDI key="EXIF_XResolution">(96)</MDI>
    <MDI key="EXIF_YCbCrPositioning">2</MDI>
    <MDI key="EXIF_YResolution">(96)</MDI>
  </Metadata>
</PAMDataset>
