<PAMDataset>
  <SRS>GEOGCS["WGS 84",DATUM["WGS_1984",SPHEROID["WGS 84",6378137,298.257223563,AUTHORITY["EPSG","7030"]],AUTHORITY["EPSG","6326"]],PRIMEM["Greenwich",0],UNIT["degree",0.0174532925199433],AUTHORITY["EPSG","4326"]]</SRS>
  <GeoTransform>  8.3240237540507366e+01,  4.6364681339291288e-04,  0.0000000000000000e+00,  2.5889132011904813e+01,  0.0000000000000000e+00, -4.6364681339291288e-04</GeoTransform>
  <Metadata domain="IMAGE_STRUCTURE">
    <MDI key="INTERLEAVE">PIXEL</MDI>
  </Metadata>
  <Metadata>
    <MDI key="AREA_OR_POINT">Area</MDI>
    <MDI key="TIFFTAG_RESOLUTIONUNIT">2 (pixels/inch)</MDI>
    <MDI key="TIFFTAG_SOFTWARE">ScanFix(TM) Enhanced Oi/GFS, writer v00.06.02</MDI>
    <MDI key="TIFFTAG_XRESOLUTION">600</MDI>
    <MDI key="TIFFTAG_YRESOLUTION">600</MDI>
  </Metadata>
</PAMDataset>
