<PAMDataset>
  <SRS>GEOGCS["WGS 84",DATUM["WGS_1984",SPHEROID["WGS 84",6378137,298.257223563,AUTHORITY["EPSG","7030"]],AUTHORITY["EPSG","6326"]],PRIMEM["Greenwich",0],UNIT["degree",0.0174532925199433],AUTHORITY["EPSG","4326"]]</SRS>
  <GeoTransform>  3.7209140825360642e+01,  1.1580474229425076e-04,  0.0000000000000000e+00,  5.6063926203905083e+01,  0.0000000000000000e+00, -1.1580474229425076e-04</GeoTransform>
  <Metadata domain="IMAGE_STRUCTURE">
    <MDI key="INTERLEAVE">PIXEL</MDI>
  </Metadata>
  <Metadata>
    <MDI key="AREA_OR_POINT">Area</MDI>
    <MDI key="EXIF_ApertureValue">(4)</MDI>
    <MDI key="EXIF_CFAPattern">0x2 00 0x2 00 00 0x1 0x1 0x2</MDI>
    <MDI key="EXIF_ColorSpace">1</MDI>
    <MDI key="EXIF_Contrast">0</MDI>
    <MDI key="EXIF_CustomRendered">0</MDI>
    <MDI key="EXIF_DateTime">2014:02:04 08:55:44</MDI>
    <MDI key="EXIF_DateTimeDigitized">2014:01:29 23:33:16</MDI>
    <MDI key="EXIF_DateTimeOriginal">2014:01:29 23:33:16</MDI>
    <MDI key="EXIF_DigitalZoomRatio">(1)</MDI>
    <MDI key="EXIF_ExifVersion">0221</MDI>
    <MDI key="EXIF_ExposureBiasValue">(0.666667)</MDI>
    <MDI key="EXIF_ExposureMode">1</MDI>
    <MDI key="EXIF_ExposureProgram">1</MDI>
    <MDI key="EXIF_ExposureTime">(0.0333333)</MDI>
    <MDI key="EXIF_FileSource">0x3</MDI>
    <MDI key="EXIF_Flash">0</MDI>
    <MDI key="EXIF_FNumber">(4)</MDI>
    <MDI key="EXIF_FocalLength">(600)</MDI>
    <MDI key="EXIF_FocalLengthIn35mmFilm">600</MDI>
    <MDI key="EXIF_GainControl">2</MDI>
    <MDI key="EXIF_ISOSpeedRatings">16000</MDI>
    <MDI key="EXIF_LightSource">0</MDI>
    <MDI key="EXIF_Make">NIKON CORPORATION</MDI>
    <MDI key="EXIF_MaxApertureValue">(4)</MDI>
    <MDI key="EXIF_MeteringMode">5</MDI>
    <MDI key="EXIF_Model">NIKON D3S</MDI>
    <MDI key="EXIF_Orientation">1</MDI>
    <MDI key="EXIF_PixelXDimension">4256</MDI>
    <MDI key="EXIF_PixelYDimension">2832</MDI>
    <MDI key="EXIF_ResolutionUnit">2</MDI>
    <MDI key="EXIF_Saturation">0</MDI>
    <MDI key="EXIF_SceneCaptureType">0</MDI>
    <MDI key="EXIF_SceneType">0x1</MDI>
    <MDI key="EXIF_SensingMethod">2</MDI>
    <MDI key="EXIF_Sharpness">0</MDI>
    <MDI key="EXIF_ShutterSpeedValue">(4.90689)</MDI>
    <MDI key="EXIF_Software">Adobe Photoshop CS6 (Windows)</MDI>
    <MDI key="EXIF_SubjectDistanceRange">0</MDI>
    <MDI key="EXIF_SubSecTime">89</MDI>
    <MDI key="EXIF_SubSecTime_Digitized">89</MDI>
    <MDI key="EXIF_SubSecTime_Original">89</MDI>
    <MDI key="EXIF_WhiteBalance">0</MDI>
    <MDI key="EXIF_XResolution">(300)</MDI>
    <MDI key="EXIF_YResolution">(300)</MDI>
  </Metadata>
</PAMDataset>
