<PAMDataset>
  <SRS>GEOGCS["WGS 84",DATUM["WGS_1984",SPHEROID["WGS 84",6378137,298.257223563,AUTHORITY["EPSG","7030"]],AUTHORITY["EPSG","6326"]],PRIMEM["Greenwich",0],UNIT["degree",0.0174532925199433],AUTHORITY["EPSG","4326"]]</SRS>
  <GeoTransform>  3.7293771802616888e+01,  2.8818653392371344e-05,  0.0000000000000000e+00,  5.6230682491279545e+01,  0.0000000000000000e+00, -2.8818653392371344e-05</GeoTransform>
  <Metadata domain="IMAGE_STRUCTURE">
    <MDI key="INTERLEAVE">PIXEL</MDI>
  </Metadata>
  <Metadata>
    <MDI key="AREA_OR_POINT">Area</MDI>
    <MDI key="EXIF_BitsPerSample">8</MDI>
    <MDI key="EXIF_Compression">1</MDI>
    <MDI key="EXIF_PhotometricInterpretation">1</MDI>
    <MDI key="EXIF_ResolutionUnit">3</MDI>
    <MDI key="EXIF_RowsPerStrip">1</MDI>
    <MDI key="EXIF_SamplesPerPixel">1</MDI>
    <MDI key="EXIF_StripByteCounts">3808041846 1132238031 2827854764 3090457284 964570545 2647062717 3781901776 304792008 2178483520 674357951 1599696829 355666774 1980527885 506902199 2937514647 1969589666 1944016473 1533861743 798319904 1878677117 2256348035 3267396523 4150022294 1350951162 2960231360 2858107192 464626835 965906049 428764416 1918593801 921498224 3283148214 1292218531 561804184 3706093941 1886961309 3683660137 2956360847 91496228 579656889 3056745593 3885993728 388612999 2121399046 826412336 2407385970 2393049262 1201528017 2445400022 2614624416 1084700956 9400280 4024155721 43719566 1262008119 2040241078 505673358 1980787486 2069961579 4185350147 2140350305 657943763 4137572379 639057944 458155747 4193692371 2518628193 3689965339 820170611 477520601 750734606 403245627 2265785501 2463267864 3983966912 1789661147 3789074603 3812046789 4082636977 3945754635 1642331534 2563241717 3329088474 2120158012 29091320 297727928 1488704041 1457422739 3870872374 833556216 3635743442 1886301597 3319870932 503803096 2880049816 2290451796 4176468774 2437728099 2394814445 3134240276 2246781896 3077227592 1928863440 156371349 955577883 3006911100 3201023792 3398666782 3683769417 1868174365 1936394080 1157745540 955756855 1860552712 4003158967 3097547824 2965749183 2020256150 3625186230 1764246496 3637938009 3089720433 349085152 1987177894 1877817388 2937273692 3626121598 1480591421 482738955 3313310544 1175444473 2052856649 2659706977 3873537005 1843113579 3877245134 63167091 545795405 3666240403 170680406 3816189568 4046594319 3354720205 457505051 3789615763 101492440 2012757718 3689509207 3171013660 3450993849 3346430823 66552349 3220771035 3907375697 2041104963 3110222903 2188695129 3575192105 4048388056 161432843 2418440674 2976729259 3362763197 1833648481 3312263518 3709453305 2087007251 3960343903 1304876614 696878806 1141284874 2364534054 1521295607 3874314905 1905411596 3502535846 657082450 1821136040 885453584 2335346524 631082288 2268036621 3301454442 1394829727 2335762959 1128335082 2503316004 3336104980 2530393139 2857425549 4261711809 3619343768 1597448105 620534022 3175968771 2807714929 3482722882 2415984497 969830171 3530184088 18540940 506818166 636542402 2515890710 2048150825 1931205628 287792013 1648808146 2122405889 880229599 502192078 3739529297 3722881496 2290881605 1230642578 4169563437 1386843002 2191165509 619117826 3304523536 134283207 587815657 78221553 1677395946 2169170460 1448111918 71617705 1430888280 221032736 15359157 1541706204 2289594112 3188245143 3390468617 3756858299 1290904587 324936832 890219306 115060621 3821873861 3060582579 1442868282 159159067 148738130 1806421083 3078857836 2020720808 2431814700 1257773908 4285251439 644983808 3724611462 1438011696 2914471975 2872248454 2355495739 206659467 624033032 3033924357 613766202 4184570733 1532764030 1014888609 415682932 871728582 2797058325 3527130414 2318156779 91248991 4234034889 2487696737 1218998716 198923004 3380754558 4090030706 1118105122 30058187 4033018847 2442004018 3260969700 2773971450 2620648393 3259397329 4042575640 4140160734 2393279106 676007711 1781624347 1242538403 3139788096 1342299905 1460491591 1321655172 4209113824 2735315660 1133648503 197539837 4087683057 1515035153 1369907401 1039157925 1187377901 483240612 2794365298 2124314847 4117790043 709562140 1597318791 414693867 2571400544 305941317 3752440568 3756729183 796023932 1407430027 2436911557 2219711755 3172808466 2060283185 604057546 3581269642 2322554470 3371317700 3588381126 1522831467 979565507 1503279531 2216135044 994113988 291274513 1668689181 63361614 665208456 449097919 3914501098 3663958971 1359865823 3702344611 2989975216 3213695883 38020318 2499822951 3199231510 78404600 2830370858 4270517230 3323089267 2896018805 4156442810 1639349957 610380294 169954226 524387008 3881238107 188052753 2706718867 2933466377 4214681662 1826683870 840119987 430125637 1884462350 1493056919 2038068246 214577242 3249875355 1627021787 784097801 2990872715 1610322666 2447765917 1917278119 774635978 2115944556 1152468120 891405417 1419783730 1827384082 4232913939 1582317628 3797832647 2797055997 169472477 3822676632 3506814982 2094559723 4291345072 1192598528 439848070 2145347309 833979637 726236073 1252381575 3774462863 322779754 620678936 1883447831 448187207 841302682 3494398024 1222992768 2977721315 1164321987 1802750234 4176467614 3302233057 1135510886 788086634 3888315143 172763793 1232111313 3753394642 1426118615 1262291941 303587204 4158496828 4051335896 2117757824 1776391590 3647367331 3708710485 3199266735 2141447971 1881215669 19979784 2128371227 1379578109 139939668 2754254096 2937928727 2537653899 3478177104 718443161 3828222713 868415482 289394316 376007081 11030836 4294867167 3175439360 839722410 3250216937 963570330 2853762587 3482370263 3666245930 2641336199 3910187262 3772392753 3627339817 947799918 3727486008 722784616 3091803824 3680749502 1225556965 3645102666 2119177808 483906551 1670456305 3453268241 4213598587 1988943863 2736943009 4146208826 2985741661 3577390623 2528436486 2136699985 4277918288 881413944 2237713292 244323436 4033736097 1213551595 29945920 1877528494 16760161 4101358454 1428178834 555110543 1545580951 2592743476 1770734114 1445041846 1921509831 2954119633 759790501 1144259131 441410262 1504215663 2311638115 1239949448 3696722434 3000113406 2183695973 3721958272 4127264408 3088974079 3305913048 33720328 4022186385 2986160110 1226985640 3643052328 1324271749 1523297566 2423612217 3842461568 852638670 3394512719 555887413 394006272 3041677215 2867416757 570830400 3362427497 363618852 1987381953 792945402 977971108 3417998136 651661330 1410097148 575861350 1034622146 4175095022 376687509 1731626224 4245471352 2917278158 2821887912 4084589896 2750437504 583763429 1768674643 4145265525 2430103119 2811983238 671193395 4070248158 4242891643 2305163512 2428220188 3211625540 3485484140 588316 3115129393 1677515696 1418673325 4035376815 1377469776 2105375715 841161855 1251853971 3394099506 1474476941 3017525157 2889004796 1649788763 4206368375 885391615 1176799359 135296437 1129130986 4173308226 1266647002 803239778 3557478215 965564902 4045548577 3638984263 2533026768 2378537594 124843012 1118148913 3339633834 2578712019 4081866630 3832865452 1635466130 2885746572 2647536234 1391768597 3102299220 478146136 1527832418 2924276278 1236060732 1661048602 1279233403 1842963776 709514542 1125263659 1360646944 4103560829 1960127414 869084043 4102923721 3821039035 323688332 4275057690 926265870 2517580855 2815141660 3428045500 2538551910 4061895510 841187631 1120714684 1238133784 4169399000 2207529214 3324535877 1841631831 1034469446 4177458415 3392966290 2555622304 1463438823 2231483201 2459562796 842377786 3055823520 3068512198 74677752 3931718794 688146210 3620189779 2262417648 709298809 3876157391 202103026 1391401317 2216285383 547964304 1428043346 4126635611 977601988 3360997450 119912260 238790912 282452987 1919178056 2173514084 1945947829 2496426216 3947665549 3945955920 2731685860 3069639900 1756354054 4285011668 518060032 2170650475 2443597859 1211286683 1988165764 98817575 1125131337 1819557199 3261018754 2443121676 1822093493 338371793 2426940680 3084892655 2644108091 1196708890 3436266230 3226661639 4201771868 55251808 1986398363 2974854285 1067223843 3163628617 1198860962 488671613 2975861691 1518873673 1898054983 3923458981 3508686570 2731062092 1901848127 3757478013 853041661 2499249860 2733629235 3502225883 3375496945 1495288139 3953848931 1672809810 3500821161 3044166802 2143291062 1298940146 1787398064 2819670617 3110412708 536312763 2493647343 2666109393 3416772400 2063334350 3641171555 258161710 1996713612 2406546932 2825248737 961964442 2891258464 3705557879 2819208923 609881339 3236732298 155282921 2138968576 1364133196 1238740042 68273947 225469244 4011849399 982231045 4063738535 13107843 4287472596 1144597504 2729701620 3427141794 3060091386 476052219 2392952183 2376235108 1706318657 1918574484 1230320432 1777041433 1642025224 3346520179 2719111527 3376106032 1539596401 1463170940 3844680252 4061648754 3204328975 163972059 70868625 174164110 4116175121 1797583100 3393947928 1788562668 2069826427 4049681534 1012281628 2698070192 2825121611 3689789687 2255099405 1284105041 2804444557 3988305357 3792530623 3178207997 3271731226 2671714127 2594261272 5569705 2873786923 3212208987 1133505471 105980957 4151428688 1031164604 233029630 1965665602 98449566 560570465 4294375233 1780619264 127317848 3669157417 4277585634 2832540120 2722806498 3087492691 197391861 1470462293 1714881680 1871673816 1641299094 2258955148 1533039619 4034756044 2546146185 3381950659 3889081764 1397886935 1193421893 1437485126 2959746248 1661409200 2896759758 357261674 1080599562 3700481326 1836127226 2963506671 2779155063 726669100 2979232625 353583928 1881236028 3436682624 4257621718 2174794224 1251231330 1087646032 3738849558 1513969144 2391855699 61740449 249291645 1785821395 1239643050 3924759664 3681385067 3977142748 1043940396 3305846280 1876668110 2879637449 3342877017 2547626435 795008891 1754667710 1480995302 1800049195 4286914480 700544768 3273346018 1982663713 2054906123 2506446974 3593962052 1318946465 3182779355 695787579 2465755596 1712544985 911678220 2080440245 3870457953 2564040053 4075170785 16743903 2457230463 1707366285 717168341 3756890915 741559423 1594422156 3012267110 2339063662 1780511229 764831582 174082658 1994438376 506986751 551708762 2721513012 2478199552 829914351 35511941 783435360 101513998 1428714370 4249952499 2266896215 2144622094 94795025 3406846979 117950699 1084585754 2490502345 2153275959 2526001997 3330779163 1215888255 2609963154 47978117 537841487 4041447514 1237552841 4143903334 569120195 4047912146 466539016 3753408354 2087880679 2368580554 2660906654 575119424 3979874396 1533180523 625646127 2519306510 3287071315 1945886305 446087553 2865138344 1045029662 3820483942 1424032133 833146683 3705102066 2568490654 3779825765 3541470630 3907124648 811718729 305711954 110951118 3217589024 3580066427 3661568798 3643375398 1341021539 265542431 3662203718 1752502517 1994709681 2182981303 2781598648 3186756835 2612425153 3468017517 576362763 2238267946 1856605052 4229888269 2858752480 609739913 350327319 4218229212 1235911904 1393781064 1894885379 1894439725 2522401986 2945799524 2373706748 1277049080 3367224253 1145080900 2122423218 3371443312 3497528050 540972664 4078913580 1718100588 3037717637 1867878458 1937444706 3759795072 3528200104 906612840 780541873 1167727453 3490866587 126957492 4160249228 2500980543 1500200499 3862182949 1316951145 1527666136 841762098 1020437656 1402379249 3817593801 3528675985 1778034884 3142921382 266845791 3782891034 2669282216 4043579699 1820315505 890068787 1898733910 2407682506 3818840121 2313288830 1380469287 1457884436 1872493530 1401941999 140391526 2984693064 2146388562 2791670255 1971941429 459030648 2105273901 288670006 32366381 3279104824 3961026075 1321800117 714647284 1160386012 1551830680 3864014853 1268823619 394576421 713551350 2576007428 3559764332 2000413971 3184288000 4267997308 1887539304 2831141662 585753082 3442750569 39900953 16725750 1419316108 614305149 2783692898 3307943752 3237130117 2846019508 2426611730 3403625739 4268873915 1331025136 2609718870 3394941642 3924422582 2469066950 220651262 1387701515 2080050660 2014299039 1772708671 2350451626 1843112292 2086346999 1676319089 1016129413 1820637740 1602097240 3986622854 1277442834 1696279190 2968219109 3490973630 1364894549 2861671954 2193749986 592112811 3467243860 2272101348 1894542706 4116598397 717963281 1989909640 4268448544 2526679079 13128729 3263966746 3687030756 2290420926 3851366820 1356528534 4239979291 975442246 896423401 662131318 890035067 3788435724 92869157 4189136009 146162447 1630422106 1566139753 678385473 2792313183 2372498210 3977013589 2951024608 3189749559 2804753368 207559127 3790276265 3562780085 2098192247 2831995552 756861393 3116463025 4029118180 3740328130 1001753956 579728559 3067864055 2739414052 2534467411 1650447383 1810315063 2818950910 1148798377 2556276297 482293524 3833654111 1727769257 1343072150 48976407 2406608375 2728045573 2162279922 3771111476 2872347898 756959509 221665851 3690577254 3451049478 438914471 459936812 3740563342 1209665240 1566200550 974529298 2047120660 4099588448 1344620465 1308221259 1532998011 1286234619 2828667594 1150625046 805371808 4024409688 2825311746 3035682022 1365581676 1868716979 2030494172 2160040090 46353749 1452867262 3856215903 342841413 537390242 3066560767 3130698761 2902757186 2152124945 4131215070 1067714998 1266239078 2292654667 332966129 3554396414 2713895430 198526588 2833372053 3555151386 2515060748 3610626824 488341837 402718646 2908943852 4175385185 29398415 2828215497 2013331447 2904361230 114231836 4268647660 1748307683 2878030985 251660997 2176859679 78375552 2551195336 2764671860 118978830 2710183094 281149994 1114555836 3749180847 2034977548 2999228440 1362712048 4194158262 1454088903 1077779621 168133449 4180631779 2089182067 3663276849 2853873 383172141 237341167 714348754 109053069 4231463114 489815297 271625552 292102337 3057557711 331462659 956651333 3595722121 3687286354 892558495 3577257513 3716018879 1846400554 2515517687 1652624589 1487193236 412589851 2740431248 1486231173 453760201 3820374418 2924542110 4114137646 1317876012 3678805404 1980291962 3807422636 2971833584 1000482363 2554232559 1855256947 2321998429 4226446817 4082041087 1385308295 2301023773 930068569 1891450222 3083483852 2915571846 3669500791 3690704890 1502486798 3828931316 2396884145 4067654599 1393919519 1593494596 1743357130 1550803313 2749690485 1955704968 2606553507 2162933727 341085099 2401914994 123880241 1895754023 132442777 3376861676 2087519523 3183300601 1567979710 393617770 900615563 4043141976 4117086252 1167207957 936662950 3640001591 2610553851 1087501484 3044160689 2070808502 3407597203 3165357344 2686510137 3444453072 3772026747 2910939833 2199982419 607561525 3870864877 18259679 1453186701 1254146090 1292175834 3203265673 2622836285 3116434056 4005148929 1901983750 1667158087 2685052948 2056804657 2080440315 2758937978 573752611 3084283019 2549112095 1738973842 426268372 2435034314 1969633463 1011584926 2496566593 4184149433 1813565311 2091699284 3081553970 1035012104 3689623022 1634311710 1183066195 3344591789 3992770641 2383693189 2174315351 1565072349 3803200957 2596976070 2780845201 2871767396 734261463 3324686152 2181090437 2125232458 2819264095 3446932683 138724257 186338149 3774431488 2050648714 2738509511 459282013 2127547852 255590655 81358629 1560541876 385264372 4073699309 1726288835 2339022874 3139404907 1168045087 2908194029 2920451922 2689676994 1008203310 3635984731 3282189458 3024893852 1771710030 1119950493 2341198880 3791258011 1364439061 1226858899 3950900495 2571782880 3434918616 115888054 3685839307 2854364854 557159054 3457045206 536247274 3473074048 2565196957 1334700115 454820095 3417357809 857746517 994754634 4157506829 98015039 47592068 2248820926 4149633558 3933338868 3956910698 2361676632 2899948169 4184862208 1514213985 2527165874 3243105764 4071431478 1768536001 189936069 1859150969 3976265668 472931951 760238720 3056750900 248670891 2252172979 576462359 191116678 2388197411 116394980 2586851288 2183241114 2132370749 2146074610 4160960711 877477141 2511938430 2259533464 365854127 3205189926 1720326791 4092577004 444234935 2524551802 194255399 3698175517 1895690991 2659602757 1768296047 2748437021 1182709507 389646047 1141460619 1432396558 1676524982 1359725044 2184557993 3742803089 4169390203 172074337 2419241764 3661742382 3638485730 3937097051 932267155 1353798877 482323783 4170236711 2753138282 1490350265 4033720207 2888936326 1976284244 2931871366 3468543904 2386568465 1971588969 607181965 230924127 3528251347 1764496633 1838363315 2954745734 892149245 1206062964 3604256225 2181559846 2230574135 2446642260 2235606470 2875862040 4176326647 655250913 2848224413 1954615315 3675460626 815205343 1082349076 2422808677 2363181531 834642732 739304005 1980668864 3306319039 1387287701 1171942554 951001039 1452943377 1146396309 2601373789 168429166 605467316 1656779193 4084067885 3326741987 877231218 1641522886 431386092 2452145355 2365591689 2139615333 304361836 7503209 2138632027 136771750 3293819930 4134147275 2833039574 230583579 566768332 575822979 1209703866 4011587323 1329032391 3395670870 114837526 2529640452 1249656607 1590592778 1417862549 2538119366 4092558271 1455838659 3868464175 2072902881 4071480666 3190912451 2076918452 112613870 3160439548 1615242656 1514591409 1443181872 4223009712 4103595490 3579331042 2163403200 3270831542 3416631268 662282842 2708460549 536294977 2255825550 3845763738 3146040453 2960872240 2179325718 1653255334 1296638759 3605420693 109977589 1194716571 2582648395 1857361995 3688616899 601002513 2386834108 2481174050 4056119408 190661570 2962754859 149857726 1438905819 1464402738 1428177210 1834307873 3673685166 679010556 2469402218 1301990084 2958245513 2928607487 2518585110 1061436306 2915503606 4051050182 1201210646 3610965640 464396273 2695482282 710232468 3407228436 4181666422 517994271 2290788502 2171243747 3702948486 315342829 2508304898 3380088981 4242911085 2848126479 2487104037 3054461321 2608590742 1433100667 3007522093 3240903386 3069671313 463380443 1346996905 1991289523 53535021 2931802465 315307026 1571875106 2817154560 4068879846 1332303354 350939786 1837836843 3479146460 1514578703 3775751845 4010523370 1247855726 3268777383 3062745672 2401968038 675876811 2407798573 812329120 3680492726 2788811005 169539827 2277276619 3058778482 3254119900 293570952 455441617 1854094085 3354651501 2252487510 3089504793 4291076650 945602304 852042229 641183893 3756607434 3134261768 195578163 3773224584 2250210843 860834582 710796597 190540052 2787113850 2711263770 1385599267 3105123978 129102592 2964714379 2977909434 758502724 56177634 1301256237 4008738238 2960712041 540095396 106469209 2354838470 4136320779 194219127 793451451 3975958021 845480454 2831946244 320193932 3253920662 3156010280 1325973543 3071137694 3450150424 2740226909 3119166585 1035866066 845058407 3121127914 1042854787 2743959224 346981210 2602181192 3181231689 2250209149 2464311839 3835188027 2847129714 1986732019 2671076288 1410504172 4232026789 3482142051 1142472547 868027078 3491810250 4277066498 1772376088 1897699647 1615412167 4223888544 44599904 611620392 3389462236 4224641325 3163313760 1985243049 3677659747 4169027439 4079469944 3331331915 1058380667 3781003057 2809702572 2489105048 3753433429 1763558271 847325270 2217680052 3986439805 4162312410 474841519 2199503984 917561857 1073158698 1628256670 312959633 1824077383 2907167553 1265430471 2505003341 1764246197 2437874529 4219317564 3540950267 2857322324 3305919796 1482173342 1476513521 2825234078 1463838110 3601018496 696603615 2949739095 3546914956 1880632344 285327993 4186157355 2454089903 249870080 1167751435 2725798537 2169171064 3774433394 1593408122 458739628 1511118468 3074976827 1769474255 3542352819 1423107455 3416772591 1694944159 3211381300 151572728 3866628657 1912528839 37031139 607806793 385950129 3241765920 3332174676 759693871 2593280284 4252190830 2171468279 3776209770 2373683080 4203420516 2297462256 2723763618 3568782337 1933265319 4101545595 2527584706 90650282 2073539957 3536023059 2023894520 1772360035 1409401192 1324407696 3733816833 3933357058 728148339 4257390270 3532990094 383012872 222860033 3555167960 2330351644 2727748905 2899858729 2379025761 2434057143 2534656851 1627881613 4087054058 3045723271 2007458666 1628287112 4275964000 3510429144 2232734932 1571898770 1943768613 342232539 3948138610 4215374906 3338503897 1033020186 3402836562 3337762384 3055388320 2177149367 614370986 576022925 3242583814 3203765219 2367288792 622643957 2174013245 2978871931 1750755048 1322544550 2378531658 1043624189 39190805 32409674 3401548651 1818058232 575165996 2725995593 2602284717 29769090 2998046120 599839634 3140893710 4132397590 1456541659 1654149588 927367573 745467680 1502208783 1880998258 658417067 369166740 1198432220 369017080 3197401412 1360742427 2166692670 3201996830 3839934745 2284873589 1795985595 1057522283 3396477062 3327980040 4037454517 690250978 1934299108 1470008163 2490534301 2454099854 3218415669 3803144700 3373397269 2173808742 529050880 2487513264 2897331940 3149510213 1895630058 1169480151 1533396732 3677757829 1289943269 3155285312 1087834 2544987457 693409525 1646349098 4114231762 3476901979 2776905903 1397396137 941254913 594232302 3632197995 1282897075 617913421 108656142 3044386738 901701622 972592910 424361297 1878528289 3309736308 3720590925 4073582685 2568394986 2827047982 616971634 3082730674 3585265188 592413863 2984811567 1836900135 1851070900 2165821802 918134978 3951291901 1649235386 30131924 2302765659 2778835574 302983820 3683760994 890060050 1487657292 1870696426 78497464 1199445898 2765643883 2193852605 1221853644 2208008903 1808904637 3816493467 665907140 3148167870 26208625 1948056232 4025420584 3287073465 768078467 3354585955 3821408949 1645448801 3742797679 1489498979 3748469482 2170319004 3279839585 225240074 508246215 923589599 2177229210 4254600640 2803662230 3858259968 2679296073 3460962464 4169371683 2367337952 2016149759 770608523 755994351 1827477448 3796302454 2009330915 1597767011 3220026634 2841656766 3824746206 348059486 2155709348 1036819399 2296213614 2128837995 4179468656 2398346206 485171001 4291718615 3232836864 3745200086 385902876 3006307547 287319433 1646110391 2931754752 1817731611 3038633792 2700107262 948866363 4220443618 626534428 3049718252 4225489500 2928097889 2578494919 2003853577 3844981749 2120999686 3349944632 2519757409 1846555301 3487632191 476663813 3005464301 2376573978 1859683468 3074082105 3300361787 1183812488 1039508792 2510332480 471355849 1463698958 3258758095 3974080703 1201595978 1869704627 4241363803 3459017442 2756061851 660341161 2375399389 2501237691 1707778764 2822872491 575511208 3070756139 1044197046 1081746456 671425037 3304411511 2929292718 2019574341 3424830111 3748388809 3847528217 748517652 2972473739 2289509441 2129590206 1499933791 1295920557 3389769619 3378134438 217799820 786144320 2376639913 756027339 2096432593 582411151 1814742666 2459499828 2785083141 2974150364 2925651656 1797521447 1332654764 2650865616 4031573496 23663171 2304792337 4161731179 2041765461 681853451 299931066 994999675 2492852282 2690650690 1293788362 189966216 3526113453 3625509230 1036481281 243214512 3516535353 928130025 3302456931 3162757508 2234819920 1495215253 3754188465 2934671388 1882400865 3689284161 2999186523 1452905939 2476904502 3205915561 1225641903 2154118202 1472581717 2130437206 2298844799 3445136076 2921414829 2130396524 513896056 4160910165 2516764273 2918976331 1012123012 2577730376 3250393196 2858441583 340194665 2346512351 3249656701 3297797145 2331511325 1923322020 3268926070 891670846 151399258 1668731168 414650224 1393199770 1012716364 597262245 4236978715 939589625 1686471050 1628874286 1835237879 3744921398 1147344062 2051835320 4068674350 16774329 3847375756 731407052 3520961452 2896020045 4160008199 2642252739 2107283178 909021298 4050612515 2350309355 2278003610 2367474320 3697067222 1977996131 2744821082 2882486339 1875635275 2744305