<PAMDataset>
  <SRS>GEOGCS["WGS 84",DATUM["WGS_1984",SPHEROID["WGS 84",6378137,298.257223563,AUTHORITY["EPSG","7030"]],AUTHORITY["EPSG","6326"]],PRIMEM["Greenwich",0],UNIT["degree",0.0174532925199433],AUTHORITY["EPSG","4326"]]</SRS>
  <GeoTransform>  9.2119444732155998e+01,  9.8333845335538492e-03,  0.0000000000000000e+00,  7.9930825254122002e+00,  0.0000000000000000e+00, -9.8333845335538492e-03</GeoTransform>
  <Metadata domain="IMAGE_STRUCTURE">
    <MDI key="INTERLEAVE">PIXEL</MDI>
  </Metadata>
  <Metadata>
    <MDI key="AREA_OR_POINT">Area</MDI>
    <MDI key="EXIF_ColorSpace">65535</MDI>
    <MDI key="EXIF_Copyright">Copyright (C) reserved</MDI>
    <MDI key="EXIF_DateTime">2009:06:09 19:34:38</MDI>
    <MDI key="EXIF_Make">Cruse Scanner</MDI>
    <MDI key="EXIF_Orientation">1</MDI>
    <MDI key="EXIF_PixelXDimension">5123</MDI>
    <MDI key="EXIF_PixelYDimension">2170</MDI>
    <MDI key="EXIF_ResolutionUnit">2</MDI>
    <MDI key="EXIF_Software">Adobe Photoshop CS Windows</MDI>
    <MDI key="EXIF_XResolution">(150)</MDI>
    <MDI key="EXIF_YResolution">(150)</MDI>
  </Metadata>
</PAMDataset>
