<PAMDataset>
  <SRS>GEOGCS["WGS 84",DATUM["WGS_1984",SPHEROID["WGS 84",6378137,298.257223563,AUTHORITY["EPSG","7030"]],AUTHORITY["EPSG","6326"]],PRIMEM["Greenwich",0],UNIT["degree",0.0174532925199433],AUTHORITY["EPSG","4326"]]</SRS>
  <GeoTransform>  3.7636937311424838e+01,  4.7230091635586180e-06,  0.0000000000000000e+00,  5.5705277995844824e+01,  0.0000000000000000e+00, -4.7230091635586180e-06</GeoTransform>
  <Metadata domain="IMAGE_STRUCTURE">
    <MDI key="INTERLEAVE">PIXEL</MDI>
  </Metadata>
  <Metadata>
    <MDI key="AREA_OR_POINT">Area</MDI>
    <MDI key="EXIF_ColorSpace">1</MDI>
    <MDI key="EXIF_ComponentsConfiguration">0x1 0x2 0x3 00</MDI>
    <MDI key="EXIF_CompressedBitsPerPixel">(8)</MDI>
    <MDI key="EXIF_Contrast">0</MDI>
    <MDI key="EXIF_CustomRendered">0</MDI>
    <MDI key="EXIF_DateTime">2011:09:02 21:44:13</MDI>
    <MDI key="EXIF_DateTimeDigitized">2011:09:03 00:17:01</MDI>
    <MDI key="EXIF_DateTimeOriginal">2011:09:03 00:17:01</MDI>
    <MDI key="EXIF_ExifVersion">0221</MDI>
    <MDI key="EXIF_ExposureBiasValue">(-0.7)</MDI>
    <MDI key="EXIF_ExposureMode">1</MDI>
    <MDI key="EXIF_ExposureProgram">2</MDI>
    <MDI key="EXIF_ExposureTime">(0.02)</MDI>
    <MDI key="EXIF_FileSource">0x3</MDI>
    <MDI key="EXIF_Flash">16</MDI>
    <MDI key="EXIF_FlashpixVersion">0100</MDI>
    <MDI key="EXIF_FNumber">(3.5)</MDI>
    <MDI key="EXIF_FocalLength">(25.7)</MDI>
    <MDI key="EXIF_Interoperability_Index">R98</MDI>
    <MDI key="EXIF_Interoperability_Version">0x30 0x31 0x30 0x30</MDI>
    <MDI key="EXIF_ISOSpeedRatings">400</MDI>
    <MDI key="EXIF_LightSource">0</MDI>
    <MDI key="EXIF_Make">SONY</MDI>
    <MDI key="EXIF_MaxApertureValue">(2.9375)</MDI>
    <MDI key="EXIF_MeteringMode">5</MDI>
    <MDI key="EXIF_Model">DSC-R1</MDI>
    <MDI key="EXIF_Orientation">1</MDI>
    <MDI key="EXIF_PixelXDimension">1853</MDI>
    <MDI key="EXIF_PixelYDimension">2731</MDI>
    <MDI key="EXIF_ResolutionUnit">2</MDI>
    <MDI key="EXIF_Saturation">0</MDI>
    <MDI key="EXIF_SceneCaptureType">0</MDI>
    <MDI key="EXIF_SceneType">0x1</MDI>
    <MDI key="EXIF_Sharpness">0</MDI>
    <MDI key="EXIF_Software">Adobe Photoshop Elements 3.0 Windows</MDI>
    <MDI key="EXIF_WhiteBalance">0</MDI>
    <MDI key="EXIF_XResolution">(72)</MDI>
    <MDI key="EXIF_YCbCrPositioning">2</MDI>
    <MDI key="EXIF_YResolution">(72)</MDI>
  </Metadata>
</PAMDataset>
