<PAMDataset>
  <SRS>GEOGCS["WGS 84",DATUM["WGS_1984",SPHEROID["WGS 84",6378137,298.257223563,AUTHORITY["EPSG","7030"]],AUTHORITY["EPSG","6326"]],PRIMEM["Greenwich",0],UNIT["degree",0.0174532925199433],AUTHORITY["EPSG","4326"]]</SRS>
  <GeoTransform>  1.8899825515018261e+01,  7.5141026981490697e-03,  0.0000000000000000e+00,  5.5133610011558311e+01,  0.0000000000000000e+00, -7.5141026981490697e-03</GeoTransform>
  <Metadata domain="IMAGE_STRUCTURE">
    <MDI key="INTERLEAVE">PIXEL</MDI>
  </Metadata>
  <Metadata>
    <MDI key="AREA_OR_POINT">Area</MDI>
    <MDI key="EXIF_ApertureValue">(0)</MDI>
    <MDI key="EXIF_Artist">1996-2004 AccuSoft Co., All rights reserved</MDI>
    <MDI key="EXIF_BitsPerSample">8 8 8</MDI>
    <MDI key="EXIF_BrightnessValue">(0)</MDI>
    <MDI key="EXIF_ColorSpace">65535</MDI>
    <MDI key="EXIF_CompressedBitsPerPixel">(0)</MDI>
    <MDI key="EXIF_DateTime">2018:02:08 05:05:41</MDI>
    <MDI key="EXIF_ExifVersion">0210</MDI>
    <MDI key="EXIF_ExposureBiasValue">(0)</MDI>
    <MDI key="EXIF_ExposureIndex">(0)</MDI>
    <MDI key="EXIF_ExposureProgram">0</MDI>
    <MDI key="EXIF_ExposureTime">(0)</MDI>
    <MDI key="EXIF_FileSource">0</MDI>
    <MDI key="EXIF_Flash">0</MDI>
    <MDI key="EXIF_FNumber">(0)</MDI>
    <MDI key="EXIF_FocalLength">(0)</MDI>
    <MDI key="EXIF_FocalPlaneResolutionUnit">0</MDI>
    <MDI key="EXIF_FocalPlaneXResolution">(0)</MDI>
    <MDI key="EXIF_FocalPlaneYResolution">(0)</MDI>
    <MDI key="EXIF_ISOSpeedRatings">0 0</MDI>
    <MDI key="EXIF_LightSource">0</MDI>
    <MDI key="EXIF_MaxApertureValue">(0)</MDI>
    <MDI key="EXIF_MeteringMode">0</MDI>
    <MDI key="EXIF_Orientation">1</MDI>
    <MDI key="EXIF_PhotometricInterpretation">2</MDI>
    <MDI key="EXIF_PixelXDimension">3000</MDI>
    <MDI key="EXIF_PixelYDimension">1984</MDI>
    <MDI key="EXIF_PrimaryChromaticities">(0) (0) (0) (0) (0) (0)</MDI>
    <MDI key="EXIF_ReferenceBlackWhite">(0) (0) (0) (0) (0) (0)</MDI>
    <MDI key="EXIF_ResolutionUnit">2</MDI>
    <MDI key="EXIF_SamplesPerPixel">3</MDI>
    <MDI key="EXIF_SceneType">0</MDI>
    <MDI key="EXIF_SensingMethod">0</MDI>
    <MDI key="EXIF_ShutterSpeedValue">(0)</MDI>
    <MDI key="EXIF_Software">Adobe Photoshop CC (Windows)</MDI>
    <MDI key="EXIF_SubjectDistance">(0)</MDI>
    <MDI key="EXIF_WhitePoint">(0) (0)</MDI>
    <MDI key="EXIF_XResolution">(300)</MDI>
    <MDI key="EXIF_YCbCrCoefficients">(0) (0) (0)</MDI>
    <MDI key="EXIF_YCbCrPositioning">0</MDI>
    <MDI key="EXIF_YResolution">(300)</MDI>
  </Metadata>
</PAMDataset>
