<PAMDataset>
  <SRS>GEOGCS["WGS 84",DATUM["WGS_1984",SPHEROID["WGS 84",6378137,298.257223563,AUTHORITY["EPSG","7030"]],AUTHORITY["EPSG","6326"]],PRIMEM["Greenwich",0],UNIT["degree",0.0174532925199433],AUTHORITY["EPSG","4326"]]</SRS>
  <GeoTransform>  1.3373500004052552e+01,  3.1310663040932983e-06,  0.0000000000000000e+00,  5.2528471895355239e+01,  0.0000000000000000e+00, -3.1310663040932983e-06</GeoTransform>
  <Metadata domain="IMAGE_STRUCTURE">
    <MDI key="INTERLEAVE">PIXEL</MDI>
  </Metadata>
  <Metadata>
    <MDI key="AREA_OR_POINT">Area</MDI>
    <MDI key="EXIF_ColorSpace">1</MDI>
    <MDI key="EXIF_Copyright">Public Domain, from the British Library's collections, 2013</MDI>
    <MDI key="EXIF_Orientation">1</MDI>
    <MDI key="EXIF_PixelXDimension">2183</MDI>
    <MDI key="EXIF_PixelYDimension">1511</MDI>
  </Metadata>
</PAMDataset>
