<PAMDataset>
  <SRS>GEOGCS["WGS 84",DATUM["WGS_1984",SPHEROID["WGS 84",6378137,298.257223563,AUTHORITY["EPSG","7030"]],AUTHORITY["EPSG","6326"]],PRIMEM["Greenwich",0],UNIT["degree",0.0174532925199433],AUTHORITY["EPSG","4326"]]</SRS>
  <GeoTransform>  1.0215970629309998e+01,  1.4932185732616215e-03,  0.0000000000000000e+00,  5.4009772992720592e+01,  0.0000000000000000e+00, -1.4932185732616215e-03</GeoTransform>
  <Metadata domain="IMAGE_STRUCTURE">
    <MDI key="INTERLEAVE">PIXEL</MDI>
  </Metadata>
  <Metadata>
    <MDI key="AREA_OR_POINT">Area</MDI>
    <MDI key="EXIF_ColorSpace">1</MDI>
    <MDI key="EXIF_DateTime">2009:04:29 08:58:43</MDI>
    <MDI key="EXIF_Orientation">1</MDI>
    <MDI key="EXIF_PixelXDimension">3431</MDI>
    <MDI key="EXIF_PixelYDimension">2659</MDI>
    <MDI key="EXIF_ResolutionUnit">2</MDI>
    <MDI key="EXIF_Software">Adobe Photoshop CS3 Macintosh</MDI>
    <MDI key="EXIF_XResolution">(199.974)</MDI>
    <MDI key="EXIF_YResolution">(199.974)</MDI>
  </Metadata>
</PAMDataset>
