<PAMDataset>
  <SRS>GEOGCS["WGS 84",DATUM["WGS_1984",SPHEROID["WGS 84",6378137,298.257223563,AUTHORITY["EPSG","7030"]],AUTHORITY["EPSG","6326"]],PRIMEM["Greenwich",0],UNIT["degree",0.0174532925199433],AUTHORITY["EPSG","4326"]]</SRS>
  <GeoTransform>  1.3309761405074065e+01,  3.9257118024361511e-05,  0.0000000000000000e+00,  5.2516679304639382e+01,  0.0000000000000000e+00, -3.9257118024361511e-05</GeoTransform>
  <Metadata domain="IMAGE_STRUCTURE">
    <MDI key="INTERLEAVE">PIXEL</MDI>
  </Metadata>
  <Metadata>
    <MDI key="AREA_OR_POINT">Area</MDI>
    <MDI key="EXIF_DateTime">2004:02:17 17:51:12</MDI>
    <MDI key="EXIF_ExifVersion">0220</MDI>
    <MDI key="EXIF_Interoperability_Index">R98</MDI>
    <MDI key="EXIF_Interoperability_Version">0x30 0x31 0x30 0x30</MDI>
    <MDI key="EXIF_Orientation">1</MDI>
    <MDI key="EXIF_PixelXDimension">500</MDI>
    <MDI key="EXIF_PixelYDimension">510</MDI>
    <MDI key="EXIF_Software">ACD Systems Digital Imaging</MDI>
    <MDI key="EXIF_SubSecTime">593</MDI>
    <MDI key="EXIF_YCbCrPositioning">1</MDI>
  </Metadata>
</PAMDataset>
