<PAMDataset>
  <SRS>GEOGCS["WGS 84",DATUM["WGS_1984",SPHEROID["WGS 84",6378137,298.257223563,AUTHORITY["EPSG","7030"]],AUTHORITY["EPSG","6326"]],PRIMEM["Greenwich",0],UNIT["degree",0.0174532925199433],AUTHORITY["EPSG","4326"]]</SRS>
  <GeoTransform>  1.3324057348945633e+01,  2.1668619473320303e-05,  0.0000000000000000e+00,  5.2523336960317600e+01,  0.0000000000000000e+00, -2.1668619473320303e-05</GeoTransform>
  <Metadata domain="IMAGE_STRUCTURE">
    <MDI key="INTERLEAVE">PIXEL</MDI>
  </Metadata>
  <Metadata>
    <MDI key="AREA_OR_POINT">Area</MDI>
    <MDI key="EXIF_Artist">Picasa</MDI>
    <MDI key="EXIF_DateTime">2017:03:13 22:24:09</MDI>
    <MDI key="EXIF_DateTimeOriginal">2017:02:13 23:00:18</MDI>
    <MDI key="EXIF_ExifVersion">0220</MDI>
    <MDI key="EXIF_ImageUniqueID">5a2416a2542e44bb0d41588e5312eb32</MDI>
    <MDI key="EXIF_Interoperability_Version">0x30 0x31 0x30 0x30</MDI>
    <MDI key="EXIF_PixelXDimension">503</MDI>
    <MDI key="EXIF_PixelYDimension">595</MDI>
    <MDI key="EXIF_Related_Image_Length">595</MDI>
    <MDI key="EXIF_Related_Image_Width">503</MDI>
    <MDI key="EXIF_Software">Picasa</MDI>
  </Metadata>
</PAMDataset>
