<PAMDataset>
  <SRS>GEOGCS["WGS 84",DATUM["WGS_1984",SPHEROID["WGS 84",6378137,298.257223563,AUTHORITY["EPSG","7030"]],AUTHORITY["EPSG","6326"]],PRIMEM["Greenwich",0],UNIT["degree",0.0174532925199433],AUTHORITY["EPSG","4326"]]</SRS>
  <GeoTransform>  3.7367635162853389e+01,  7.0978693932305359e-05,  0.0000000000000000e+00,  5.5789501803479638e+01,  0.0000000000000000e+00, -7.0978693932305359e-05</GeoTransform>
  <Metadata domain="IMAGE_STRUCTURE">
    <MDI key="INTERLEAVE">PIXEL</MDI>
  </Metadata>
  <Metadata>
    <MDI key="AREA_OR_POINT">Area</MDI>
    <MDI key="EXIF_ApertureValue">(4.97086)</MDI>
    <MDI key="EXIF_DateTime">2010:01:19 17:06:41</MDI>
    <MDI key="EXIF_DateTimeDigitized">2010:01:19 17:06:41</MDI>
    <MDI key="EXIF_DateTimeOriginal">2010:01:19 17:06:41</MDI>
    <MDI key="EXIF_ExifVersion">0220</MDI>
    <MDI key="EXIF_ExposureBiasValue">(0.333333)</MDI>
    <MDI key="EXIF_ExposureMode">0</MDI>
    <MDI key="EXIF_ExposureProgram">3</MDI>
    <MDI key="EXIF_ExposureTime">(0.1)</MDI>
    <MDI key="EXIF_FileSource">0x3</MDI>
    <MDI key="EXIF_Flash">16</MDI>
    <MDI key="EXIF_FNumber">(5.6)</MDI>
    <MDI key="EXIF_FocalLength">(55)</MDI>
    <MDI key="EXIF_FocalPlaneResolutionUnit">2</MDI>
    <MDI key="EXIF_ISOSpeedRatings">1600</MDI>
    <MDI key="EXIF_Make">Canon</MDI>
    <MDI key="EXIF_MeteringMode">5</MDI>
    <MDI key="EXIF_Model">Canon EOS 350D DIGITAL</MDI>
    <MDI key="EXIF_PixelXDimension">3456</MDI>
    <MDI key="EXIF_PixelYDimension">2304</MDI>
    <MDI key="EXIF_ResolutionUnit">2</MDI>
    <MDI key="EXIF_SceneType">0x1</MDI>
    <MDI key="EXIF_ShutterSpeedValue">(3.32193)</MDI>
    <MDI key="EXIF_Software">Capture One 5 Macintosh</MDI>
    <MDI key="EXIF_SubjectDistance">(0)</MDI>
    <MDI key="EXIF_WhiteBalance">0</MDI>
    <MDI key="EXIF_XResolution">(300)</MDI>
    <MDI key="EXIF_YResolution">(300)</MDI>
  </Metadata>
</PAMDataset>
