<PAMDataset>
  <SRS>GEOGCS["WGS 84",DATUM["WGS_1984",SPHEROID["WGS 84",6378137,298.257223563,AUTHORITY["EPSG","7030"]],AUTHORITY["EPSG","6326"]],PRIMEM["Greenwich",0],UNIT["degree",0.0174532925199433],AUTHORITY["EPSG","4326"]]</SRS>
  <GeoTransform>  3.7721006634087601e+01,  1.3882411175312975e-05,  0.0000000000000000e+00,  5.5456418722370572e+01,  0.0000000000000000e+00, -1.3882411175312975e-05</GeoTransform>
  <Metadata domain="IMAGE_STRUCTURE">
    <MDI key="INTERLEAVE">PIXEL</MDI>
  </Metadata>
  <Metadata>
    <MDI key="AREA_OR_POINT">Area</MDI>
    <MDI key="EXIF_Artist">TROLLEWAY@YANDEX.RU                                            </MDI>
    <MDI key="EXIF_ColorSpace">1</MDI>
    <MDI key="EXIF_ComponentsConfiguration">0x1 0x2 0x3 00</MDI>
    <MDI key="EXIF_Contrast">0</MDI>
    <MDI key="EXIF_CustomRendered">0</MDI>
    <MDI key="EXIF_DateTime">2015:06:01 12:25:54</MDI>
    <MDI key="EXIF_DateTimeDigitized">2015:06:01 12:25:54</MDI>
    <MDI key="EXIF_DateTimeOriginal">2015:06:01 12:25:54</MDI>
    <MDI key="EXIF_DigitalZoomRatio">(1)</MDI>
    <MDI key="EXIF_ExifVersion">0230</MDI>
    <MDI key="EXIF_ExposureBiasValue">(0)</MDI>
    <MDI key="EXIF_ExposureMode">0</MDI>
    <MDI key="EXIF_ExposureProgram">2</MDI>
    <MDI key="EXIF_ExposureTime">(0.002)</MDI>
    <MDI key="EXIF_FileSource">0x3</MDI>
    <MDI key="EXIF_Flash">8</MDI>
    <MDI key="EXIF_FlashpixVersion">0100</MDI>
    <MDI key="EXIF_FNumber">(8)</MDI>
    <MDI key="EXIF_FocalLength">(24)</MDI>
    <MDI key="EXIF_GainControl">1</MDI>
    <MDI key="EXIF_GPSAltitude">(302.3)</MDI>
    <MDI key="EXIF_GPSAltitudeRef">00</MDI>
    <MDI key="EXIF_GPSDateStamp">2015:06:01</MDI>
    <MDI key="EXIF_GPSLatitude">(55) (24) (49.572)</MDI>
    <MDI key="EXIF_GPSLatitudeRef">N</MDI>
    <MDI key="EXIF_GPSLongitude">(37) (48) (13.032)</MDI>
    <MDI key="EXIF_GPSLongitudeRef">E</MDI>
    <MDI key="EXIF_GPSMapDatum">WGS-84</MDI>
    <MDI key="EXIF_GPSTimeStamp">(12) (25) (54)</MDI>
    <MDI key="EXIF_GPSVersionID">0x2 0x2 00 00</MDI>
    <MDI key="EXIF_ImageDescription">Taken from plane Domodedovo - Astrakhan</MDI>
    <MDI key="EXIF_Interoperability_Index">R98</MDI>
    <MDI key="EXIF_Interoperability_Version">0x30 0x31 0x30 0x30</MDI>
    <MDI key="EXIF_ISOSpeedRatings">200</MDI>
    <MDI key="EXIF_LightSource">0</MDI>
    <MDI key="EXIF_Make">OLYMPUS IMAGING CORP.  </MDI>
    <MDI key="EXIF_MakerNote">OLYMPUS</MDI>
    <MDI key="EXIF_MaxApertureValue">(3)</MDI>
    <MDI key="EXIF_MeteringMode">2</MDI>
    <MDI key="EXIF_Model">E-M10           </MDI>
    <MDI key="EXIF_Orientation">1</MDI>
    <MDI key="EXIF_PixelXDimension">4608</MDI>
    <MDI key="EXIF_PixelYDimension">2592</MDI>
    <MDI key="EXIF_ResolutionUnit">2</MDI>
    <MDI key="EXIF_Saturation">0</MDI>
    <MDI key="EXIF_SceneCaptureType">0</MDI>
    <MDI key="EXIF_Sharpness">0</MDI>
    <MDI key="EXIF_Software">Version 1.1                    </MDI>
    <MDI key="EXIF_WhiteBalance">0</MDI>
    <MDI key="EXIF_XResolution">(350)</MDI>
    <MDI key="EXIF_YCbCrPositioning">2</MDI>
    <MDI key="EXIF_YResolution">(350)</MDI>
  </Metadata>
</PAMDataset>
