<PAMDataset>
  <SRS>GEOGCS["WGS 84",DATUM["WGS_1984",SPHEROID["WGS 84",6378137,298.257223563,AUTHORITY["EPSG","7030"]],AUTHORITY["EPSG","6326"]],PRIMEM["Greenwich",0],UNIT["degree",0.0174532925199433],AUTHORITY["EPSG","4326"]]</SRS>
  <GeoTransform>  2.1584875026514156e+00,  2.1020565162849973e-05,  0.0000000000000000e+00,  4.1398766859198879e+01,  0.0000000000000000e+00, -2.1020565162849973e-05</GeoTransform>
  <Metadata domain="IMAGE_STRUCTURE">
    <MDI key="INTERLEAVE">PIXEL</MDI>
  </Metadata>
  <Metadata>
    <MDI key="AREA_OR_POINT">Area</MDI>
    <MDI key="EXIF_ApertureValue">(9.28772)</MDI>
    <MDI key="EXIF_ColorSpace">1</MDI>
    <MDI key="EXIF_ComponentsConfiguration">0x1 0x2 0x3 00</MDI>
    <MDI key="EXIF_CompressedBitsPerPixel">(3)</MDI>
    <MDI key="EXIF_CustomRendered">0</MDI>
    <MDI key="EXIF_DateTime">2006:02:26 06:50:43</MDI>
    <MDI key="EXIF_DateTimeDigitized">2006:02:11 12:31:16</MDI>
    <MDI key="EXIF_DateTimeOriginal">2006:02:11 12:31:16</MDI>
    <MDI key="EXIF_ExifVersion">0220</MDI>
    <MDI key="EXIF_ExposureBiasValue">(-1.33333)</MDI>
    <MDI key="EXIF_ExposureMode">0</MDI>
    <MDI key="EXIF_ExposureTime">(0.3)</MDI>
    <MDI key="EXIF_FileSource">0x3</MDI>
    <MDI key="EXIF_Flash">0</MDI>
    <MDI key="EXIF_FlashpixVersion">0100</MDI>
    <MDI key="EXIF_FNumber">(25)</MDI>
    <MDI key="EXIF_FocalLength">(30)</MDI>
    <MDI key="EXIF_FocalPlaneResolutionUnit">2</MDI>
    <MDI key="EXIF_FocalPlaneXResolution">(1721.97)</MDI>
    <MDI key="EXIF_FocalPlaneYResolution">(1721.01)</MDI>
    <MDI key="EXIF_Interoperability_Index">R98</MDI>
    <MDI key="EXIF_Interoperability_Version">0x30 0x31 0x30 0x30</MDI>
    <MDI key="EXIF_ISOSpeedRatings">400</MDI>
    <MDI key="EXIF_Make">Canon</MDI>
    <MDI key="EXIF_MaxApertureValue">(4)</MDI>
    <MDI key="EXIF_MeteringMode">5</MDI>
    <MDI key="EXIF_Model">Canon EOS 300D DIGITAL</MDI>
    <MDI key="EXIF_Orientation">1</MDI>
    <MDI key="EXIF_PixelXDimension">1536</MDI>
    <MDI key="EXIF_PixelYDimension">1024</MDI>
    <MDI key="EXIF_ResolutionUnit">2</MDI>
    <MDI key="EXIF_SceneCaptureType">0</MDI>
    <MDI key="EXIF_SensingMethod">2</MDI>
    <MDI key="EXIF_ShutterSpeedValue">(1.73697)</MDI>
    <MDI key="EXIF_Software">Imagen digital ACD Systems</MDI>
    <MDI key="EXIF_SubSecTime">573</MDI>
    <MDI key="EXIF_WhiteBalance">0</MDI>
    <MDI key="EXIF_XResolution">(180)</MDI>
    <MDI key="EXIF_YCbCrPositioning">1</MDI>
    <MDI key="EXIF_YResolution">(180)</MDI>
  </Metadata>
</PAMDataset>
