<PAMDataset>
  <SRS>GEOGCS["WGS 84",DATUM["WGS_1984",SPHEROID["WGS 84",6378137,298.257223563,AUTHORITY["EPSG","7030"]],AUTHORITY["EPSG","6326"]],PRIMEM["Greenwich",0],UNIT["degree",0.0174532925199433],AUTHORITY["EPSG","4326"]]</SRS>
  <GeoTransform>  1.4646554135675427e+01,  1.3843199688552953e-04,  0.0000000000000000e+00,  5.5318085122775884e+01,  0.0000000000000000e+00, -1.3843199688552953e-04</GeoTransform>
  <Metadata domain="IMAGE_STRUCTURE">
    <MDI key="INTERLEAVE">PIXEL</MDI>
  </Metadata>
  <Metadata>
    <MDI key="AREA_OR_POINT">Area</MDI>
    <MDI key="TIFFTAG_ARTIST">NN</MDI>
    <MDI key="TIFFTAG_DATETIME">2014:01:20 14:41:39</MDI>
    <MDI key="TIFFTAG_IMAGEDESCRIPTION">image description</MDI>
    <MDI key="TIFFTAG_RESOLUTIONUNIT">2 (pixels/inch)</MDI>
    <MDI key="TIFFTAG_SOFTWARE">Adobe Photoshop Elements 7.0 Windows</MDI>
    <MDI key="TIFFTAG_XRESOLUTION">600</MDI>
    <MDI key="TIFFTAG_YRESOLUTION">600</MDI>
  </Metadata>
</PAMDataset>
