<PAMDataset>
  <SRS>GEOGCS["WGS 84",DATUM["WGS_1984",SPHEROID["WGS 84",6378137,298.257223563,AUTHORITY["EPSG","7030"]],AUTHORITY["EPSG","6326"]],PRIMEM["Greenwich",0],UNIT["degree",0.0174532925199433],AUTHORITY["EPSG","4326"]]</SRS>
  <GeoTransform>  6.4985317066191215e+01,  2.3648783704486542e-02,  0.0000000000000000e+00,  3.6827802229605574e+01,  0.0000000000000000e+00, -2.3648783704486542e-02</GeoTransform>
  <Metadata domain="IMAGE_STRUCTURE">
    <MDI key="INTERLEAVE">PIXEL</MDI>
  </Metadata>
  <Metadata>
    <MDI key="AREA_OR_POINT">Area</MDI>
    <MDI key="EXIF_ColorSpace">1</MDI>
    <MDI key="EXIF_ComponentsConfiguration">0x1 0x2 0x3 00</MDI>
    <MDI key="EXIF_ExifVersion">0220</MDI>
    <MDI key="EXIF_FlashpixVersion">0100</MDI>
    <MDI key="EXIF_PixelXDimension">1228</MDI>
    <MDI key="EXIF_PixelYDimension">1350</MDI>
    <MDI key="EXIF_ReferenceBlackWhite">(0) (255) (128) (255) (128) (255)</MDI>
    <MDI key="EXIF_ResolutionUnit">2</MDI>
    <MDI key="EXIF_UserComment">hnologies Inc. V1.01</MDI>
    <MDI key="EXIF_XResolution">(96)</MDI>
    <MDI key="EXIF_YCbCrPositioning">2</MDI>
    <MDI key="EXIF_YResolution">(96)</MDI>
  </Metadata>
</PAMDataset>
