<PAMDataset>
  <SRS>GEOGCS["WGS 84",DATUM["WGS_1984",SPHEROID["WGS 84",6378137,298.257223563,AUTHORITY["EPSG","7030"]],AUTHORITY["EPSG","6326"]],PRIMEM["Greenwich",0],UNIT["degree",0.0174532925199433],AUTHORITY["EPSG","4326"]]</SRS>
  <GeoTransform>  7.5700333824058363e+00,  2.1830244560986075e-04,  0.0000000000000000e+00,  5.3858273764597456e+01,  0.0000000000000000e+00, -2.1830244560986075e-04</GeoTransform>
  <Metadata domain="IMAGE_STRUCTURE">
    <MDI key="INTERLEAVE">PIXEL</MDI>
  </Metadata>
  <Metadata>
    <MDI key="AREA_OR_POINT">Area</MDI>
    <MDI key="EXIF_Artist">SBiasioli FSerra</MDI>
    <MDI key="EXIF_BitsPerSample">8 8 8</MDI>
    <MDI key="EXIF_ColorSpace">1</MDI>
    <MDI key="EXIF_Compression">1</MDI>
    <MDI key="EXIF_Copyright">(C) 2017 Biblioteca comunale di Trento</MDI>
    <MDI key="EXIF_DateTime">2017:09:06 11:03:21</MDI>
    <MDI key="EXIF_ImageDescription">Trento - Biblioteca comunale di Trento - Oldenburg comitatus</MDI>
    <MDI key="EXIF_Make">Metis Systems srl</MDI>
    <MDI key="EXIF_Model">METIS EDS Gamma integrated with a : Nikon D810 Digital Camera</MDI>
    <MDI key="EXIF_Orientation">1</MDI>
    <MDI key="EXIF_PhotometricInterpretation">2</MDI>
    <MDI key="EXIF_PixelXDimension">5715</MDI>
    <MDI key="EXIF_PixelYDimension">4750</MDI>
    <MDI key="EXIF_PlanarConfiguration">1</MDI>
    <MDI key="EXIF_ResolutionUnit">2</MDI>
    <MDI key="EXIF_SamplesPerPixel">3</MDI>
    <MDI key="EXIF_Software">Adobe Photoshop CS6 (Macintosh)</MDI>
    <MDI key="EXIF_XResolution">(442)</MDI>
    <MDI key="EXIF_YResolution">(442)</MDI>
  </Metadata>
</PAMDataset>
