<PAMDataset>
  <SRS>GEOGCS["WGS 84",DATUM["WGS_1984",SPHEROID["WGS 84",6378137,298.257223563,AUTHORITY["EPSG","7030"]],AUTHORITY["EPSG","6326"]],PRIMEM["Greenwich",0],UNIT["degree",0.0174532925199433],AUTHORITY["EPSG","4326"]]</SRS>
  <GeoTransform>  2.8331263535728577e+00,  4.1819601827411861e-05,  0.0000000000000000e+00,  5.0782854916601629e+01,  0.0000000000000000e+00, -4.1819601827411861e-05</GeoTransform>
  <Metadata domain="IMAGE_STRUCTURE">
    <MDI key="INTERLEAVE">PIXEL</MDI>
  </Metadata>
  <Metadata>
    <MDI key="AREA_OR_POINT">Area</MDI>
    <MDI key="EXIF_PrimaryChromaticities">(0.6485) (0.33088) (0.32121) (0.59787) (0.15589) (0.06604)</MDI>
    <MDI key="EXIF_WhitePoint">(0.34575) (0.35855)</MDI>
  </Metadata>
</PAMDataset>
