<PAMDataset>
  <SRS>GEOGCS["WGS 84",DATUM["WGS_1984",SPHEROID["WGS 84",6378137,298.257223563,AUTHORITY["EPSG","7030"]],AUTHORITY["EPSG","6326"]],PRIMEM["Greenwich",0],UNIT["degree",0.0174532925199433],AUTHORITY["EPSG","4326"]]</SRS>
  <GeoTransform>  7.7449066832973230e+01,  2.0958342660924010e-05,  0.0000000000000000e+00,  1.3296844725703846e+01,  0.0000000000000000e+00, -2.0958342660924010e-05</GeoTransform>
  <Metadata domain="IMAGE_STRUCTURE">
    <MDI key="INTERLEAVE">PIXEL</MDI>
  </Metadata>
  <Metadata>
    <MDI key="AREA_OR_POINT">Area</MDI>
    <MDI key="EXIF_ApertureValue">(2)</MDI>
    <MDI key="EXIF_BrightnessValue">(-1)</MDI>
    <MDI key="EXIF_ColorSpace">1</MDI>
    <MDI key="EXIF_ComponentsConfiguration">0x1 0x2 0x3 00</MDI>
    <MDI key="EXIF_Contrast">0</MDI>
    <MDI key="EXIF_CustomRendered">0</MDI>
    <MDI key="EXIF_DateTime">2018:10:01 13:48:42</MDI>
    <MDI key="EXIF_DateTimeDigitized">2018:10:01 13:48:42</MDI>
    <MDI key="EXIF_DateTimeOriginal">2018:10:01 13:48:42</MDI>
    <MDI key="EXIF_DigitalZoomRatio">(1)</MDI>
    <MDI key="EXIF_ExifVersion">0220</MDI>
    <MDI key="EXIF_ExposureBiasValue">(0)</MDI>
    <MDI key="EXIF_ExposureMode">0</MDI>
    <MDI key="EXIF_ExposureProgram">2</MDI>
    <MDI key="EXIF_ExposureTime">(0.00083612)</MDI>
    <MDI key="EXIF_Flash">16</MDI>
    <MDI key="EXIF_FlashpixVersion">0100</MDI>
    <MDI key="EXIF_FNumber">(2)</MDI>
    <MDI key="EXIF_FocalLength">(4.68)</MDI>
    <MDI key="EXIF_GPSMapDatum">WGS-84</MDI>
    <MDI key="EXIF_GPSVersionID">0x2 0x2 00 00</MDI>
    <MDI key="EXIF_Interoperability_Index">R98</MDI>
    <MDI key="EXIF_Interoperability_Version">0x30 0x31 0x30 0x30</MDI>
    <MDI key="EXIF_ISOSpeedRatings">64</MDI>
    <MDI key="EXIF_Make">Motorola</MDI>
    <MDI key="EXIF_MakerNote">MOT</MDI>
    <MDI key="EXIF_MaxApertureValue">(2)</MDI>
    <MDI key="EXIF_MeteringMode">1</MDI>
    <MDI key="EXIF_Model">Moto G (4)</MDI>
    <MDI key="EXIF_PixelXDimension">3456</MDI>
    <MDI key="EXIF_PixelYDimension">4608</MDI>
    <MDI key="EXIF_ResolutionUnit">2</MDI>
    <MDI key="EXIF_Saturation">0</MDI>
    <MDI key="EXIF_SceneCaptureType">0</MDI>
    <MDI key="EXIF_SceneType">0x1</MDI>
    <MDI key="EXIF_Sharpness">1</MDI>
    <MDI key="EXIF_ShutterSpeedValue">(10.22)</MDI>
    <MDI key="EXIF_Software">athene_f-user 7.0 NPJS25.93-14-18 3 release-keys</MDI>
    <MDI key="EXIF_WhiteBalance">0</MDI>
    <MDI key="EXIF_XResolution">(72)</MDI>
    <MDI key="EXIF_YCbCrPositioning">1</MDI>
    <MDI key="EXIF_YResolution">(72)</MDI>
  </Metadata>
</PAMDataset>
