<PAMDataset>
  <SRS>GEOGCS["WGS 84",DATUM["WGS_1984",SPHEROID["WGS 84",6378137,298.257223563,AUTHORITY["EPSG","7030"]],AUTHORITY["EPSG","6326"]],PRIMEM["Greenwich",0],UNIT["degree",0.0174532925199433],AUTHORITY["EPSG","4326"]]</SRS>
  <GeoTransform>  8.8277500324021119e+01,  5.8654614337968556e-05,  0.0000000000000000e+00,  2.2627381985848903e+01,  0.0000000000000000e+00, -5.8654614337968556e-05</GeoTransform>
  <Metadata domain="IMAGE_STRUCTURE">
    <MDI key="INTERLEAVE">PIXEL</MDI>
  </Metadata>
  <Metadata>
    <MDI key="AREA_OR_POINT">Area</MDI>
    <MDI key="EXIF_ColorSpace">65535</MDI>
    <MDI key="EXIF_DateTime">2004:09:16 16:17:35</MDI>
    <MDI key="EXIF_DateTimeDigitized">2004:06:09 21:36:26</MDI>
    <MDI key="EXIF_DateTimeOriginal">2004:06:09 21:36:26</MDI>
    <MDI key="EXIF_ExifVersion">0220</MDI>
    <MDI key="EXIF_FlashpixVersion">0100</MDI>
    <MDI key="EXIF_ISOSpeedRatings">100</MDI>
    <MDI key="EXIF_Make">Canon</MDI>
    <MDI key="EXIF_Model">Canon EOS D60</MDI>
    <MDI key="EXIF_Orientation">1</MDI>
    <MDI key="EXIF_PixelXDimension">1565</MDI>
    <MDI key="EXIF_PixelYDimension">1801</MDI>
    <MDI key="EXIF_ResolutionUnit">2</MDI>
    <MDI key="EXIF_Software">Adobe Photoshop 7.0</MDI>
    <MDI key="EXIF_WhiteBalance">100</MDI>
    <MDI key="EXIF_XResolution">(180)</MDI>
    <MDI key="EXIF_YResolution">(180)</MDI>
  </Metadata>
</PAMDataset>
