<PAMDataset>
  <SRS>GEOGCS["WGS 84",DATUM["WGS_1984",SPHEROID["WGS 84",6378137,298.257223563,AUTHORITY["EPSG","7030"]],AUTHORITY["EPSG","6326"]],PRIMEM["Greenwich",0],UNIT["degree",0.0174532925199433],AUTHORITY["EPSG","4326"]]</SRS>
  <GeoTransform>  9.2831625065509833e+00,  1.2577194459655164e-04,  0.0000000000000000e+00,  5.3867659762864548e+01,  0.0000000000000000e+00, -1.2577194459655164e-04</GeoTransform>
  <Metadata domain="IMAGE_STRUCTURE">
    <MDI key="INTERLEAVE">PIXEL</MDI>
  </Metadata>
  <Metadata>
    <MDI key="AREA_OR_POINT">Area</MDI>
    <MDI key="TIFFTAG_DOCUMENTNAME">/mnt/presentation/images/PPN608978906/00000001.tif</MDI>
    <MDI key="TIFFTAG_IMAGEDESCRIPTION">SUB-HH PPN608978906 8771x7429</MDI>
    <MDI key="TIFFTAG_RESOLUTIONUNIT">2 (pixels/inch)</MDI>
    <MDI key="TIFFTAG_SOFTWARE">ImageMagick 6.4.3 2013-03-20 Q16 OpenMP http://www.imagemagick.org</MDI>
    <MDI key="TIFFTAG_XRESOLUTION">465</MDI>
    <MDI key="TIFFTAG_YRESOLUTION">465</MDI>
  </Metadata>
</PAMDataset>
