<PAMDataset>
  <SRS>GEOGCS["WGS 84",DATUM["WGS_1984",SPHEROID["WGS 84",6378137,298.257223563,AUTHORITY["EPSG","7030"]],AUTHORITY["EPSG","6326"]],PRIMEM["Greenwich",0],UNIT["degree",0.0174532925199433],AUTHORITY["EPSG","4326"]]</SRS>
  <GeoTransform>  9.9230197404634382e+00,  7.2337398832686575e-06,  0.0000000000000000e+00,  5.3574896751675773e+01,  0.0000000000000000e+00, -7.2337398832686575e-06</GeoTransform>
  <Metadata domain="IMAGE_STRUCTURE">
    <MDI key="INTERLEAVE">PIXEL</MDI>
  </Metadata>
  <Metadata>
    <MDI key="AREA_OR_POINT">Area</MDI>
    <MDI key="TIFFTAG_DOCUMENTNAME">/mnt/presentation/images/PPN611978180/00000001.tif</MDI>
    <MDI key="TIFFTAG_IMAGEDESCRIPTION">SUB-HH PPN611978180 6728x6304</MDI>
    <MDI key="TIFFTAG_RESOLUTIONUNIT">2 (pixels/inch)</MDI>
    <MDI key="TIFFTAG_SOFTWARE">ImageMagick 6.4.3 2013-03-20 Q16 OpenMP http://www.imagemagick.org</MDI>
    <MDI key="TIFFTAG_XRESOLUTION">72</MDI>
    <MDI key="TIFFTAG_YRESOLUTION">72</MDI>
  </Metadata>
</PAMDataset>
