<PAMDataset>
  <SRS dataAxisToSRSAxisMapping="2,1">GEOGCS["WGS 84",DATUM["WGS_1984",SPHEROID["WGS 84",6378137,298.257223563,AUTHORITY["EPSG","7030"]],AUTHORITY["EPSG","6326"]],PRIMEM["Greenwich",0],UNIT["degree",0.0174532925199433,AUTHORITY["EPSG","9122"]],AXIS["Latitude",NORTH],AXIS["Longitude",EAST],AUTHORITY["EPSG","4326"]]</SRS>
  <GeoTransform>  1.0367451425125873e+01,  3.1073503029203997e-05,  0.0000000000000000e+00,  5.9902451727161797e+01,  0.0000000000000000e+00, -3.1073503029203997e-05</GeoTransform>
  <Metadata domain="IMAGE_STRUCTURE">
    <MDI key="INTERLEAVE">PIXEL</MDI>
  </Metadata>
  <Metadata>
    <MDI key="AREA_OR_POINT">Area</MDI>
    <MDI key="EXIF_BitsPerSample">8 8 8</MDI>
    <MDI key="EXIF_Compression">5</MDI>
    <MDI key="EXIF_DateTime">2014:09:24 11:11:41</MDI>
    <MDI key="EXIF_Orientation">1</MDI>
    <MDI key="EXIF_PhotometricInterpretation">2</MDI>
    <MDI key="EXIF_PlanarConfiguration">1</MDI>
    <MDI key="EXIF_ResolutionUnit">2</MDI>
    <MDI key="EXIF_RowsPerStrip">5</MDI>
    <MDI key="EXIF_SamplesPerPixel">3</MDI>
    <MDI key="EXIF_Software">Adobe Photoshop CS3 Windows</MDI>
    <MDI key="EXIF_StripByteCounts">120133 111859 104742 101229 97474 94236 91942 89268 87529 86011 84493 84373 83323 83197 82478 80744 80132 80005 80057 79552 78430 78214 78017 77344 77102 77144 76947 76508 75484 75426 75247 75618 75943 75195 75742 74634 75522 75453 74641 74772 74413 73438 73771 73452 74170 74115 73693 73018 72781 72648 72399 71326 71463 71431 71140 70808 70132 69913 69195 69177 69444 68994 68364 68583 68070 68725 68803 69178 69966 70065 71299 71015 69912 70259 69739 69190 68736 68380 68371 67624 67698 68001 67413 68289 71250 71242 70895 69453 70204 72079 72742 71775 72027 72445 71332 71058 70789 70870 69633 66365 64811 65700 66002 65133 65784 64794 64961 64749 63815 64179 63416 63618 64172 63687 63701 63362 63162 62856 61438 62264 62124 62015 61777 61971 62201 61995 60659 61068 61156 60756 60576 60149 60304 60007 58881 59584 58700 58661 60074 59306 59082 58142 58247 59804 59345 60075 58287 57918 58307 58109 61548 65137 68103 68442 65643 66133 66569 66272 66045 66742 67981 67825 68068 68874 68356 68193 67119 66997 66632 67293 66283 68722 68122 66342 60207 56981 58535 59057 60080 60214 59145 59964 62460 63195 63680 63347 63735 64011 60822 60360 59054 59793 63008 68731 73117 80021 85040 92963 93700 94622 95835 93073 85747 73387 66646 65968 67309 78769 81491 84790 97490 110037 107514 95028 84754 73362 65775 64704 65208 65906 68046 68763 68652 69031 71257 68341 67846 68010 68994 73576 79298 88377 92373 92758 96002 100264 105802 111394 114268 121211 129110 136193 143126 148283 157621 162039 159270 168892 171484 178689 186093 183517 181924 177917 181759 183578 181093 182747 178971 182701 184197 177953 178252 178786 179868 179514 179049 181145 181757 183425 183293 183661 182566 179503 180090 185116 182306 173767 173105 170262 162704 159429 152519 151873 146207 138676 131355 120844 121235 115650 105475 106819 97619 96009 98420 91658 100074 101719 98594 103372 106735 111370 114788 118774 120163 121071 119705 123357 123606 126204 133896 135425 141379 147246 156299 162897 166695 169545 168492 169724 172527 171954 172788 173188 171603 172110 171285 173302 173012 173773 173550 173946 172743 172515 171525 170649 170941 169841 172105 175832 177851 177788 176990 175892 176639 175141 175607 173385 173842 174549 172738 171847 173035 171675 169830 171742 171420 170220 172716 172714 171072 168672 169589 170593 169830 169533 170187 170200 171498 172021 170845 171744 171999 172882 173265 173199 173845 173110 173485 173219 176762 177718 177616 178983 176369 174439 171817 173154 170613 168722 167839 168382 169508 171175 173660 174747 174662 174218 173047 174665 172566 171616 172362 175116 174496 174911 173810 174306 174259 174321 174331 173357 173914 177674 176887 178850 175499 173536 175636 176654 174252 174070 173228 174166 173617 171399 171543 171994 174103 165888 165558 168134 166632 165325 166300 166030 166591 165831 166731 167949 167011 165757 166711 167431 167085 167212 167977 167040 168924 170221 171004 171612 173899 172482 171076 174995 177112 177518 177244 178340 178552 172923 171267 170563 171241 170988 172224 174240 173451 174027 172740 173522 173750 175447 176738 176567 178028 178844 178461 177304 176804 175493 172765 174609 174567 176654 177017 180779 181279 182192 182860 185062 182824 181838 180655 181274 184032 182333 181105 181283 182179 181615 179361 178499 176603 176743 176860 174870 173402 172876 171285 169496 170157 170274 168520 165933 166504 166951 166773 166228 165004 165507 167094 166587 166672 166951 166503 166926 165829 165651 167242 168135 168558 168493 168158 166573 164961 165309 165010 166168 166585 169298 170970 171228 170389 169488 171403 172614 172893 173290 176414 173977 173103 172023 173149 174171 174199 173582 176146 176621 174728 173899 173303 173916 175423 174405 173322 172906 172714 170901 170569 170712 169716 170337 171633 172266 169903 167969 168573 170289 169343 168942 168909 168825 170641 169489 169675 169505 169653 169603 169155 172300 171955 170005 170115 169589 167948 167113 165123 166450 167424 166513 166762 167002 167942 167061 167665 169855 168697 168529 168570 168304 167182 168687 169714 169559 167597 167791 166219 166360 168032 168178 168630 170310 169891 170175 169972 170338 172870 171165 172447 171894 170790 168559 170050 168767 168290 168229 168632 165564 164932 164794 164229 163522 159521 158569 157567 157792 158345 158554 156886 157284 156847 157408 157466 157188 156482 157127 157971 158438 157064 157453 159317 161783 163737 160071 162105 162714 163185 161685 159002 156320 152294 151438 150889 152133 153059 152243 153918 154427 155733 153610 153612 154349 154001 155390 155049 156536 157901 157714 158243 158249 158352 158300 157976 158839 158984 159269 159621 162804 164622 165480 164898 165129 165180 165226 165520 166051 166527 167194 166020 166363 165961 167073 165871 166441 166618 168072 169272 169096 170016 173492 172336 172068 172728 172918 173406 171619 167833 166449 164015 164595 164832 164214 162530 163753 163777 163635 164096 164997 164116 163719 163880 163888 163027 163854 164340 165091 164574 164299 163392 163774 164823 165790 166048 166068 164655 166185 166005 167059 165817 167403 169833 169730 168032 169204 166194 165229 164925 163421 164160 164869 164259 163484 163624 164210 164719 160955 162655 162617 162208 161001 159915 161823 159809 158663 159242 159705 159989 160164 158503 158084 156856 157094 157785 157421 158146 159052 158597 158297 158141 157794 158152 158921 159008 159396 157277 156705 157297 157584 157261 156614 156125 154884 155588 158767 158455 157542 154847 155763 155172 155459 155946 153327 152191 154655 155597 158148 156621 156257 156874 155559 155435 156695 156753 156008 156806 157019 155042 154115 155081 153695 153001 154151 155636 155468 155625 155133 155456 154160 153822 154607 154143 153650 153647 151734 150982 149794 150515 153261 152139 152747 152230 152381 153410 152095 150157 150116 148111 148720 148190 145721 146733 145789 144914 142021 139126 138789 138553 135387 137040 138613 136927 139558 140127 139995 137829 139014 137619 137518 135830 138237 138888 138856 140389 142858 140548 141634 141740 140681 140430 140719 141465 144716 140215 138517 137391 138439 138246 137586 137426 137932 134182 134440 133284 134203 134692 132597 132666 132544 133114 132705 133003 133491 133080 132982 132010 132831 133108 133237 133680 135604 136427 137091 136095 135759 135143 135581 134080 133459 134001 136850 137988 136824 136270 137250 138783 139987 140900 142712 141999 140085 138588 139972 137766 135850 137008 137392 137389 139131 140464 141955 141779 144368 146785 147516 148925 148454 147198 145118 144169 144409 144799 145828 142162 141962 140301 140379 140967 141647 140359 139446 139968 142354 139653 138232 138009 137355 137820 135594 134647 134803 134746 136794 137080 138465 138963 142215 144256 146196 146853 147938 148224 146964 147312 148735 147919 148354 147950 150056 148621 148162 145189 145499 148445 146252 144499 145088 144556 144583 143668 141765 145114 145583 146338 144638 143432 144245 143630 141482 139044 138417 138042 140080 141799 142521 142088 143252 145807 146205 147708 148916 151511 151091 148978 150212 150439 149029 148705 144902 143615 145045 144892 143476 139981 142058 140619 141904 143101 143857 144982 144728 144167 143803 145982 145571 144533 141392 142418 144124 143179 143296 144053 141120 139731 139677 141390 142094 143344 146588 146658 145046 143696 143450 143080 142618 141134 138783 139314 139674 139980 138703 139072 138367 137847 139050 138571 139465 138252 138723 139432 139212 139239 137248 133530 132876 131199 130770 130682 129518 130728 131149 130563 131783 129582 129639 130944 132319 131001 129072 129522 129183 128564 128609 128645 130376 130577 130688 130453 130844 129614 131368 130047 130188 129587 129224 129996 130814 130133 129994 130199 129801 126785 126804 125941 128688 129050 129152 126969 126987 127463 126795 126549 127322 127553 126343 126716 127466 128076 129353 131750 131362 132024 131941 130984 130693 129104 129162 128210 125174 125849 127088 129420 130221 129582 130487 129356 132400 133194 132736 133170 134505 135093 135036 135721 136229 134931 134910 138381 137090 134727 135160 135405 136742 134998 135368 137452 137691 138145 139554 138562 138192 137950 140245 139224 135502 132367 133242 131460 132490 133236 136111 135817 132826 129522 131458 133449 133704 134967 134919 137411 137785 138937 137866 138168 138145 137800 137290 135769 135275 134281 133639 135045 135219 137520 138028 137011 137421 136120 136153 135760 133173 134908 134356 134824 134613 133086 135377 136786 135786 135009 136676 137965 135645 131035 131615 133467 132210 131647 130572 129642 129006 128501 129536 127652 127364 126875 126424 127223 127859 126830 126861 123626 120547 121029 120704 119506 120335 122492 122520 123462 125085 127014 128241 126942 128909 129957 130042 130312 130902 129510 131369 132417 129762 129605 129536 130998 131659 130563 129870 130860 132879 136368 139515 141743 141520 140181 140798 137776 135140 135034 135422 135915 136507 133581 131203 130789 129414 129827 130386 130089 131556 132475 132675 132192 133813 135582 132678 132048 132026 131472 131643 128325 130816 130257 129602 129353 131183 129530 128004 130276 130142 130481 131061 132823 133995 136645 136930 135997 136773 135424 135962 133324 131399 130682 129146 127854 128300 128244 130612 130591 132126 133483 132261 132565 133095 132937 131878 132967 134688 131801 130842 131266 129455 129483 129725 130141 130471 129123 129105 129044 128169 128742 128610 129311 130553 130262 129294 130666 129395 128913 129963 129893 130720 131999 135051 136409 134802 134656 135579 135106 133143 133087 131874 133389 134224 132501 133905 135142 136095 135484 137084 136634 134977 134733 135220 136746 132981 131934 133498 132204 132586 133264 136694 137201 133561 134947 131964 132789 132723 130706 131531 132537 130664 131354 131430 130831 130119 128838 130024 132874 133165 133075 133429 133330 132519 131293 133578 135091 136123 135784 133314 136955 138442 138250 138588 137266 135090 136104 135891 136790 135692 135118 136669 137659 136508 136647 136457 137914 138549 138988 138762 138669 138186 139089 138250 138660 136945 136478 137129 138562 137776 136050 137917 138511 138052 134746 134161 136205 137569 135692 135894 135058 134097 133801 134818 136540 134739 132577 131993 131010 133503 133606 131856 132826 133945 134004 134469 132349 131749 130163 131435 132583 131464 133045 133053 131724 132532 130138 130391 129821 128486 128601 127946 126093 126344 125966 127389 127284 126321 125368 126123 126611 125361 123135 126014 123530 124534 123711 124794 123626 123461 121406 124790 126171 124946 124469 123492 123083 121214 123543 124220 121905 123519 124468 124786 126508 126346 126372 127256 126803 127097 126010 127407 126906 124013 125504 126271 126062 126256 124272 125639 125565 122769 122319 122264 125288 125863 125210 127167 128525 129152 131592 128456 126042 125551 124200 124013 125216 124278 122784 123354 124326 121545 119713 121721 120389 120583 121391 121763 121991 120748 120607 120233 121035 122630 125070 124600 124753 124491 123696 125273 124176 122885 121331 122405 124137 124218 124019 124584 124716 124983 124202 124028 123351 123984 125068 127257 127571 129317 129818 130119 127580 126707 126828 126307 126864 127482 127328 126660 124685 124688 124556 125141 124913 125844 127838 133684 130880 131078 129958 129970 128360 126082 128010 129398 129179 129354 129738 128783 129029 127391 127230 125084 125003 124107 123599 124538 124896 122574 122544 122816 122462 122346 121286 123045 122891 122076 122016 121262 120528 122040 119835 121866 119989 122412 124091 123398 126726 125336 126222 128934 128787 129167 127352 127343 127830 126441 126194 126043 125594 127014 124899 124955 126482 125424 126512 128682 128861 128172 127572 127992 129842 129275 129467 129817 131274 133519 132813 134299 134946 135965 135402 134550 135333 136339 135941 135947 137431 139045 139986 140933 141545 142624 141529 142032 140418 143510 145024 144218 142447 142263 143252 143083 140158 139182 139839 139404 141118 140594 143270 143072 142509 141476 140443 141290 139875 137610 138555 136332 139041 138720 138834 139123 143069 142047 142532 142729 141339 141050 135847 135411 135164 135354 135600 135390 136039 136552 135726 136885 136454 137403 140199 141633 141944 140874 139024 140779 138064 139315 137484 137772 138346 137898 138256 138508 140974 142202 143141 143419 142329 139975 141901 141033 140592 138972 137172 138783 137219 136282 135580 134892 135442 135925 135556 136040 136160 136676 138358 137212 140798 138871 136978 138714 139504 141004 138645 137565 137286 135890 135634 136086 135622 135802 135516 134979 135827 134979 135317 139122 138997 139998 139678 139531 138726 136897 135232 135624 136149 134905 134752 135670 136104 135198 132669 130074 130800 130662 128876 132484 132541 131387 133033 131988 132576 132736 132243 133234 132238 131980 132163 134148 134899 134395 134806 135901 134970 134613 134188 133786 134341 133615 134080 135016 134154 134233 134875 135795 136049 135781 136078 136177 136207 135547 134163 135491 134640 132207 132909 131911 132835 133053 131475 131430 131942 133468 134466 133449 133014 134484 134851 135450 134802 134377 134419 134352 135817 136346 135805 135640 134751 134292 134110 135118 134737 135001 134460 135151 134745 135143 134389 134728 135171 134074 134232 135266 135043 135264 134673 135314 136177 135424 136425 136674 136945 138478 137478 139590 139914 141628 141215 139522 138351 139173 137490 138661 139189 139593 137995 138397 138130 138204 139921 140502 140323 138372 139770 139384 139699 139804 140115 141696 138574 138150 137917 137557 140314 141388 140954 142043 141410 143740 142982 142646 142593 142477 142299 141288 141816 141512 141214 142139 142516 142373 142895 143075 144142 143599 142637 144409 143405 143879 145669 144887 145621 146423 146402 146595 146198 147172 146275 147388 147626 147179 147431 147909 147453 148588 147425 150373 151805 149698 150997 150439 150044 149641 148624 146951 148124 146618 145685 145589 146586 148343 146423 147356 148307 147563 146978 146553 146428 147398 148787 149290 149738 149813 151184 152761 151799 151009 148693 149075 148564 149473 150020 147242 148414 149167 147799 147017 148553 147366 148192 148319 149584 147274 147260 148261 148519 148439 149161 150641 151470 150167 150607 151874 150631 150613 148267 148897 149368 150107 150505 150365 151216 151861 151304 151336 151458 151576 151525 149936 149039 150670 149998 150682 149554 149933 150512 149662 150860 149960 150221 151387 149909 149033 148529 148612 147971 147773 147953 147560 149270 148781 148288 149129 149150 149371 149122 150377 150262 151701 150289 151746 152076 151739 150707 149522 149054 149086 146480 147792 145804 144428 143731 143791 143660 144742 142996 143207 142988 141975 140959 141608 142684 141254 141864 142750 142855 143186 143419 143609 142367 141700 141652 142373 142741 143155 142556 143353 143644 143743 142883 144112 141798 141302 140892 142538 143975 143225 142934 142263 142520 142969 141204 142281 142211 142025 141516 142365 142517 142915 142200 143218 143407 145679 144163 145121 145232 145444 145621 145160 145880 148852 149281 148688 148220 146908 148517 148258 147750 147627 147864 148502 149554 148286 148417 148718 148724 149137 149054 150367 150461 149278 150592 149501 150671 150677 151521 149801 150208 151072 152582 153728 154628 156435 155663 155448 155708 156129 156156 154611 152985 151198 150496 152906 151568 151955 151064 149825 150173 150799 149993 150086 150136 150643 150947 151159 152163 151081 152616 153238 152619 152103 152360 152712 152525 152545 152468 152410 153977 154191 152009 152750 152036 149134 149578 149177 149444 149659 148048 148267 149030 150532 150977 149429 148495 149798 147058 147459 145085 146600 148154 150827 151950 151921 153228 155265 153978 155444 155942 157384 156979 156039 155444 156014 154142 154635 154916 155621 157726 156113 155619 153960 154097 155304 155648 155768 156834 157778 158830 158484 158876 158304 157343 156714 156690 157179 156134 156080 155888 155279 154739 156392 154574 155829 156964 155961 155834 155273 154953 154629 152655 154359 152974 154170 158609 157597 157609 156895 156950 155292 153740 154916 153634 152850 152886 153228 153938 154977 153507 155009 154311 153602 152945 152363 151609 150694 149950 149209 150524 149429 150206 149605 149531 151037 150545 150526 150568 151123 152074 150391 151739 151841 151844 151870 151980 152243 153117 151876 153235 153449 154121 153610 153620 154901 153353 153598 154494 153284 153894 153353 153744 154167 152297 150704 154340 154487 157406 156116 157597 159437 158487 158916 159494 158984 158073 157873 158151 158658 159255 159156 159176 159123 159143 160299 159584 160329 158848 158811 159257 157274 157462 153621 153311 153816 154545 153147 151671 151830 150157 152967 153088 143882 139201 134355 129947 128486 126174 132517 133078 128585 123221 116198 110171 103233 96191 91764 89748 82096 75624 73950 76133 79798 80335 85874 95142 96587 105214 112016 118319 131203 126021 137206 135308 150863 152663 154109 167379 165355 170197 169724 167810 173315 176023 173356 175387 175879 173565 172597 172714 174475 176717 174573 172917 174287 174794 176957 176863 177131 179159 180099 176135 176846 176354 178334 177551 179585 176548 174445 165778 161661 160107 149099 141493 137151 131357 120734 114412 105351 102814 97740 89307 86683 85357 82179 74131 75534 77823 77710 79744 81571 74800 71984 72939 68911 65608 69235 75591 80456 81810 89048 94811 92323 92231 94404 85763 76522 75866 73390 69468 72529 73924 73518 71650 70280 67012 63614 62258 67225 68005 67752 69643 72783 69067 66569 70913 76398 77608 75721 80320 82706 79903 79576 82712 77273 73444 72456 68655 67554 69703 73366 74716 75090 73362 74863 76946 76661 75896 77991 69222 67231 70891 71973 75720 78764 81492 80426 78631 79013 76127 73626 73507 75028 67497 64562 66995 67455 67251 67142 67978 66079 64160 65590 63522 63908 64778 64952 66610 66386 67441 68571 69543 69213 68628 68776 67339 66647 65455 66147 66673 66649 65903 65074 65844 65985 66299 66546 66709 67620 68707 69825 71999 75588 80915 79406 79393 80027 82047 81404 85532 78872 77197 75914 75319 76091 78011 77984 77992 78253 82197 87981 89948 91604 92520 94481 96875 98414 99880 102144 103489 106996 108725 110824 110690 112588 114415 113990 114652 115726 115898 117596 117040 117074 112840 110309 110281 110687 111050 111268 111922 112147 112253 112207 111977 111566 112325 112889 114097 115551 115561 115215 116006 118169 118838 119089 119521 119797 120262 120734 121229 121104 121365 121080 121665 122825 122115 120886 118846 118313 118397 118705 119187 119008 118977 118484 118942 119822 121036 123357 128573 131463 129053 129539 130279 130303 128736 127257 129282 137033 143438 151139 151588 142347 120948 111037 108884 110151 111248 22522</MDI>
