<PAMDataset>
  <SRS>GEOGCS["WGS 84",DATUM["WGS_1984",SPHEROID["WGS 84",6378137,298.257223563,AUTHORITY["EPSG","7030"]],AUTHORITY["EPSG","6326"]],PRIMEM["Greenwich",0],UNIT["degree",0.0174532925199433],AUTHORITY["EPSG","4326"]]</SRS>
  <GeoTransform>  7.9818915647569909e+01,  1.8786311345393361e-05,  0.0000000000000000e+00,  1.1944250560727458e+01,  0.0000000000000000e+00, -1.8786311345393361e-05</GeoTransform>
  <Metadata domain="IMAGE_STRUCTURE">
    <MDI key="INTERLEAVE">PIXEL</MDI>
  </Metadata>
  <Metadata>
    <MDI key="AREA_OR_POINT">Area</MDI>
    <MDI key="EXIF_ApertureValue">(2.75)</MDI>
    <MDI key="EXIF_ColorSpace">1</MDI>
    <MDI key="EXIF_ComponentsConfiguration">0x1 0x2 0x3 00</MDI>
    <MDI key="EXIF_CompressedBitsPerPixel">(3)</MDI>
    <MDI key="EXIF_CustomRendered">0</MDI>
    <MDI key="EXIF_DateTime">2014:02:25 15:43:07</MDI>
    <MDI key="EXIF_DateTimeDigitized">2014:02:25 13:42:44</MDI>
    <MDI key="EXIF_DateTimeOriginal">2014:02:25 13:42:44</MDI>
    <MDI key="EXIF_DigitalZoomRatio">(1)</MDI>
    <MDI key="EXIF_ExifVersion">0220</MDI>
    <MDI key="EXIF_ExposureBiasValue">(0)</MDI>
    <MDI key="EXIF_ExposureMode">0</MDI>
    <MDI key="EXIF_ExposureTime">(0.0166667)</MDI>
    <MDI key="EXIF_FileSource">0x3</MDI>
    <MDI key="EXIF_Flash">88</MDI>
    <MDI key="EXIF_FlashpixVersion">0100</MDI>
    <MDI key="EXIF_FNumber">(2.6)</MDI>
    <MDI key="EXIF_FocalLength">(5.8)</MDI>
    <MDI key="EXIF_FocalPlaneResolutionUnit">2</MDI>
    <MDI key="EXIF_FocalPlaneXResolution">(12515.6)</MDI>
    <MDI key="EXIF_FocalPlaneYResolution">(12497)</MDI>
    <MDI key="EXIF_Interoperability_Index">R98</MDI>
    <MDI key="EXIF_Interoperability_Version">0x30 0x31 0x30 0x30</MDI>
    <MDI key="EXIF_Make">Canon</MDI>
    <MDI key="EXIF_MaxApertureValue">(2.75)</MDI>
    <MDI key="EXIF_MeteringMode">5</MDI>
    <MDI key="EXIF_Model">Canon PowerShot A540</MDI>
    <MDI key="EXIF_Orientation">1</MDI>
    <MDI key="EXIF_PixelXDimension">2112</MDI>
    <MDI key="EXIF_PixelYDimension">2816</MDI>
    <MDI key="EXIF_Related_Image_Length">2112</MDI>
    <MDI key="EXIF_Related_Image_Width">2816</MDI>
    <MDI key="EXIF_ResolutionUnit">2</MDI>
    <MDI key="EXIF_SceneCaptureType">0</MDI>
    <MDI key="EXIF_SensingMethod">2</MDI>
    <MDI key="EXIF_ShutterSpeedValue">(5.90625)</MDI>
    <MDI key="EXIF_Software">PhotoScape</MDI>
    <MDI key="EXIF_WhiteBalance">0</MDI>
    <MDI key="EXIF_XResolution">(180)</MDI>
    <MDI key="EXIF_YCbCrPositioning">1</MDI>
    <MDI key="EXIF_YResolution">(180)</MDI>
  </Metadata>
</PAMDataset>
