<PAMDataset>
  <SRS dataAxisToSRSAxisMapping="2,1">GEOGCS["WGS 84",DATUM["WGS_1984",SPHEROID["WGS 84",6378137,298.257223563,AUTHORITY["EPSG","7030"]],AUTHORITY["EPSG","6326"]],PRIMEM["Greenwich",0],UNIT["degree",0.0174532925199433,AUTHORITY["EPSG","9122"]],AXIS["Latitude",NORTH],AXIS["Longitude",EAST],AUTHORITY["EPSG","4326"]]</SRS>
  <GeoTransform>  1.0373759629650383e+01,  3.1828068841672171e-05,  0.0000000000000000e+00,  5.9901414181286881e+01,  0.0000000000000000e+00, -3.1828068841672171e-05</GeoTransform>
  <Metadata domain="IMAGE_STRUCTURE">
    <MDI key="INTERLEAVE">PIXEL</MDI>
  </Metadata>
  <Metadata>
    <MDI key="AREA_OR_POINT">Area</MDI>
    <MDI key="EXIF_BitsPerSample">8 8 8</MDI>
    <MDI key="EXIF_Compression">5</MDI>
    <MDI key="EXIF_DateTime">2014:09:24 11:33:14</MDI>
    <MDI key="EXIF_Orientation">1</MDI>
    <MDI key="EXIF_PhotometricInterpretation">2</MDI>
    <MDI key="EXIF_PlanarConfiguration">1</MDI>
    <MDI key="EXIF_ResolutionUnit">2</MDI>
    <MDI key="EXIF_RowsPerStrip">5</MDI>
    <MDI key="EXIF_SamplesPerPixel">3</MDI>
    <MDI key="EXIF_Software">Adobe Photoshop CS3 Windows</MDI>
    <MDI key="EXIF_StripByteCounts">156522 146587 130336 123684 121973 120903 119896 118864 118612 118132 117946 117728 117494 117643 117442 117443 117146 117215 116950 116918 116827 116807 117005 116629 116450 116281 116099 115771 115287 115097 115002 115213 115324 115092 114737 115071 115060 114793 114588 115158 115121 115258 115504 115027 114659 114634 114347 114484 114380 114247 114300 114134 114310 114267 113989 114084 113947 113493 113491 113425 113678 113380 113101 112868 112618 112703 112184 112621 112414 111692 111622 112262 112535 113903 113185 113423 114182 113027 113860 115176 115250 114700 113779 113589 113293 114239 113594 114434 110269 109560 109106 109850 109491 109584 108971 108459 108141 108096 108024 109287 108684 108879 109177 108552 108885 107998 108129 109194 107923 107641 107764 107856 108820 107628 107817 107946 108153 108109 107466 107568 108085 107398 106395 107583 107680 107848 107020 107400 107997 107764 108076 108006 107922 108096 107929 108073 115752 116686 114297 114038 114547 114007 113414 114233 114388 115189 114976 114692 115088 115053 115193 114543 114132 114606 114224 115127 116371 120001 113272 109940 109982 110843 110042 110236 110770 110519 110678 110828 110878 111899 111211 112079 112601 113755 115825 115712 116497 119693 122337 123342 123410 122747 122648 120797 114615 114722 114395 118811 185784 192869 130713 174369 176143 145166 117178 115138 115100 119073 121760 122439 120932 120140 115101 112933 112960 112984 112901 112978 114379 116005 115785 115940 115697 115588 115852 116312 116440 116651 115482 114665 114483 114507 114729 115503 120617 180535 200935 160712 161192 166495 209684 173801 192350 198916 161829 192293 231742 214615 213122 208304 201498 203332 208733 211011 208330 207913 202695 209810 213484 211262 206562 204780 207770 211503 208676 205209 203815 205681 209629 210565 207295 206459 209803 219974 222139 177767 166962 211614 180322 176327 168550 217529 140355 119468 118769 123482 138514 139303 133264 131941 132648 134902 135454 133948 132070 131765 132573 137602 132264 121229 124661 145211 193590 236509 202645 200813 204493 207297 207210 205164 205026 206675 206848 207737 208229 209819 211181 210371 209444 210050 211504 210959 210620 210175 211267 211383 210889 209591 209579 210248 210448 211418 211040 211652 211053 211483 211818 211883 211331 209945 210918 210359 209905 209710 211740 210082 212001 212502 211337 210620 208696 207651 206870 207321 205288 206059 206065 205896 206109 206799 209575 214192 208768 206910 208007 207914 210238 210110 210154 208133 210115 211567 210988 212068 210491 210428 209693 211001 211432 210512 211347 212330 211807 211974 212126 211633 211494 210482 211734 211633 210413 209471 210011 211314 212706 212268 212788 214114 212697 211865 211073 212396 212495 212220 211376 212471 211873 214255 215074 213778 213619 212470 215209 214570 216034 215096 215915 215801 214031 215549 218604 215846 215054 213485 212574 211803 212185 211641 210679 211336 211847 213940 213623 213484 213457 212488 210622 211113 211774 211932 212163 211864 211982 212357 212731 213496 213994 214325 213652 214762 215254 214280 215054 215333 216436 216886 216403 216080 215539 217397 218549 218834 218781 220223 220944 219059 220193 218676 217788 218350 218384 218709 219002 218311 218327 218634 219071 218333 221055 223056 218522 217602 217895 218236 217936 217999 217265 217152 218622 220490 219387 220187 220646 219774 220740 221175 220799 218909 217486 218309 217492 216097 215726 215716 215692 215923 214675 214604 215575 215528 214220 213012 213001 213709 212236 212984 212792 212469 212262 212172 213781 212887 211304 210380 211818 212143 212041 210873 211399 211682 211364 211442 210178 209267 209326 209866 208964 209767 209915 210915 211403 211057 211436 210865 210948 210997 211292 210901 210683 209851 210190 210016 209060 209971 211291 211684 211409 211969 211458 212869 213068 213130 213865 214673 215092 215293 215588 216737 215278 215174 213436 211363 211573 213208 211487 211758 213200 211924 210589 209447 210671 211556 210280 211298 212264 210928 211051 211980 212056 212132 211022 211619 211508 211262 211546 211156 210122 209831 210032 210611 211159 210256 210106 209191 210293 210937 209722 209969 210433 209803 210731 210646 210920 210358 210254 211089 211692 211622 211623 210122 210214 211216 211975 211207 210766 212235 213016 212962 210706 211351 212181 210961 210238 209939 209516 209218 210197 210422 210106 210182 209144 209525 208598 207335 207125 207071 206952 206218 206945 206503 204843 203790 205003 204993 205114 206591 206814 205726 205691 206215 205883 204852 204655 205240 205207 205174 204496 206039 204853 204315 204721 204952 205660 205898 204646 204678 203436 202924 202909 203088 203529 202833 203818 204360 203643 204277 203013 204702 203757 203592 203623 204706 204768 205203 205189 205554 206784 206531 206782 206672 206602 206069 206696 208036 207386 207046 206606 206204 205905 206862 206899 206084 205864 206934 206273 205297 205848 206388 206230 206188 206648 204847 203851 204867 206063 205005 204507 204973 204504 204270 203043 203923 204138 204792 204148 203995 204528 205176 205033 204022 205360 205195 205306 205023 205159 205029 204805 204946 205221 205913 205224 205700 204895 204874 204331 204438 204064 204820 205760 206231 206692 205464 206620 206123 206711 206520 206630 205562 205146 205418 206025 206837 206134 206089 205357 206120 205113 205192 205315 206260 205095 206201 204115 202822 202510 201828 200973 199600 199803 199098 199357 199881 199852 200596 200952 199450 200115 202271 202474 201789 201644 200816 199770 200180 200072 199845 201219 201320 200271 201052 200373 201553 201877 200861 202103 201143 199339 199315 199309 199360 199164 199762 200335 200562 200049 201745 202020 201842 201751 200628 201271 201707 201892 201921 201480 201083 199915 199342 200530 199764 199770 199653 200230 200234 198576 198852 198309 198996 198966 199774 199075 199972 199723 200134 201583 200250 200200 199458 199956 199269 199590 199645 199927 198340 198147 197935 196451 196613 197203 196407 195913 196642 194186 194130 195275 193743 192702 191652 191541 190949 192651 191907 192054 193446 193274 193100 191114 191113 191918 192054 191813 191922 190259 190857 189986 191498 190516 189912 190123 189525 188777 188781 189090 188994 188801 188231 188201 188846 188106 189261 186671 185927 186383 186294 186033 187683 188529 187959 186936 187779 187719 186615 187742 188681 188655 189419 188759 189864 191056 191116 189559 190728 190435 190346 189977 189651 189092 188925 186716 186879 188262 188823 189181 190355 191700 192581 193992 195328 194664 196011 196630 195099 195238 197065 196136 195119 196656 196804 196798 196855 196447 195832 194942 194118 195128 195288 198277 198283 196884 197479 198622 199161 198892 198085 196598 195477 193788 193856 192798 191883 193728 193128 192962 194184 195215 196250 196106 196415 197224 197095 194357 195979 195592 195858 195242 195534 195524 196443 196408 195333 194988 196345 196296 194742 193949 193766 194571 194103 193212 194877 194417 194468 194016 194384 193914 194627 193953 193758 194736 195751 195920 195780 195742 196336 196050 193905 194052 192390 192803 193776 194141 193212 195210 196429 197953 198820 198409 198109 198312 198756 198367 197853 197698 196578 195935 193295 194078 193667 194240 193779 194502 193703 193395 193565 194231 194949 195981 195655 195959 197908 197292 197422 197493 197964 196215 195268 196993 197733 195669 196565 196131 195781 197173 196700 196257 195578 196293 197371 194240 195575 195612 195600 196184 195152 193509 192684 191783 191422 191696 192017 193332 193556 193418 194613 195654 195112 194051 194783 195212 195629 193799 192821 193554 193068 193475 193116 193328 192956 192315 192362 193098 192338 191718 191757 191301 191056 191243 191102 190409 190167 190758 191032 189899 189378 189881 190179 188975 188961 187548 189092 188975 189657 188630 189826 190060 188076 188363 188703 188964 188844 187967 188388 187502 187025 188541 189620 189176 189666 189036 188778 188114 186738 186089 186076 186648 186590 185544 185636 186558 184669 183646 184537 185244 184754 185872 187043 186218 187014 185736 185218 186366 185935 187253 186555 185885 187017 185874 185156 185605 187391 187448 189625 189914 190183 190020 190387 191362 191600 189439 189111 189068 189355 188673 189706 190091 190351 190262 190545 190348 190445 189767 188625 188690 188997 187320 186201 187133 185324 184511 186257 184873 185061 183781 183211 183449 184064 184686 184721 184441 187629 188874 187425 187247 187353 187979 186926 185214 186399 185106 185557 184823 183440 183100 183857 183505 182693 182815 183392 183076 182177 182920 182825 182548 182564 180318 179018 179486 179862 180778 180685 181250 182432 180526 180146 181436 181292 178960 177524 176747 176725 176734 176567 175192 174455 174184 172693 172998 173812 172927 173297 172372 173441 173535 173326 173805 173541 174970 175414 175723 177004 176164 175586 175708 175619 176576 176980 176678 176812 177656 179228 179186 179074 179692 179912 180387 180248 179090 179467 178783 178512 179214 178808 176384 177061 176686 177166 179974 180934 181523 180513 181120 178776 176821 177109 177050 175853 177311 176753 176696 176713 178526 177671 177239 178307 178550 177761 177173 176675 176464 175934 176120 175885 175186 176287 177059 177448 177683 177095 176986 176218 176036 176813 176461 176321 176330 175880 174342 174501 174904 174948 174681 174888 176419 176126 175603 175954 176614 175924 174963 174919 173678 173933 172774 174499 173763 173164 172593 172645 172633 172483 172389 172603 172807 173418 174277 173705 173003 172876 172431 172425 172402 173366 174378 173381 173673 174533 175846 176729 176845 176572 178625 178228 179148 178587 178255 178052 177944 177500 176648 176053 177400 176971 176630 176990 177217 176992 177107 176422 177578 176839 176351 177059 175892 175387 175088 174844 176078 174720 176623 178064 177430 177437 178903 179500 178611 177491 177298 177365 176146 177322 178115 178106 177029 177790 177929 178295 178294 178472 178022 179862 179183 179866 180033 180581 179020 177514 178145 179384 179695 178891 179372 178298 178640 178996 178820 179302 179805 179639 179818 178545 178694 179079 179220 179699 179354 179862 179497 178678 179582 178789 178734 179305 178925 178984 178750 178986 179096 179171 178018 179504 178906 179492 179186 179256 178710 178735 179066 179354 178926 179338 179529 179266 179427 179555 179393 179756 178953 179201 178211 179299 181087 179681 180482 179908 180007 179079 179910 178773 179349 178234 179035 178331 178840 178378 178714 179029 179039 178121 179683 178870 178417 178414 178157 179327 178535 179819 180373 180226 179716 179215 179840 179332 179277 178327 179588 179078 179014 179706 181154 181415 181355 181285 180395 180005 179906 180293 180148 180450 180626 180297 181085 180277 180603 179570 181087 180796 180548 181355 181435 182168 181286 182258 180922 179955 180159 181501 179694 178888 179461 179540 179743 180566 181604 181708 181715 181475 180293 180886 180269 178030 176150 176072 176119 176294 175963 176563 176708 175637 175628 177080 176560 177121 176839 176749 175904 175501 176630 176342 175834 175555 175717 175870 176629 176501 176728 176315 175727 176168 176069 176609 174566 174776 175541 175499 175050 174800 175295 174302 176182 176228 176573 176435 176162 176764 178446 178151 178171 177137 177602 178521 176306 177190 177766 176674 176816 176632 176549 176171 176674 176005 176914 176212 176900 176518 175828 176477 175658 176453 174237 175931 178187 178021 178731 181276 180764 178452 179054 179698 177031 173527 173969 174731 175759 175498 175112 175648 174441 173913 174699 174438 173250 174501 174266 174556 173593 174211 175227 173416 174790 174142 174244 174298 174405 175595 174992 175175 175864 174059 174565 175729 175781 175907 174852 174301 174838 173573 173862 174657 174995 174471 175769 175963 177179 175886 176657 176939 176213 176915 176287 176729 177731 177667 177044 177109 176833 177046 175652 175864 176762 176846 177130 176452 178039 178865 179614 179716 179976 181531 182584 183460 181916 183032 183359 183649 182069 182524 183148 182594 182501 181061 180094 180794 181661 182195 182228 181793 181735 180589 180523 181271 180568 182452 182516 180649 181898 182624 182959 182831 184406 185898 183968 183662 184487 183476 183659 181376 182462 181030 180632 180249 180344 179731 179013 179259 178904 179103 179615 180366 179441 178237 178046 178739 178551 177662 177730 178953 178340 178351 179128 180467 179884 180811 180363 179455 178956 178634 179214 180330 180318 180370 179775 181300 180472 179929 179867 179228 179283 178605 179053 178333 178057 178265 177496 178679 178715 178739 179439 180351 181153 182360 182359 182114 181346 181907 182282 180610 181495 181859 181937 182233 180534 179716 179807 179742 179818 179551 180069 180319 179606 179727 178916 178222 177854 177443 178956 178063 177905 177886 177728 178253 177323 177863 177683 178168 178073 178282 178603 179808 178870 177890 178524 178889 179079 179134 178654 179266 178511 177490 178800 177179 177181 177692 177827 177077 175685 176794 177193 176672 177055 177430 176627 175880 176234 176782 179178 179787 178328 177497 178133 179508 178776 178404 178288 178517 178310 178995 178733 178744 178345 177874 176797 177271 177968 177127 177514 176354 178112 177635 177244 177550 176791 176974 177250 177199 178220 178244 176834 176000 177172 177001 177707 177491 177694 177883 178045 177625 177553 177478 177287 175190 175556 175876 174952 175035 175777 175601 175269 176426 177029 176992 176992 178150 177485 177319 179904 178064 178405 177302 178159 179036 178798 177103 177230 178040 177977 177811 177472 178480 177368 177989 177905 177478 178274 178264 178279 177772 178294 177898 178162 179424 179096 180218 180211 179720 180556 179224 178913 180267 179360 179863 178819 180923 180267 180207 180866 181336 182462 181717 181535 181267 183233 182413 181604 181994 181144 182875 182699 183106 182344 181253 180634 181987 181438 180893 181412 180911 182318 182405 183166 182597 183245 183548 182930 183472 182735 183160 183607 184037 182759 183014 183281 183256 182492 182672 182024 182900 183547 182696 184044 185600 186245 184988 184529 185511 186006 185391 186004 186747 187289 187523 186417 187583 187106 188057 187313 188157 185665 185897 185099 185046 186291 185204 184336 183889 185725 185102 184747 186468 185698 186974 186594 186251 188195 187784 187184 188097 187845 188313 188808 188619 188913 188310 188888 189186 189123 188834 188696 188865 188765 188736 188037 188603 188813 189069 189030 188618 189380 188325 188684 187727 187544 187728 187593 187202 187766 187025 188285 187713 187755 188355 187568 188835 188058 189104 189591 188585 188661 188679 188402 188124 188349 187482 187250 186105 186758 186737 187485 188163 186632 187344 187733 187061 187454 188315 186081 185593 183442 183830 182890 182650 182564 182269 182824 183134 183482 181754 181670 182122 182566 183419 182740 183040 182054 182726 181906 182171 182878 183059 182026 182044 181618 181414 180391 179633 181601 180447 181472 180491 182275 182323 181478 181748 181073 181040 180368 180534 178157 179409 179191 179155 178585 180231 178880 178076 179100 178232 179258 177965 179161 178532 179019 179393 179452 178217 178796 180476 181214 180766 179864 180964 181585 181388 181892 182213 182308 181462 182626 181978 182722 182509 181502 181529 182266 181346 180460 180931 180796 181970 181756 182093 182800 183455 183170 184023 184564 182920 182492 182314 182962 182218 182570 182431 182674 182414 181892 182251 181933 182825 183184 183400 181945 182477 183433 183589 184518 183391 184352 184222 184373 183494 182576 182180 183650 183142 182084 183356 183158 184447 184521 184413 183140 183067 182912 183464 183863 184054 185501 185539 185321 185988 187013 185981 183731 182848 183625 183470 184486 184181 182597 185038 184010 183805 183673 182945 182834 183509 183131 182941 183529 182687 182788 182525 183811 186653 186303 187013 187119 186153 186090 183954 182635 183025 182272 182633 182464 183506 183166 181543 182581 182767 184071 184286 184599 184837 183838 183263 183448 183316 183245 183743 183178 182722 183109 183281 183530 183877 183641 184323 184032 184276 184923 184734 183839 183197 183356 182312 182378 183947 182842 183122 182980 182131 181385 182321 181822 181481 182035 182144 182536 182299 184382 186011 186416 185207 185105 185526 184376 184712 184076 183608 182705 183565 181126 182120 182638 183094 182092 182162 182647 182345 182920 183058 183155 183479 183950 183599 183877 183892 184018 185038 182879 182534 182159 182528 182084 182644 182872 182107 181409 182270 181706 181435 182438 182035 181906 183676 183007 183214 185579 186107 185171 185603 184517 184669 185728 187203 186707 186015 186258 186004 185905 186462 186254 184864 186479 186966 188474 187533 188330 188157 186701 189665 189080 189324 189029 188927 189098 187790 187944 187535 189366 189402 189509 188976 188883 188639 188855 188616 188229 188285 187889 187811 188544 187647 186827 185737 185956 194061 220451 197127 160191 149804 136817 122294 119149 118580 120661 117697 117616 118310 118318 117955 116930 117748 118018 118865 119802 132348 141190 155636 156104 170244 174746 183296 172120 178165 198948 210972 207156 206681 204861 197505 200728 201037 199351 191937 195239 199810 201272 200220 200653 199222 202276 204436 203508 202148 198792 196617 200002 197716 194908 193355 199594 202741 204126 193841 191355 195150 197143 182011 186288 178669 176836 169100 190266 160445 148192 134491 134220 130548 115211 112952 111767 111163 111272 110262 111988 113857 116050 118001 122390 126936 131045 133909 135627 131787 133227 128735 130349 125328 123821 120548 116507 109880 109949 112267 115386 113817 117463 125084 125555 127584 131601 127646 122450 120935 116489 111574 110231 111172 115834 117320 116524 121481 123710 120259 117187 118379 110248 107583 108842 109126 109052 109476 114059 116306 114994 121463 127050 122862 127473 131903 128480 123021 123486 122211 114870 113039 116869 121442 121341 124815 128109 129231 121946 126538 125874 123692 123312 123873 117034 112847 113470 116455 121308 122630 124110 126291 124805 131915 131357 129027 126518 125416 119378 115738 115963 115314 115807 117823 121430 123594 123437 123647 121916 121799 120332 120437 120669 120455 121111 120291 120650 120412 120536 121499 120665 121028 120981 120863 120966 121093 121283 121836 120389 117149 115774 114507 115012 114516 114132 114905 114539 114825 114760 114697 114858 114382 114718 116389 116852 117412 118622 120382 120467 120841 120668 120704 120889 120477 120180 120917 120864 121346 121578 121439 121740 121773 120243 118465 118516 118322 118667 118252 118165 118543 118604 118564 119637 121368 126574 128957 129227 127308 124971 126051 126208 122384 120815 119571 119592 119233 118741 118891 119121 118963 119163 119152 71970</MDI>
