<PAMDataset>
  <SRS dataAxisToSRSAxisMapping="2,1">GEOGCS["WGS 84",DATUM["WGS_1984",SPHEROID["WGS 84",6378137,298.257223563,AUTHORITY["EPSG","7030"]],AUTHORITY["EPSG","6326"]],PRIMEM["Greenwich",0],UNIT["degree",0.0174532925199433,AUTHORITY["EPSG","9122"]],AXIS["Latitude",NORTH],AXIS["Longitude",EAST],AUTHORITY["EPSG","4326"]]</SRS>
  <GeoTransform>  1.0622140123594761e+01,  3.1697622310631064e-05,  0.0000000000000000e+00,  5.9903284735881527e+01,  0.0000000000000000e+00, -3.1697622310631064e-05</GeoTransform>
  <Metadata domain="IMAGE_STRUCTURE">
    <MDI key="INTERLEAVE">PIXEL</MDI>
  </Metadata>
  <Metadata>
    <MDI key="AREA_OR_POINT">Area</MDI>
    <MDI key="EXIF_BitsPerSample">8 8 8</MDI>
    <MDI key="EXIF_Compression">5</MDI>
    <MDI key="EXIF_DateTime">2014:09:24 11:35:16</MDI>
    <MDI key="EXIF_Orientation">1</MDI>
    <MDI key="EXIF_PhotometricInterpretation">2</MDI>
    <MDI key="EXIF_PlanarConfiguration">1</MDI>
    <MDI key="EXIF_ResolutionUnit">2</MDI>
    <MDI key="EXIF_RowsPerStrip">5</MDI>
    <MDI key="EXIF_SamplesPerPixel">3</MDI>
    <MDI key="EXIF_Software">Adobe Photoshop CS3 Windows</MDI>
    <MDI key="EXIF_StripByteCounts">94377 93491 93460 92616 93816 94001 94515 95400 94509 95448 95729 94415 94176 93970 93570 92457 90636 91032 90069 89196 89624 89018 89780 89141 89429 89307 88042 88519 88612 87901 88062 87665 87330 89057 88131 88534 87999 88167 88860 87055 87672 88506 87340 87894 88017 88549 88889 88059 89139 89250 89081 89148 88919 91808 91028 89279 88627 88931 88270 89844 89393 90204 88631 86511 85891 85022 86754 86705 82064 81244 80600 80141 81016 80369 81611 81165 79759 80567 80324 79606 79694 80200 80083 79775 80201 80335 80168 80138 79708 78263 76910 76066 76356 77047 76661 75703 74566 75286 75686 75198 74611 74308 74106 73878 73030 73941 73450 73282 73602 73503 74190 73576 73374 73980 74118 74022 73813 74185 76975 82014 81837 81162 80711 80552 80638 79889 80407 80116 80011 80627 80600 80068 80515 79870 79792 79579 79931 80300 79751 80651 81222 79253 73765 72457 72468 72236 71596 72338 71881 73143 73608 74029 75100 75373 75928 76781 76463 74679 73723 72130 72685 74748 83650 93939 93253 96744 108811 117748 109690 100638 98100 90465 87318 95409 100057 102880 111586 111011 111854 100570 86468 79748 74605 71793 72518 75249 77074 77168 77391 76731 73458 73149 74277 77030 78535 78877 80021 80591 80533 80945 83343 93438 100473 102012 104929 111862 116638 119802 124910 134584 138565 144689 155748 167756 173737 182284 191051 192389 192077 201609 201342 195777 205069 208268 214048 214684 211903 216885 217411 217173 217642 217870 218423 217649 217143 217257 217349 217356 217998 217683 218398 218152 218789 216064 210954 210529 207451 205138 199437 205523 200588 193967 188450 179537 170950 155279 154238 145391 140307 139695 128906 122364 116092 99100 91781 87753 90191 93009 92642 91133 89375 100971 111854 119411 130608 144814 155381 162066 168650 169757 174633 180259 187323 197277 201546 189734 190065 188786 187526 189626 190590 191577 193001 191446 190729 190152 190017 190759 192227 193836 192764 191406 192431 189726 189669 189045 187985 186602 188558 187590 189939 190072 190721 191739 191727 192227 193023 193371 192539 192213 191612 193236 192750 193911 192498 192863 189472 189976 189466 188234 187713 189062 188007 188859 188721 191417 188459 188453 190659 188951 187848 187652 187889 190856 190577 189885 190484 191252 191132 190233 189964 189387 188244 185501 185897 186230 187287 188282 187911 190421 189695 190453 190098 188702 188804 189605 189807 190398 189780 189896 189691 189310 189751 189560 189945 190004 189901 188231 188825 188390 188873 189146 187679 191066 190682 191199 191026 190094 189767 190335 189749 187670 187062 187397 191212 188364 182411 181165 180850 179124 179165 181154 181757 180862 181873 182558 182824 183362 183521 183874 180352 180946 180248 180269 179901 181103 181217 181547 181715 182021 182375 180567 179933 178651 177904 177716 178267 177268 179422 177103 177851 176483 177292 176357 176969 177896 178695 177665 177905 177827 178690 177800 177964 176212 176767 176926 177838 176365 175970 175621 175352 176975 176686 177500 178036 178803 178865 178157 179296 180424 179180 179321 179306 178926 179038 177623 178545 179384 176291 176327 176453 176051 176744 175987 176030 175906 175633 176006 175957 175361 175738 175559 176261 176465 176512 178534 178070 177013 176522 176371 175640 175903 175856 174816 174567 177181 177041 177461 176938 176294 174448 172263 172233 174306 174694 175607 174747 175441 174900 174754 175943 176635 177229 179124 176155 177994 179870 181304 182456 183628 183872 183614 181945 180252 180150 179035 178006 178250 176882 174522 173060 173340 173377 174658 176293 176962 177481 176192 175807 175381 175571 175462 175366 174659 175160 176353 176543 177793 177425 178025 177131 176261 176018 176590 178597 178746 178703 179750 180850 182543 181447 180233 179194 178489 179025 179331 177904 177793 177908 178045 177586 176581 177674 178042 178261 178730 179919 181781 183055 181751 179962 182156 180772 180182 181130 181168 181840 178631 178247 180905 180579 180429 179930 180299 180285 180434 179108 179650 177982 177931 177673 177361 178784 179393 180040 179020 179615 179626 180478 182116 182405 183046 182948 182915 182578 181703 182429 181286 181637 182981 182738 180983 180893 180574 182920 182843 183239 183301 183251 183403 184552 182305 182993 183047 184102 184404 184528 183701 183163 183148 185143 188688 190145 189895 189511 190571 190247 187811 185471 186869 187221 187688 188457 188027 188463 190379 189985 189119 189536 189855 191363 191622 190832 189807 189516 190204 192302 191419 190698 190544 193016 196344 195702 193127 193103 193673 193227 191996 190491 190832 190141 189609 188651 186030 189111 190072 189272 186795 189289 189614 188928 188882 189640 189117 189032 188984 189807 188507 185621 186387 188952 188582 186263 187601 187013 185776 186426 186770 187251 186606 186578 187367 185374 185031 185017 183942 183940 183577 183211 184022 182960 182789 183250 184594 184686 185720 185676 184534 185728 183523 184337 184196 185127 185018 183128 184042 185392 184544 184313 183028 182810 184386 185728 186497 185346 185504 185071 186374 185473 185253 185123 185460 186070 186204 185735 185487 185385 187371 187524 187346 188840 188745 189517 188390 190215 191039 191832 191654 192849 192603 193071 193706 193101 192692 193850 194436 193602 194607 195688 195847 194650 192941 193085 193082 192891 194448 193944 193598 192426 191151 191970 193407 193503 193251 191440 191102 191256 191582 192044 193562 194568 195578 193994 195219 195505 196461 197427 196884 195434 196488 196197 195577 194376 192555 192975 192459 192839 191883 190977 193073 192908 193461 193874 193431 194114 194433 194342 195290 194877 195235 195563 196890 197476 196501 195225 195238 195872 196494 195273 195353 195960 195534 195678 196242 195347 194141 195139 195348 195853 194636 195704 197071 197209 197143 197800 197592 195751 194108 192698 193130 192597 192687 192375 192972 192495 192714 193365 192546 191987 191384 190589 190577 190417 190777 190071 189826 190938 191223 190984 190951 190885 190198 190278 191034 190110 189950 188738 187485 189679 187838 188636 189283 190069 189696 189015 187436 185820 185491 185072 184528 183776 183292 183724 185698 186386 185384 185079 185456 185590 186570 186143 187509 187163 185816 184608 186048 186803 183727 183470 182254 182419 182999 181813 183724 182689 181580 181153 181076 181694 180500 180923 180418 181130 181208 182716 182849 182798 183320 182056 183182 182437 183403 181880 183592 182561 183828 184483 184294 184038 184277 184956 185484 186021 185465 185901 185658 185802 186851 185700 184131 184873 185038 183625 183388 183401 183725 185079 185300 184141 185988 184734 184079 185647 185322 185451 185780 186510 187008 187007 184853 183467 183535 184258 183718 182222 182656 183022 182135 181864 182038 181984 181589 182411 181907 183263 184309 183188 183505 183592 184363 183855 184199 184009 183271 182792 183286 182938 181997 182383 182653 183185 182402 182821 182102 182792 182797 182129 182687 182486 182498 181436 181993 181081 181834 182501 183455 183206 182449 182392 183515 183334 183503 183350 183470 183400 184438 183935 185875 184261 185643 185120 185878 185326 188259 188142 189113 188720 188451 187959 184841 185819 184119 183391 183404 184133 183086 183664 184406 186683 186698 188094 187161 185123 185582 184671 184072 182717 182210 182483 183173 182858 183350 183616 184348 183515 183521 184129 184736 184041 185025 184418 185406 184577 184357 185106 188144 188456 187707 188808 187949 185827 186674 188282 187335 188931 187739 187524 187694 188079 188097 187199 187883 189929 189637 188733 189487 188196 188426 187599 186623 185406 184114 183923 184864 183817 183226 182996 182002 182999 182057 181717 183058 184951 184406 183712 182887 183059 182639 183313 183632 184464 184721 184669 182905 182539 182501 182867 181171 182404 182018 182642 182828 182617 183398 183655 183685 183548 183425 182191 182494 183605 184427 183236 184061 183749 183310 182753 183049 182920 183112 182860 182324 182837 183481 183175 182536 182768 182662 182848 182336 182564 182266 181922 179430 179406 178776 179273 179450 180115 179349 179206 179314 179310 179233 179802 182065 182374 182624 182810 183122 182660 181093 180086 180715 180146 181991 181259 181589 182617 183121 182867 180392 181133 180904 181276 182690 181373 179752 178934 178498 180185 182198 182069 182488 183098 183500 183013 182524 181363 182068 181715 182468 180380 180989 182221 182201 180189 179547 180156 180079 181690 181468 182938 182776 183391 183688 183589 182287 182051 183110 182983 183200 183737 183292 183352 183592 184278 184394 184409 186657 186324 183323 184391 184228 184372 184346 185351 185916 186249 185608 185277 184963 186204 185355 184994 183094 184261 185486 186264 184376 187086 188591 184868 185361 186542 187550 184394 184392 184846 186195 185381 186506 185285 186849 185692 187176 186062 185366 186692 186861 188772 188841 188474 188630 189039 189186 189168 189021 188052 188676 188828 189286 189712 189730 189966 189465 189519 189324 189382 189038 188645 188940 188882 189427 185577 186818 186383 187481 188925 187694 189020 187952 186476 189243 189369 189462 189347 189408 189098 186282 187373 186752 189514 189791 189421 188768 187607 188631 188330 187772 187245 186638 184281 182674 183302 182269 182911 182146 182089 181597 181300 182522 182146 179849 180607 181882 183005 183511 183382 184829 183112 183269 185438 184703 186866 187373 189467 189467 189762 190494 190898 190383 189789 190469 190324 190772 191516 191323 191077 191568 191522 191089 190070 190497 190670 191076 191158 190446 190594 190835 189965 190051 189635 190160 190110 190751 192014 191061 191573 192405 190297 190869 190839 190603 190929 190692 191003 190157 190344 190170 189805 190423 189719 190187 189784 190644 189612 189761 189975 189915 189835 189779 189294 189885 189143 189114 189761 189347 188984 188706 188739 189935 190011 189792 189932 189864 190209 190196 191087 191685 190854 191666 190781 190623 190190 190659 190720 190183 190462 189954 189897 189810 189594 189556 189540 189952 189899 189866 190016 190421 189946 189556 189530 189760 190123 189465 189471 190417 190691 190439 189941 189078 189989 190189 190374 189952 190733 190082 189797 190196 190220 189409 188073 189416 187196 189156 189789 189711 189717 189849 189789 190865 190267 190911 191056 191738 190973 190264 188879 189625 190534 191906 191568 192414 192144 193352 193125 195237 193709 193511 192176 192435 192300 193952 192758 192047 192110 192840 192800 191241 192099 193541 192966 192510 192159 191661 192449 191364 193241 192359 190988 190820 191182 190460 191352 191047 191916 192624 191463 193280 191835 190469 190773 191408 191469 190984 191089 192446 192237 193545 194412 196209 196439 196377 193368 192503 192609 193332 194090 194565 196652 196333 196875 196950 197503 196309 197148 197049 196611 197098 196677 196298 196121 196707 197458 198964 199452 198489 199173 198468 198786 198405 198531 196696 197020 195955 196568 195585 195915 195693 195970 195527 196602 197175 196573 198655 199318 199264 199401 199681 199588 199932 198079 199443 198987 199248 200142 200231 198765 199194 200220 202476 199299 199489 199182 200795 199389 199054 198405 198966 197719 197440 198222 197836 197841 197274 197514 197539 197175 196879 197295 197104 196058 196271 195378 196447 197877 198031 196315 195754 196462 195975 196140 195940 195671 196847 196977 196759 196166 196050 196157 195443 197406 195666 196034 196476 197232 196930 196862 196364 197188 197370 196479 196300 197104 196968 197307 197280 196884 196996 198178 198751 199521 199947 198885 198189 199656 200628 200357 199384 200691 200761 201974 202371 202332 202368 200071 198402 198787 198675 197067 197667 198532 199305 198640 199887 199137 199587 199092 198315 197853 197022 197482 198459 199771 201932 203352 204595 204729 204537 205122 205408 204589 203007 203856 203829 204835 205243 204046 203023 204960 204580 206415 205006 205571 205278 205582 205182 206186 205165 204649 205302 205306 205482 205207 206483 205715 203371 203179 203625 203653 205808 204960 204285 204009 205411 204867 204882 204352 203754 203683 204879 204538 204681 202819 202912 202750 203208 202277 204040 204184 203200 204225 203488 205137 203970 203263 204624 204348 205153 205138 204852 205949 205299 204945 205659 206474 207752 208172 206818 208030 207176 207074 208501 208544 207034 208826 207725 209114 208739 208619 208063 207423 207372 207739 207359 208465 208615 208067 209236 209420 209245 209033 210370 211486 209866 210664 210876 213421 214567 215380 215752 216091 215971 214442 212610 212682 212903 213623 213506 211344 212205 211314 210758 210335 211042 210152 209723 210662 210767 210094 210308 211304 211554 210611 211231 210428 211523 210292 209957 209890 209867 210091 210322 210188 209234 210758 211617 210691 209264 210275 211662 211157 210116 211484 211082 212838 211657 212948 212203 211596 211082 209506 210562 210067 210861 210451 210911 210118 210316 209473 210133 210197 211149 209204 209584 210193 211292 210767 211029 210652 212491 212913 213118 212981 211119 212876 212599 213027 211446 211318 212750 215791 216068 215920 215734 215863 214546 214018 211859 214732 215410 215309 215524 215528 214501 214672 213808 214858 212954 210560 211206 210016 208450 207748 206576 205873 206463 205311 206220 205189 205089 205920 204445 205644 206682 207823 209203 207910 207478 206754 207114 207111 208667 208564 208663 209984 210076 210229 209636 210092 210358 211678 211354 212755 213206 213302 213027 215060 213877 212398 212331 212057 211223 211656 211770 211186 210215 210479 211121 211452 212596 211960 211374 211908 211418 211313 210106 209072 209717 207830 209951 209123 210020 209897 209942 209141 209716 208954 208661 207184 206611 207130 206382 206458 206190 208399 208786 207938 208190 208538 209215 207261 207820 207584 208270 205940 205783 205473 205991 205918 205914 205510 207382 208493 208568 208612 208841 208157 206903 207937 209090 207923 209225 209944 210572 209317 209440 211087 209480 208828 207821 209597 209735 209165 209411 210029 211286 212063 209935 209533 210212 211832 210016 210761 211126 212106 210149 210377 211875 212089 211352 211391 211259 212698 212572 210553 210900 211227 211119 210839 211734 211828 211934 211336 212129 211699 212816 213718 213944 212217 214189 213260 215402 212745 216257 216870 215335 214082 215375 214717 216756 214387 216307 215036 213503 214120 216764 217264 215962 215111 212379 213068 212580 214423 212467 212493 213067 212770 211793 211531 211969 212012 211588 210157 209530 210022 210260 210191 210727 212228 212485 212697 212056 212746 214886 213226 212884 214160 213072 214063 214556 211861 211710 213520 212442 212544 213353 213160 211297 208702 208807 209279 208862 207932 208442 208370 208502 206776 208325 208672 209869 208748 210298 208937 209257 209303 209876 210139 210908 211776 211606 212086 213217 213965 212389 212106 212471 214465 212988 214609 211914 213121 212576 213712 212969 212246 211743 212099 210154 209561 208840 208316 209558 210098 210179 209438 209294 208124 208498 207982 209539 208637 209855 208307 207092 206414 207184 207760 208189 207048 207550 207496 208156 207605 205348 206487 207328 206974 207415 207101 207719 207108 206668 206204 206901 206345 207623 207761 206435 207878 206840 207673 207650 209009 209692 209447 209959 210650 211694 212471 211712 212129 212250 212731 211523 210972 208937 210320 210683 211392 210866 210710 211283 211358 210864 211389 211124 209884 209806 208499 209971 209221 208847 209092 208100 209129 209999 209836 211214 210116 209495 209672 211073 211002 212163 211543 212738 210893 209701 209653 209225 208784 208382 209047 206704 207183 206536 205711 205183 205478 205152 204639 204460 206076 206334 208024 208244 208115 209188 207691 207991 208685 209104 209777 209978 210542 208537 207805 208690 208475 209620 209506 209734 209380 210361 209932 210163 207910 209260 209080 209707 209398 211118 211259 211398 209671 210817 211038 211137 211756 212808 211980 212990 211624 212634 210470 210349 210178 209482 210563 211996 212631 212290 211422 212275 211308 212291 212018 214471 213485 215125 213652 215728 217019 216177 215584 214168 215038 214075 213616 214240 216570 215732 216220 215720 215828 215075 215990 215113 215257 215725 216272 215359 214657 214354 214306 214376 214676 216615 214979 215158 214012 213898 212478 213068 212503 214342 214309 215137 214939 213087 213028 212569 213889 213821 215173 213691 212778 211258 210494 211045 212162 211436 212848 210879 209875 208337 208894 210566 210464 212485 211273 210520 210745 211063 210302 210575 210758 209960 209861 209954 211481 210362 212687 211298 210767 210999 209857 208097 208460 207343 205790 206529 204072 202327 202936 201538 198469 194024 192554 196008 191693 183980 171159 161448 150850 146005 146025 133065 117433 106227 90851 88175 85465 85423 87262 88829 87275 89253 89798 83450 82868 93392 114879 134608 127761 137014 147685 157439 168540 169644 187737 197146 196656 200123 195190 200878 199753 200833 206363 203521 203911 203488 203730 203868 203511 204510 202819 202365 203014 204435 204765 203952 204715 205613 207207 209119 210956 210206 214115 216420 213644 206336 205302 198445 198534 204639 188414 187281 179378 173039 166428 160227 141597 130469 128471 116029 105132 97981 90090 82716 73030 70120 70810 72913 71711 70604 75001 82977 85157 88757 92842 90479 83340 84767 82127 80458 84503 88770 86910 86537 87647 87658 83503 88776 94247 95291 84697 82302 80552 75319 68662 70493 68382 66702 66671 66475 68023 74302 77332 79775 82729 83343 80966 78391 75160 77104 78794 75325 74694 78208 87172 90609 93376 95880 96728 85816 79328 79324 75045 75655 78839 76252 77509 84271 89042 97095 100947 103630 100173 94943 86351 83277 80200 83755 78731 73570 74803 82349 82938 87602 88128 90494 83260 81254 76476 75123 73645 74584 70501 69178 68971 70621 72777 73687 74296 74968 75763 76209 75767 75844 74826 74299 74419 72581 71928 72702 73185 74275 75884 77454 78910 84308 85882 86084 85682 88125 88997 89688 85724 80752 79718 79532 79589 80567 80564 81019 81261 83858 88264 89741 90866 91722 91236 91584 91677 91146 90534 90851 91221 91536 91079 92292 92085 92573 93945 92508 93343 92270 92267 92685 91736 88572 86396 85532 86029 84281 84991 85366 85858 87284 87709 88175 88538 87833 88582 89727 89625 90953 90371 92538 96314 95832 97689 98001 98652 99514 99001 100435 101256 102091 101970 103502 106035 107869 108437 106380 105409 107331 108669 109190 109549 110246 110325 111610 112879 113887 117589 122732 125168 123620 121929 122264 125764 126498 123846 124693 127595 132823 141747 148213 29853</MDI>
