<PAMDataset>
  <SRS dataAxisToSRSAxisMapping="2,1">GEOGCS["WGS 84",DATUM["WGS_1984",SPHEROID["WGS 84",6378137,298.257223563,AUTHORITY["EPSG","7030"]],AUTHORITY["EPSG","6326"]],PRIMEM["Greenwich",0],UNIT["degree",0.0174532925199433,AUTHORITY["EPSG","9122"]],AXIS["Latitude",NORTH],AXIS["Longitude",EAST],AUTHORITY["EPSG","4326"]]</SRS>
  <GeoTransform>  1.0621304579954584e+01,  3.2204619415347612e-05,  0.0000000000000000e+00,  5.9902182792662387e+01,  0.0000000000000000e+00, -3.2204619415347612e-05</GeoTransform>
  <Metadata domain="IMAGE_STRUCTURE">
    <MDI key="INTERLEAVE">PIXEL</MDI>
  </Metadata>
  <Metadata>
    <MDI key="AREA_OR_POINT">Area</MDI>
    <MDI key="EXIF_BitsPerSample">8 8 8</MDI>
    <MDI key="EXIF_Compression">5</MDI>
    <MDI key="EXIF_DateTime">2014:09:24 11:36:37</MDI>
    <MDI key="EXIF_Orientation">1</MDI>
    <MDI key="EXIF_PhotometricInterpretation">2</MDI>
    <MDI key="EXIF_PlanarConfiguration">1</MDI>
    <MDI key="EXIF_ResolutionUnit">2</MDI>
    <MDI key="EXIF_RowsPerStrip">5</MDI>
    <MDI key="EXIF_SamplesPerPixel">3</MDI>
    <MDI key="EXIF_Software">Adobe Photoshop CS3 Windows</MDI>
    <MDI key="EXIF_StripByteCounts">153132 146288 144760 141552 136771 131474 128943 126427 123816 121683 120638 119625 118751 117773 116779 115456 115093 114969 115017 114313 114122 113883 113543 113927 112952 113014 112225 111953 112544 111910 111284 110807 111148 110615 109664 109447 110145 108857 109340 108025 108180 108447 107016 107391 107248 107292 106777 105604 105810 105955 105253 105412 105976 106401 106446 105412 105751 106054 105705 105514 104709 105670 105895 104305 105277 104756 104804 105016 103338 103138 101986 101487 102270 100402 99517 100252 98399 99375 97621 97821 96776 96578 96341 94995 94271 93446 91796 91906 92488 91640 89019 86630 85747 86027 84551 84293 84128 84082 84226 83081 83264 84112 83376 83330 82871 83165 83251 82269 82544 82569 82441 82387 82474 82504 82138 81998 82340 82375 81511 81756 81206 81881 81695 81590 82215 81192 81689 81992 81474 81251 81362 81061 81612 80353 80821 80698 81345 82701 86372 93284 89403 88563 88559 88476 89189 89300 88138 88625 89019 89153 88686 88325 89265 89141 88051 88134 87705 87367 87846 89852 92987 82461 80788 80672 79888 79882 80539 79190 79877 79127 79612 79862 79477 79772 79883 81801 82369 82801 84233 86526 89004 89343 90200 91118 89880 89718 103314 120753 120831 113470 124271 132955 141372 137994 115526 108399 120572 120130 105414 94208 90119 88611 85657 83821 84704 82481 81582 81872 82339 83714 84289 84634 88255 88586 88541 89180 88914 89730 90167 91404 93451 91377 91193 93347 99510 110444 120732 123654 132994 152586 155169 155549 175075 181111 172158 175018 185412 178502 196538 187446 193940 204028 200471 205074 213542 210580 210142 210840 210563 211031 211710 211199 211348 213268 212092 211758 209993 210472 209764 208772 209950 210016 210319 208246 210152 213370 211229 201007 206138 204640 195400 193641 205279 188261 182759 167335 172707 158393 146031 137211 132457 117647 105309 105005 108512 111014 107386 110422 115835 114583 112684 112583 116465 127059 134691 144619 151144 158478 164424 171256 178319 190597 201184 200197 198597 198607 199206 197895 195539 194954 195538 193775 194973 194852 195534 196679 199333 200772 199371 198687 200105 200638 198309 197451 198546 198655 196983 197103 197835 199425 198996 198876 199033 198159 196903 196769 196793 196715 197383 199278 198769 197479 194213 194755 194534 194085 193313 193656 194360 195470 195667 194240 201029 197964 196683 196715 195460 195773 196440 196888 196106 196685 197517 197748 196833 196149 195227 193215 193854 195097 194728 194004 193881 194576 194142 194219 195982 195040 195858 196216 196788 196859 196188 196109 194688 195434 194195 195087 197358 197515 197986 197205 197739 198283 198720 197403 197419 198355 198960 198774 198652 199474 198321 198048 198660 198762 198318 197410 195801 196323 195772 198142 199591 197674 197197 196894 197847 198763 199809 200631 200162 198885 197836 196451 194199 195777 194399 194930 192831 194079 195185 195408 195612 194213 193758 194480 194436 194228 193011 193433 193179 192602 193428 191600 191547 191910 191286 191175 190313 189604 190208 191253 190205 190343 190163 190297 190682 190495 191341 190726 191227 193175 194613 194214 196135 192914 191856 192464 191688 193080 191026 195119 190007 187658 188406 188039 188982 189324 188570 188100 189812 189672 189284 188687 189549 188820 187337 187905 186888 187652 186746 186149 185563 185065 184694 185174 185372 185938 185832 184823 185794 184944 184721 185988 185410 187758 187262 186549 186575 186654 185578 184878 184246 184868 183520 184151 184801 184882 184937 185149 186029 185985 185662 184344 184313 185776 187854 186261 187470 189739 189203 188580 187382 187665 188285 187490 186593 187014 188028 189541 189346 186279 185526 186486 186794 185471 184227 184939 185066 183226 183727 185157 185699 183890 182975 183199 182930 182630 182291 181576 183373 183308 184416 184765 185670 184537 184333 184874 184599 185307 186953 187620 187328 187295 189292 189952 187575 188763 187979 188606 187029 186377 187580 186018 187853 186356 187091 186584 189102 186926 185720 187023 187400 188103 187269 187457 188559 188009 187619 189186 188348 188145 188255 187917 189949 189144 189721 189256 189107 190112 189245 189694 190288 190948 190225 188120 187820 188939 188435 188546 189245 188735 188544 188471 188408 187805 187970 188717 189081 189213 189302 189997 190242 190332 190226 191440 191697 191945 191970 192641 193397 193034 194087 194367 194483 195317 193182 193430 193337 193079 192648 192513 192629 192749 193548 193524 194294 193598 195997 195843 196433 196337 196668 196740 196664 196765 196887 199110 200111 199989 199482 199885 201052 200099 200104 198948 200552 199701 198690 199150 200134 200598 199740 201083 202183 202200 203016 203311 202947 202914 200640 199555 200482 199806 200955 198679 197284 198283 198345 198957 198616 199228 200317 200177 199692 200035 200122 199944 199284 197662 198235 197634 198865 198829 198568 198232 198069 197428 196703 197185 197082 197877 196917 197910 196780 197887 197422 197211 198004 197917 196639 195773 196102 195088 194525 192528 191919 191109 192195 192509 194501 193841 194015 193598 194495 194429 195347 195700 194370 195484 192578 192728 192152 190412 191201 192120 193121 193656 192818 193311 193445 193302 191888 192791 193479 195790 194920 195557 194616 196155 196914 197214 198198 198006 197562 197251 197271 196290 198607 196767 196419 197466 198531 198802 197976 198247 199138 199111 196340 196499 198139 199081 198565 198814 199173 199836 200456 200738 201231 200485 199707 198253 198231 198709 198760 198426 198451 200095 199317 199932 199201 199056 199615 198336 197353 198480 199357 199000 199270 198121 199027 198729 200427 200039 200621 198886 199242 200466 198750 198933 198783 199797 199039 198301 198762 198301 199086 196395 196457 195869 195570 196732 196747 197028 197302 198940 200953 201044 199419 200106 200355 200306 198286 196033 197080 197740 197098 197202 198511 197242 197838 197581 197680 197598 197598 198816 197733 197773 196177 197664 196160 198727 197604 199089 199017 198591 198474 197553 197410 197260 198021 197247 197110 196087 196355 197331 196382 195519 195380 197257 196267 195528 195019 194282 194217 194985 194213 193514 194992 194204 194794 194448 194989 193467 195320 194758 193421 193355 195265 194842 194049 195082 195263 194773 193382 192912 192621 192219 191655 191197 191631 189218 190093 190588 191963 191568 192854 190854 191375 190205 191380 193698 191583 191429 190643 192002 191504 191894 192923 190447 190099 189992 190432 190126 191168 190406 192083 190541 191259 191832 190223 191327 191230 191001 190348 191171 190091 191399 190549 191106 190868 190259 190108 190490 190358 189495 190964 191077 191087 190373 191681 192549 191391 191307 192341 193931 193073 193103 191448 191177 192410 190218 192665 191741 191583 192071 191437 192876 194363 195168 196315 195967 195234 196105 195918 191552 190231 190267 191443 190185 190143 190458 189331 190172 191349 190170 190614 189776 190046 189676 189844 190062 190234 190754 190141 190476 189827 190566 190278 190203 190623 190882 190852 190436 190101 190372 191985 190999 190641 191356 192000 191106 191949 192189 192279 191880 191122 191131 190467 192096 190813 190907 191045 191410 191194 191778 191122 191281 190171 189885 190143 190248 190725 190968 190351 190365 191103 192335 192609 192474 193814 194028 191573 192696 192804 193278 192149 192482 191259 190974 190748 191476 192968 192591 192686 191771 193407 190979 191319 190516 191223 192135 190962 191559 191762 192045 191360 190348 191003 190897 191201 190992 190948 191138 191616 190896 192242 192158 191426 191906 191885 192623 194436 194997 194270 194651 193697 193281 190989 191526 192029 192156 193311 192681 193205 193073 193103 194096 193170 191742 192551 191916 192224 192794 193092 194351 193706 192888 192923 192368 193559 194142 192536 192923 193082 192018 192066 191837 191760 190776 191469 191151 190908 191190 191430 191287 190801 191404 191933 191441 190967 191407 191538 190597 190340 190372 191144 191171 190608 190373 190045 189719 190005 189742 190060 189712 189840 190434 190046 190304 190605 190124 191084 190736 190421 190198 190673 190454 191151 190660 191074 190711 191074 190597 190216 190900 190704 190214 189862 190029 189820 189919 189967 190106 190035 190150 190666 190012 190052 190280 191021 190385 190178 189949 189626 189870 189053 189805 190138 190817 190328 190649 189855 190369 190337 190255 190292 190076 190071 190215 190731 190493 190927 190341 190805 191856 190835 191155 190781 190622 191476 191260 191120 191263 192593 193977 194228 193413 193565 193163 193952 191529 192047 190658 190850 191303 191194 190064 190700 190786 190809 191029 191430 191133 191454 193353 193811 193862 194232 194932 195894 192573 192632 192818 194096 195394 195559 195505 196111 198198 196831 195695 196697 196518 195769 194340 194186 193862 195128 193017 194403 193925 195199 193790 192861 192375 192623 192297 192258 191045 191153 193992 194063 193271 193944 195343 196242 195342 194088 193011 195582 195032 195505 194412 195615 194895 195310 195463 194195 193038 193137 194327 194801 195900 195883 195929 195656 196290 196591 195942 195670 195169 196778 196186 196835 195508 195220 194336 194465 195087 195810 195513 194842 196424 195287 196476 195560 197002 195779 195392 196635 194907 195634 195583 196274 196945 197302 197004 198769 198528 197134 196019 196109 196481 195508 195801 196276 196749 196232 196176 195640 195931 195210 194893 193899 193628 192764 192557 192650 192212 194168 194358 193689 193163 193784 193397 192764 193341 194905 195180 195260 197170 195739 196103 196193 198207 197350 194739 193284 193103 195581 194327 194934 196131 196204 196498 196935 196249 196832 197118 195838 195656 195295 196557 196474 196881 197539 198013 196861 197407 197304 197838 197586 197209 196978 197290 197440 197898 197670 197545 196890 197068 197131 198915 198469 197533 197406 198045 198579 197469 199500 198769 198039 197554 197169 197892 197682 196527 197604 196883 196918 198258 196876 197994 197130 196558 196033 196397 195500 195489 196843 196971 197016 198064 198775 197317 198069 197491 197301 197484 197760 196770 197311 197829 198459 198277 198964 199249 199849 200787 199032 199428 199126 199645 199729 197301 197914 198736 197064 197605 197304 197560 198139 199551 199066 200278 198553 200048 199602 199743 199762 199461 200532 198502 198213 198045 198984 198595 200386 198481 198991 199213 197871 198009 197013 197113 198139 198829 199416 198013 198721 200773 201116 199980 200944 199825 200273 200911 201481 201556 202651 200963 201505 201036 200636 200697 201171 201017 200973 200765 201650 201485 202231 203182 202948 203014 202074 201945 200847 201963 201039 200735 200878 200702 202103 202004 200159 199527 199899 200708 201776 201631 201301 201741 201744 202848 201888 203959 202884 200180 202357 202552 203935 203107 203862 203335 203572 201811 202059 202441 203460 202687 202938 203031 203902 204076 203778 203610 203709 204036 203761 203472 203731 203685 203767 204024 205191 205071 205276 205290 205195 203257 204850 205132 204748 205135 204928 205305 204853 205615 206682 206470 206879 206085 207869 206329 206811 208048 207902 206732 205874 206418 204904 204736 204868 205751 204712 205399 204534 205069 206015 206586 206670 206109 209036 207519 208559 207086 208939 207477 207796 208133 207902 208442 206866 206330 206411 206138 204159 204142 204757 204087 205230 203455 204487 204361 205152 203760 205128 205024 205243 204843 204348 205522 203335 204447 205526 206239 205338 205219 204519 205156 205635 205029 206011 204894 207548 205980 208345 206327 207464 206648 206294 205820 206956 206281 205736 206038 205036 205233 204813 206186 204477 204895 204729 205017 203425 205188 205107 204105 204249 204885 207139 207199 208630 208214 207998 207106 208400 208757 207910 208639 208826 209792 207863 208195 209882 209444 208249 207404 206565 206776 207071 206289 207268 208538 209140 208276 209710 210257 210545 211327 210253 210616 210771 209206 208516 209189 209390 210508 209245 210208 210425 211188 211538 210751 210569 209975 211499 211674 213829 211667 212618 211793 213751 213206 211086 211662 210707 210737 210023 211534 210433 212348 210968 211063 211288 211679 211692 210044 211318 210795 210999 209849 210352 210035 210623 210502 211643 210085 209545 210829 211532 210745 209707 209677 208885 208555 208283 208313 208792 208808 209213 209854 211147 210316 211837 210241 211097 211593 210854 213329 212133 212475 210763 212411 212293 214597 213602 213796 216014 214327 214892 213695 214237 214777 214588 213935 214060 212988 214940 215357 215003 216160 215437 216028 214880 215906 216600 216388 215905 216546 215317 216826 217854 216552 217244 217059 217049 216669 216172 214825 214628 215899 215039 215587 213620 215113 214154 216166 216044 216082 214357 212449 213890 213926 214724 214801 215066 214549 214760 214097 214882 213184 212129 213382 214310 216392 215497 215354 214792 215773 216417 217390 217646 217550 218565 217660 217892 215782 215981 215810 216726 216680 216140 216224 216935 217046 217790 218167 217519 217662 216762 217825 219119 219396 218100 217764 217737 218273 217723 217497 219096 216982 218200 216891 217917 217034 216609 218109 218283 219687 218206 218724 219344 220163 219782 220115 221133 219389 221451 218961 220284 218500 219846 221003 221730 221072 221271 220431 219593 221322 217909 218320 217112 217821 217159 217126 217492 218057 217756 217610 218613 218952 219210 219900 219591 219185 218706 218592 217625 217629 216985 218564 217632 218353 217859 218904 218409 218555 219237 219189 219186 218305 219896 220734 219924 220893 220119 221151 221707 220478 221157 222859 222580 223577 221543 222800 223239 221144 221898 220340 222393 221754 222282 221180 220715 220283 220112 219255 219833 219275 218274 218810 218529 219657 219845 221846 220608 220880 220473 220065 219912 219842 220644 219018 219020 218108 220059 218340 218155 218332 219435 220791 219972 221109 218637 220457 220380 220199 219902 220689 218398 217717 217645 217775 218922 218523 220221 218627 218687 218705 218979 219129 218170 219113 217767 218787 218405 219536 218775 219165 219458 220041 220551 219750 220140 219945 222224 220626 219942 218501 218017 218141 218801 218936 218494 218730 217006 218247 218289 219410 217526 218481 218805 218104 217768 218156 218802 217216 218930 217684 219486 219554 219918 218700 218897 220226 219282 219525 220551 222177 218871 221655 222922 223426 222154 222154 221954 220491 220548 219129 220391 220227 219809 218607 221270 221546 221382 222965 220677 222303 220947 221917 222569 222678 221132 222668 223621 224340 223753 222235 222154 220988 221180 220752 220365 219507 219959 220164 219987 219635 218534 219222 218775 220794 218802 220169 219960 219530 220431 220244 221045 221442 222440 222028 222428 221492 221822 219072 218759 218432 218200 218505 218303 219006 217777 217863 218276 218720 217584 218395 219009 218108 217775 217338 217365 216626 217822 217343 217944 217504 218595 217343 217869 217793 217128 217664 216855 216827 217136 217588 216710 217532 217166 218427 218267 218078 218476 218229 218598 219051 219872 218925 219029 218769 219912 219140 219798 219201 219773 219423 218405 219249 218970 219069 218798 219528 217764 218078 217082 217150 217535 216571 217390 216540 217126 216109 217420 216719 217737 217198 216710 216801 216040 216696 215917 217265 216134 217134 215987 216154 216229 214375 216657 216776 217115 215582 217174 217081 217151 216227 217151 217227 216976 217880 217708 217266 215941 216819 216050 217107 215683 217080 216239 216775 217166 215684 216799 215848 216910 215879 217442 217194 218188 218119 217426 218434 218470 218432 218615 218489 217667 218193 218471 218808 217726 218666 218179 218916 219117 218376 218303 217701 218399 218063 218364 218291 218859 218609 218452 218835 217757 218880 217746 217574 217970 218263 217400 216814 217605 217304 218292 218344 218292 218855 218762 217891 219459 218431 218741 219489 219105 219585 218324 218702 218300 217801 217264 218522 218307 219701 220326 219425 219674 218931 221758 219621 220022 221193 221189 220026 221235 221354 220035 220961 219510 220581 219404 219873 220890 219336 220539 219920 220640 219296 220508 220622 221960 221714 222843 223456 222530 223420 222738 222904 221298 221948 222318 222826 223683 222973 222579 222323 222739 220622 220730 219683 222495 220350 220740 223287 222793 222917 223218 224166 224127 225515 224609 225659 225506 224940 223943 222536 222063 222133 223036 222524 222910 222504 223288 220541 220986 221096 221136 220578 219255 220889 219897 221372 218817 218712 218329 219129 218934 220904 219588 219284 222289 220173 222178 220665 220889 220859 222215 221999 222005 220163 218284 218778 217911 218657 218702 217942 218528 218269 218274 218706 219485 219512 220998 218501 220193 218661 218715 218637 218148 217624 217006 217100 217021 217492 216143 216397 216749 217876 216979 217862 216695 217233 216935 217444 218306 205991 196993 195497 185769 166215 151660 146828 131692 121128 119235 119826 121139 118864 119706 121466 115654 115059 118108 126833 129020 139393 146406 153088 161405 166924 174327 175021 187526 195197 198042 189741 197478 196463 196010 195177 195533 195218 191604 192353 191826 192992 192446 192866 191564 192549 190623 191810 191331 191630 191264 190405 190447 189722 190311 190530 193529 192647 191114 193584 190179 186155 186275 184186 185941 178186 178547 193418 172467 163518 166149 154794 147422 143012 134839 133347 125644 122184 109793 102220 104513 102283 101607 101397 106500 108210 108317 111796 112214 111191 107358 109745 108971 109507 105558 107058 107418 106953 106966 105643 101716 99267 101569 101883 102651 106989 107211 107317 106464 104949 105211 104687 105069 105409 102205 100956 103067 102261 104850 106249 103597 103627 105031 101484 99194 96399 96563 94322 94838 98447 100117 99522 100407 105823 109753 106348 108532 109588 112198 111722 112303 114821 115567 108354 109932 113264 113666 117131 121949 120246 117277 117547 121968 116891 111109 113674 111052 102834 101952 106141 108477 109312 114487 117635 119370 120814 123399 124299 120880 116728 114317 111314 108631 106780 107338 106791 105336 107329 109060 107685 107650 109172 109155 108430 109016 109544 110467 108058 108875 110944 108969 108767 109324 112297 110184 109676 112144 110852 109357 110567 111595 112159 109294 109155 108421 105289 104250 105552 105244 103599 103406 105486 105022 103484 104683 106750 106071 105277 105172 106761 107322 108599 112525 112907 112276 112097 112712 113237 112403 114137 115786 113822 114489 115952 115889 114810 114324 115693 113854 112382 113072 113777 113231 113207 114247 114909 114193 114278 118156 120456 121976 124071 124883 124083 121968 121553 121146 117997 116984 116783 116356 115739 115778 116380 116978 116717 70156</MDI>
