<PAMDataset>
  <SRS dataAxisToSRSAxisMapping="2,1">GEOGCS["WGS 84",DATUM["WGS_1984",SPHEROID["WGS 84",6378137,298.257223563,AUTHORITY["EPSG","7030"]],AUTHORITY["EPSG","6326"]],PRIMEM["Greenwich",0],UNIT["degree",0.0174532925199433,AUTHORITY["EPSG","9122"]],AXIS["Latitude",NORTH],AXIS["Longitude",EAST],AUTHORITY["EPSG","4326"]]</SRS>
  <GeoTransform>  1.0366361914543480e+01,  3.1763088446087762e-05,  0.0000000000000000e+00,  6.0002848060478186e+01,  0.0000000000000000e+00, -3.1763088446087762e-05</GeoTransform>
  <Metadata domain="IMAGE_STRUCTURE">
    <MDI key="INTERLEAVE">PIXEL</MDI>
  </Metadata>
  <Metadata>
    <MDI key="AREA_OR_POINT">Area</MDI>
    <MDI key="EXIF_BitsPerSample">8 8 8</MDI>
    <MDI key="EXIF_Compression">5</MDI>
    <MDI key="EXIF_DateTime">2014:09:24 11:38:40</MDI>
    <MDI key="EXIF_Orientation">1</MDI>
    <MDI key="EXIF_PhotometricInterpretation">2</MDI>
    <MDI key="EXIF_PlanarConfiguration">1</MDI>
    <MDI key="EXIF_ResolutionUnit">2</MDI>
    <MDI key="EXIF_RowsPerStrip">5</MDI>
    <MDI key="EXIF_SamplesPerPixel">3</MDI>
    <MDI key="EXIF_Software">Adobe Photoshop CS3 Windows</MDI>
    <MDI key="EXIF_StripByteCounts">83458 83271 82317 82739 83132 82927 83153 83098 80950 79274 78937 78728 78454 77424 77192 77016 77322 75642 74839 75261 74922 73896 73350 72248 71480 70953 71324 70986 70278 70083 70566 70664 69198 69078 68620 68613 69144 69042 68793 68080 67864 67816 68017 67765 67728 67555 67795 68599 67687 67282 66598 65776 65270 65311 65555 64430 64275 65201 64964 64817 65152 65110 66086 66950 68742 68418 67981 67339 67461 68040 69580 70173 69129 69066 69165 68235 68101 68137 68904 69927 64833 63825 63716 63755 63243 63227 63372 63494 62933 62757 62442 62280 61613 60727 61192 60836 60715 60699 60914 60583 60200 60747 59952 60188 60259 61057 61935 61539 61018 60990 60304 59869 59873 59285 59021 58799 58704 59331 59677 59427 60248 61253 61737 61104 61596 61735 62012 64061 72438 74050 71195 70558 70054 70056 69454 69456 68715 69273 70102 70331 69798 69330 69201 68932 68269 68317 68262 67834 68293 71570 73861 63944 59432 59237 59214 59210 58416 58394 58112 58332 58538 58553 58257 58460 58388 58863 59405 60128 60822 61126 63386 63641 63714 66701 70733 69862 70243 71613 71496 72344 81994 98791 95216 92462 92245 95738 113608 115328 110119 99750 96828 99693 104777 102601 90521 76951 66442 66200 66400 66360 65723 63560 61342 63965 64655 64481 65015 65737 65423 66482 67444 68008 68382 67309 67317 69768 81226 91395 103489 102417 105945 118706 133438 133167 141402 155357 165298 166624 182926 189254 193088 200600 211476 218534 221904 232520 231168 234202 233420 230346 230677 229450 227360 227821 227695 227740 227605 228003 228578 229108 228593 228644 227508 227746 228559 229917 230782 226871 214586 214766 210623 200622 195852 200357 183581 162470 152399 146408 139506 130159 118495 113848 100639 95583 88453 89358 91125 88806 88105 89730 91701 88850 87839 93069 101512 117557 128078 143107 156408 169331 177058 187779 202187 216049 228493 231126 235407 237330 241177 241930 242773 243497 242174 242258 241615 240986 241073 241240 242296 240052 238687 239746 240368 241835 243875 244047 244740 245543 245181 245938 246682 246263 246434 248048 247645 246829 245566 245612 244928 244864 243614 243650 245298 246467 248390 246239 245330 244924 244762 244596 244802 245410 245443 244692 244663 243937 244152 243672 242497 241819 241520 242803 243477 242032 241102 240514 242390 241603 242633 244428 244634 244150 244026 244974 244923 245511 245312 244711 243450 242357 241763 241601 240943 241331 241183 241780 240058 242735 241241 242821 244563 245791 245373 246277 246664 247465 246892 246811 245293 244879 243861 243574 243976 248759 243444 241523 240742 243261 243228 243831 243959 244462 245245 245315 245386 245642 245948 245957 245466 244455 244559 244398 244761 244281 244421 244550 244424 243621 244631 244710 245190 245054 245735 246652 247589 247229 247687 245393 246487 247421 247900 245762 245801 245522 245777 245483 244653 245087 244743 244361 244579 245011 244736 244875 245330 245689 246943 245956 245647 245933 245753 245258 244391 244314 242917 240887 240224 239315 239546 240320 239527 239821 240670 242030 242456 242627 242215 242819 244127 243178 243178 242995 243206 241736 242348 239780 240286 238301 238292 237708 238102 238409 238491 238933 239861 239306 240736 241126 241661 240790 243468 243472 243595 242252 242453 240602 237519 238501 239248 239304 238681 239663 240545 238960 240484 239392 238389 238757 239842 240062 239578 239281 240391 239648 239035 239237 237498 236983 236394 235602 235203 234567 233878 234904 234603 234607 234565 234855 235177 235290 237298 237040 237694 238716 238609 237210 236779 236715 235380 234715 233618 233382 233060 232674 232775 232844 234213 234556 234526 235092 237025 238070 238958 239273 239450 238342 237051 235272 234561 233740 232844 232198 232667 231796 231163 232140 232266 232558 232986 233088 232538 232901 234076 234880 235230 235096 234640 234169 234197 234745 234207 233216 233530 233140 232455 232418 232979 234163 234130 234724 234585 234275 233993 234028 235183 236176 235720 236589 237654 236347 236371 236107 235231 234396 233328 231882 232436 234300 233189 233184 232919 233406 233549 234231 234101 234952 235105 235378 233824 234789 234637 233988 232592 232263 232538 232945 232045 231928 232517 231787 231468 232345 232819 232831 234922 236785 236619 237196 237136 237375 236841 236538 235803 235051 235263 234550 233916 233603 234505 234341 234499 235059 234517 234405 235044 236140 236245 236374 236038 237075 236188 237018 236508 235999 235023 234660 235924 235504 235407 234388 234844 236590 236265 235575 235401 236817 236541 236361 236382 235827 235059 235782 233839 233439 234141 234279 232921 231451 231729 232066 233035 232819 234112 233169 232000 231543 232609 232585 231723 231558 230392 231640 231913 232321 232056 233166 233332 233030 233046 232114 231772 232245 231900 231346 231715 232207 233036 234498 235299 237217 237126 237958 237528 238224 238554 237139 235425 234322 233866 233023 232565 232246 232800 232239 231606 231121 231886 232146 233372 233441 233328 233786 233647 232993 233178 234888 234996 235326 233735 233070 231876 232648 232017 232183 232059 231852 231570 232026 233833 233056 234035 234644 235750 233015 234117 234765 235261 234930 235056 233811 233531 232915 232285 231406 231745 231088 231637 230965 232641 232556 232072 232222 232227 232309 233296 233558 234073 233544 234135 232072 233218 231790 232164 231643 230358 229818 230026 230352 229307 229911 230490 229834 229830 232506 231352 233335 234053 233771 232889 231738 232287 231244 230392 229630 230112 229740 229231 229825 229881 229196 228988 228831 229018 229222 230365 230040 229707 229768 230880 231634 230614 231433 231900 231691 231951 232111 231525 232360 232632 232678 232460 232003 231568 231865 231988 233498 233838 234735 233552 232888 233238 233093 232300 231888 232200 231564 231403 231829 231513 231771 232024 230719 230131 231781 231757 232047 231787 231549 231124 232062 233399 234189 235158 235381 236086 236937 235989 234726 235828 236329 237448 237375 238093 236581 236586 237028 236256 236640 235678 238197 237172 237190 237448 238219 237469 238326 238387 237865 237408 236806 236976 236556 236152 235707 235386 233140 230383 230544 230397 230452 231340 232170 234289 234662 234979 233790 234377 234028 233729 234619 231888 229665 228943 228831 229687 226791 226364 227882 228984 228820 228024 229169 229731 229121 228830 227655 229360 229707 230202 228981 230098 231622 233160 232359 230937 232685 231873 231007 232816 232703 233542 233509 234263 236013 235696 235701 237505 239273 240301 238439 237313 238167 237261 235090 234627 234374 231627 231093 230656 231021 231355 231390 232600 232428 234207 233515 234042 233872 234949 235770 236298 234724 233903 233762 233890 233493 232078 231856 231409 232311 230535 229665 231132 229603 228549 228067 227895 228399 227611 227900 228285 228808 228760 228789 229552 230505 230311 229237 229633 226913 226733 226454 226890 226197 225854 224451 224583 224736 226238 227376 228779 229519 230008 227636 227600 227416 226922 225339 225500 224613 223162 222973 223596 222913 222070 222298 222159 223023 225539 225428 225993 226932 225659 227112 226332 227527 225590 225410 223800 222986 222705 222335 223630 224049 225932 225986 226460 228155 229932 229989 227690 229455 229444 229725 230353 229779 228138 228779 229307 228098 226476 224688 225903 224648 226367 227737 226596 226310 228186 229088 229851 229465 231571 231318 230800 230022 230662 230446 231159 232365 232209 231135 229443 230125 230254 228879 228093 229384 230922 231762 231579 232096 232150 232710 233069 232784 232913 231451 230844 231232 230038 230418 229693 229636 230290 228930 226769 226350 224790 225194 226250 225611 226581 228043 228311 229716 228778 227812 228533 228138 227588 228160 228443 226202 225953 226572 227792 227188 228239 228226 230209 231798 231466 231922 232420 231685 231561 232834 232562 233216 233556 231483 230503 230716 231618 230404 227607 228001 227510 227582 227436 227433 228325 228870 228533 229825 230170 230784 232296 234697 233746 232095 231321 231445 231565 230260 229381 228189 229497 228358 227671 226773 226218 226071 227170 226962 228145 231510 231172 232714 234428 236424 236578 237537 237607 237490 238129 237645 235477 235149 234410 234440 233831 234244 234801 236230 235944 236347 236434 237037 237534 237063 237190 237303 236811 234418 235120 234582 235537 234783 235627 234215 233640 233020 234802 236029 235894 237139 237601 239268 239073 239189 238706 238099 239207 238434 237306 237682 238089 237616 237733 235956 233765 233404 234721 235257 237042 239158 237474 238251 238008 237219 238800 240178 240689 241691 240943 241364 240983 242414 241354 240220 239537 238026 237900 236481 237741 238089 238087 239909 240830 239438 239494 241270 241565 241951 241903 241937 240517 241846 240338 239941 239744 240652 239406 238952 238672 237313 236188 235915 235062 236434 237082 237420 237082 237609 236830 237235 237591 237112 235824 236395 236262 235236 235075 234311 233394 233360 231832 232884 235992 236836 237588 237000 236398 237237 237387 237544 237670 237685 238421 238533 237453 236946 236055 235617 236557 235629 235641 234748 233703 231918 233079 234589 234471 235854 236212 235879 236838 237198 236736 236632 236967 236236 234843 235987 236019 233973 234356 233709 234488 232664 231006 230776 231439 230002 230280 230910 232632 231597 231265 232913 233121 234149 232730 232261 231196 230427 230544 230823 231190 230280 231034 230422 230503 229903 230952 230607 231160 231102 231232 232930 232514 233533 235740 236016 234892 234620 232650 233263 233694 233890 232731 230502 231004 231621 231127 230905 231973 231813 232535 232203 234120 234823 235173 235452 236509 235896 234916 234873 234209 231132 230515 231582 231942 232215 231700 231346 231798 231552 232362 233879 234539 233743 233547 232323 232122 232057 233076 232302 232128 232648 231328 230932 230790 231025 232057 231483 231069 232152 231846 233028 231645 230791 230449 230371 228967 226830 227338 226641 226116 226128 224606 223157 223457 224849 225449 225330 224759 224190 225243 224915 227013 227411 227855 229366 229782 228960 228956 229852 230220 229354 227685 228221 229647 229485 228329 227045 227010 226586 225174 223977 222955 222499 222987 223882 225050 223421 223965 223922 224735 224312 223859 225024 225167 224771 223558 223193 223124 222302 223233 223269 225194 226290 227201 227360 227868 229252 229873 228721 226970 227766 227118 227443 225326 225425 226221 227249 226595 226232 226854 226226 226991 227141 227880 226235 229786 229344 228023 229171 230734 231559 229398 229557 227677 227661 228079 227286 227488 229025 228365 228449 227491 227716 227765 227053 226635 227868 230526 231493 230038 227946 227660 228940 227099 223474 223307 221844 222078 221231 219795 220343 219410 218006 218424 218841 220061 222603 221748 222155 222737 224096 223580 223622 224333 224543 222029 222318 224526 225117 225399 224427 224913 225566 225270 225422 225213 224442 224462 224238 225228 225873 226899 227618 225981 227921 227024 226670 225086 224123 224024 224684 224981 225657 223795 225869 226010 226673 228362 229462 228670 230130 230704 230349 229911 229387 229180 229762 230365 229768 228284 227842 225206 223650 222410 221952 223600 221472 221833 222088 222587 222870 220941 220383 221713 223724 224868 225647 225624 227706 227593 226910 224309 223507 223702 224904 222792 223270 221234 222602 224732 225875 225945 224792 225090 227216 227586 228472 226895 225210 225807 225657 226638 225539 224117 224205 225308 222332 223724 224163 223687 224331 226020 226266 226431 225314 225108 225713 227228 225996 225428 226344 227335 227847 226794 226310 225093 224330 223805 224894 224403 225213 222870 224666 223979 225638 226526 227461 228058 228386 226586 225158 225354 224924 223997 222168 222090 223471 222300 220272 221061 222040 223325 222304 219864 222503 219929 216599 216194 217025 216814 216646 217473 217290 216852 215542 215209 212772 211533 210964 209339 208514 207724 209290 211216 212528 212951 210777 211537 211898 212227 210918 212768 215468 213017 211949 212324 213349 211322 209335 207908 206681 206000 206380 207037 207194 208417 208559 207887 212704 211891 211534 212084 212463 211523 210251 209926 209159 209105 208327 208148 206584 205353 206359 206729 208865 209105 210553 212243 213749 213538 213188 213871 216801 216482 212308 214433 213850 215608 216293 217829 216085 215996 216797 217258 216726 216802 215962 217386 218405 217953 217599 218170 219563 219333 220085 220193 223514 223261 225248 223206 224681 223831 220032 220446 218859 219770 221003 219713 218053 218256 219123 217954 218909 218600 218898 219810 219557 219431 220062 219630 221132 222130 222373 221042 219525 219176 220377 218673 219270 219053 218793 217948 218514 218445 217859 216730 217310 217863 217660 219663 219291 220913 219704 219818 221895 221144 220710 222048 221202 223908 222757 220781 219890 220011 219993 219474 219776 220248 221016 220796 221552 221181 221072 220406 221015 221150 220854 220544 219476 218419 218265 218610 220157 219860 220155 220680 220535 221492 223130 222292 221046 222753 221412 222118 220307 220847 221237 219711 219648 218500 217002 217332 217752 218421 219234 218988 220142 219386 219671 219090 218432 217227 217257 218739 218820 217045 216845 218618 218050 218255 218277 215114 212422 210046 210599 210533 209008 209579 210149 211759 211448 213250 211214 211288 211985 211751 208555 208295 206381 206678 207026 206960 207962 207664 207853 207941 208258 208589 209699 207099 209968 211740 213406 215668 216685 216296 215995 215287 216514 216345 214367 213599 211494 211066 212976 213355 212940 215236 215446 215540 215767 215509 216235 214738 215228 214498 213647 217192 218266 219191 217345 216941 216704 216457 215384 214706 214979 215509 214810 216524 216764 218274 218774 217825 216779 217387 217518 217650 219522 219051 218402 218482 218640 219402 220242 220496 218894 218409 219554 217937 217467 218222 217768 219167 220929 221196 222155 222349 223745 224267 222508 221057 220413 219978 219864 219300 217907 215914 217103 217196 215779 216455 216880 217214 218108 218155 219468 220130 221785 223333 224489 224124 223595 223424 225044 224511 224862 224612 224042 224201 224267 223109 222487 221262 220407 220365 220220 219897 219105 220088 221024 220461 220610 220166 221112 220532 219242 218670 218874 218134 217486 217697 216443 216790 217247 218852 218395 217772 218160 218999 219438 220979 222094 221910 223144 223674 224106 224732 224966 223101 221745 220835 217928 217739 217074 216975 218360 216910 216637 216417 216915 216860 217081 216546 215755 217724 218456 219033 218020 218210 217588 217977 217598 217189 215911 215359 216645 216124 215095 215665 217228 217250 217547 217416 219111 220035 221057 220397 221984 222624 221480 219452 219605 219126 218666 218786 218410 219558 219846 219359 218756 221460 222297 221756 222650 222881 221357 220973 222039 222445 221802 220790 221391 219860 221318 221352 220338 218963 218741 220412 218777 221623 220691 220598 220521 220550 219450 219288 218796 219011 218448 218538 218739 218173 215656 214222 215185 215572 215983 216662 217046 218177 219126 219170 220637 220197 220680 220431 220619 220641 222239 222235 222187 221947 223522 223816 222218 221211 219945 217976 217021 216669 216422 217607 218332 219494 219627 219018 218586 219551 221912 220766 220284 219884 220473 220415 218442 218317 218054 218074 216471 216332 216720 216865 217147 218105 219456 220488 221051 222783 221649 221984 222624 221276 220007 219101 218008 217162 215545 215965 214376 213919 215330 215816 217973 216691 216541 218828 218828 218745 219146 219675 219662 218673 217921 217317 219480 218831 216891 217463 219468 218250 217452 216479 217227 217463 215383 215564 217393 218142 218681 217713 218203 218416 219087 220551 220421 220041 221346 223824 223214 222672 221280 221859 222977 222202 220904 219210 219276 218008 218118 218969 218592 218937 219101 218657 217572 217467 217014 215266 214753 212708 211979 211088 211091 210580 211651 210301 210668 209819 210677 211171 210964 210653 210795 211848 213133 212500 211312 210951 210951 211502 212012 211554 212275 212349 212294 211594 210518 209264 210485 210160 208832 209728 210298 212368 212970 213211 213455 214747 214919 214892 214147 216055 213575 211026 208606 210125 210959 210413 212396 215135 216650 214057 214819 216622 216321 213508 214436 215777 215171 215222 213122 213529 217618 219087 217851 218940 218118 218197 217247 216737 217125 219422 217983 216482 216872 217684 218109 218577 218892 219191 219614 220349 219128 219395 218185 217174 217596 217137 217558 218101 218331 217891 217238 218284 217151 217711 217737 216995 216839 216331 216567 217602 217514 217015 217372 217650 216961 217143 216961 217904 217573 213250 214688 213382 212844 211994 211283 210599 205960 203233 193743 178046 162886 151499 144586 132019 117916 99720 88007 90309 89567 86276 87200 85978 85693 87357 89094 86357 90396 88631 91847 117739 121689 130687 142796 147751 157527 171379 189447 194695 203911 211273 218849 222424 226062 228541 225176 221376 221099 222052 222778 223086 223892 225354 226632 225663 224381 224978 225456 224622 224529 225194 224939 225620 226293 227371 229342 228684 219416 210909 207841 195217 189975 199123 173327 168467 169472 165927 166552 158465 151479 128495 115539 108891 95832 83097 73201 70873 69915 69610 69826 69301 71771 76558 79850 83521 92951 95889 96240 98109 98640 90774 86069 90839 93497 90165 85507 85466 81916 77668 78085 79538 81864 82698 84739 85952 87252 85697 89376 89229 86860 87127 85844 77280 75694 80441 81495 81173 82083 81261 80729 79382 77684 76594 75645 73435 72102 73233 74377 77753 79777 79286 80677 81621 80230 84409 82635 83218 87353 93147 91160 90971 98476 95270 86285 85967 90812 86652 79708 78926 81374 80216 78134 82064 87239 86840 87328 89451 86302 80755 82446 80360 79772 79354 78808 78986 82617 83737 87085 89459 92065 93713 94922 94512 89570 89997 90419 91496 91061 91635 91865 94499 96224 96423 97895 98992 100642 101212 100918 99186 95892 95100 95871 96333 97481 98576 98905 100752 103644 105600 108730 110777 111809 113671 115749 116605 117262 117571 118367 118777 120578 120787 120969 121679 122310 122234 122411 122424 121788 121131 120543 118513 115688 113556 112927 113189 113950 114549 114667 115424 115895 116428 117616 118544 119192 118604 119426 118823 118321 118333 119833 120323 120512 120591 120475 120335 120939 121790 121895 121349 122570 123815 124865 125785 125515 123765 121389 121117 122114 121836 120732 121047 120804 120698 120955 122309 123561 125402 128820 132014 130109 131513 130840 132312 132312 131009 132046 134610 137481 134050 132867 134338 135096 53608</MDI>
