<PAMDataset>
  <SRS>GEOGCS["WGS 84",DATUM["WGS_1984",SPHEROID["WGS 84",6378137,298.257223563,AUTHORITY["EPSG","7030"]],AUTHORITY["EPSG","6326"]],PRIMEM["Greenwich",0],UNIT["degree",0.0174532925199433],AUTHORITY["EPSG","4326"]]</SRS>
  <GeoTransform>  5.4550462836205185e+00,  2.4647864746966985e-04,  0.0000000000000000e+00,  5.0099941639371607e+01,  0.0000000000000000e+00, -2.4647864746966985e-04</GeoTransform>
  <Metadata domain="IMAGE_STRUCTURE">
    <MDI key="INTERLEAVE">PIXEL</MDI>
  </Metadata>
  <Metadata>
    <MDI key="AREA_OR_POINT">Area</MDI>
    <MDI key="EXIF_ColorSpace">65535</MDI>
    <MDI key="EXIF_DateTime">2005:03:24 10:26:00</MDI>
    <MDI key="EXIF_Orientation">1</MDI>
    <MDI key="EXIF_PixelXDimension">1556</MDI>
    <MDI key="EXIF_PixelYDimension">927</MDI>
    <MDI key="EXIF_ResolutionUnit">2</MDI>
    <MDI key="EXIF_Software">Adobe Photoshop 7.0</MDI>
    <MDI key="EXIF_XResolution">(110)</MDI>
    <MDI key="EXIF_YResolution">(110)</MDI>
  </Metadata>
</PAMDataset>
