<PAMDataset>
  <SRS dataAxisToSRSAxisMapping="2,1">GEOGCS["WGS 84",DATUM["WGS_1984",SPHEROID["WGS 84",6378137,298.257223563,AUTHORITY["EPSG","7030"]],AUTHORITY["EPSG","6326"]],PRIMEM["Greenwich",0],UNIT["degree",0.0174532925199433,AUTHORITY["EPSG","9122"]],AXIS["Latitude",NORTH],AXIS["Longitude",EAST],AUTHORITY["EPSG","4326"]]</SRS>
  <GeoTransform>  1.0366865863640491e+01,  3.2000469455631174e-05,  0.0000000000000000e+00,  6.0002021484250434e+01,  0.0000000000000000e+00, -3.2000469455631174e-05</GeoTransform>
  <Metadata domain="IMAGE_STRUCTURE">
    <MDI key="INTERLEAVE">PIXEL</MDI>
  </Metadata>
  <Metadata>
    <MDI key="AREA_OR_POINT">Area</MDI>
    <MDI key="EXIF_BitsPerSample">8 8 8</MDI>
    <MDI key="EXIF_Compression">5</MDI>
    <MDI key="EXIF_DateTime">2014:09:24 11:40:11</MDI>
    <MDI key="EXIF_Orientation">1</MDI>
    <MDI key="EXIF_PhotometricInterpretation">2</MDI>
    <MDI key="EXIF_PlanarConfiguration">1</MDI>
    <MDI key="EXIF_ResolutionUnit">2</MDI>
    <MDI key="EXIF_RowsPerStrip">5</MDI>
    <MDI key="EXIF_SamplesPerPixel">3</MDI>
    <MDI key="EXIF_Software">Adobe Photoshop CS3 Windows</MDI>
    <MDI key="EXIF_StripByteCounts">119476 119128 118535 118544 118414 118310 118325 118216 118384 118315 118777 118627 118064 117719 117676 118223 117698 118126 117914 117830 117970 117824 118316 117836 117334 117829 117968 117433 117529 117733 117638 117070 117391 117139 117445 117493 117047 117023 117074 118576 118864 119024 118739 118762 118690 120569 120229 119541 119362 119060 118808 119791 119223 120248 116597 116222 116080 116080 116179 116254 115770 116408 116107 115897 115338 115668 115973 116150 116326 116186 115927 115614 115844 115894 115823 115876 115874 115934 115934 115591 115566 115805 115638 115548 115768 115618 115316 115148 115361 115723 115148 115309 115687 115567 115173 115617 115316 115105 115129 115429 114931 115152 121186 123948 121416 121003 121029 120866 120485 120830 120734 121053 120979 121337 121124 121073 121965 120618 120976 120767 120732 120552 120719 122390 124275 115832 115633 115825 115066 114914 115360 115350 115244 115666 115239 114892 115251 115148 115067 115046 115303 115165 114979 116006 116770 117614 118130 123348 124335 124900 123848 123833 124525 121839 118775 116782 117166 133804 159771 159840 131977 150493 166567 154655 139999 119129 118733 116425 119114 122715 122628 122304 121406 118247 114883 114960 116833 117769 117598 117836 117626 117145 117463 117832 117581 117409 115979 115745 115555 115540 116039 115452 115198 117062 146177 170607 195080 163583 176669 175666 177787 160953 170302 203571 202575 226289 215470 195605 198792 204466 205416 203919 203356 204030 206356 206914 204109 205147 207697 209465 205102 201876 204790 207235 207585 205701 202734 204621 205060 207199 206375 205141 201294 223850 213866 208973 185714 192134 167747 189166 177490 172467 137180 118715 126232 140032 136722 140401 135947 135196 137707 138039 136991 136486 134110 135182 137106 141189 129724 127313 131623 178876 216292 230014 229965 233483 235576 234251 237414 235915 232924 232626 234018 232549 232165 233588 232969 234024 234047 234505 233448 232701 232201 233259 233278 232222 233350 234194 234209 236182 234873 235141 234472 233896 233677 234156 234429 232796 233750 232929 233423 232666 234557 234031 235245 234351 234707 234556 233828 233736 234658 233690 233731 233548 233522 232986 231774 232347 231376 236904 233892 233707 234560 236134 235888 237339 236061 236472 238414 236734 237313 236410 236824 235941 236116 234901 235210 236697 237444 239479 238447 237657 235824 237010 236481 236748 236068 236350 234919 235266 235936 236584 235812 236029 235627 235884 236625 237378 236400 236556 237195 239018 237942 237166 237763 237780 236803 236004 236247 236632 236319 235308 237106 236134 236898 236332 236340 235317 239944 235935 234847 234545 234999 235950 237054 237636 236944 236959 236275 235831 236620 237774 236071 236226 235144 234373 235824 236899 237547 237118 236904 235677 237177 236764 237048 236212 235050 234897 235873 235590 235449 234361 234633 235810 234816 234777 233338 234667 234061 234211 234645 235522 234623 235533 236532 236469 237054 235990 238047 237540 237400 237000 235179 234601 234769 233602 233276 235945 233298 232356 231949 231654 231702 231495 231399 231876 231214 231186 230731 230941 229516 228551 228148 228772 229003 227827 227552 229878 230092 229387 229981 230262 229884 228394 227870 228133 229209 228695 229732 231637 231093 230649 231439 229710 229076 229509 229335 229167 229022 228712 228683 227667 226697 227626 225836 226235 227188 226533 227297 226124 226830 226518 225971 225462 225698 225296 225272 226343 225059 225999 225341 225923 225897 225140 226160 224724 223782 224763 224451 223822 224468 224892 224846 225606 225296 225038 223893 224778 225425 225141 224295 225525 225705 225558 224750 225609 226599 224954 225878 227865 226574 226455 225537 224502 224151 223746 224541 224174 223839 223853 223496 223834 223901 224603 223343 224258 224808 223446 222992 224270 222775 224555 224582 225449 224597 225065 226539 226463 225894 225362 225558 225360 225671 224154 224547 225086 224445 224060 224594 223824 223146 224267 224603 224580 225704 226769 225561 225473 225236 225647 226662 227001 226581 226812 226266 226077 226586 227118 227865 227028 227016 226835 224993 225299 225912 224829 225732 225488 224574 225468 224585 225723 225845 225867 228014 226877 225731 225752 226503 225734 226271 226859 226403 226535 228354 228166 227527 227895 229735 229014 227748 227970 228463 229172 228538 228049 228641 228331 229486 230229 230967 229408 229147 230053 230314 230328 230914 230734 231300 230568 229395 229839 229929 229230 229136 229257 229438 228354 229037 227456 226475 226572 227523 226668 226293 226389 226679 229057 227480 228336 227660 229116 228504 227922 225548 226611 227568 226098 226821 226058 225800 224979 226220 226469 225360 225845 226049 226313 226404 226995 227893 227121 226980 229094 227425 228267 227798 228751 228881 228571 228267 227139 227752 226931 227543 227863 227783 227403 227701 228428 228668 228507 227425 227513 227013 227785 228289 227914 228981 227808 226016 226412 224640 226190 226542 227010 226982 227842 227627 228028 228619 227582 227285 227666 228087 227977 228692 228564 228182 227330 227841 226179 226764 227034 227285 226602 226221 225398 225741 225126 225840 226133 226580 226730 225828 225458 224952 225432 225359 224127 225245 225002 224780 224558 225318 225260 224772 225576 226283 225195 226511 224472 227652 225521 225041 224564 225015 226133 225096 224778 223813 225138 226842 226776 226601 225810 224928 224114 224946 225452 224087 224958 226268 225339 225522 226373 224781 225335 225329 225038 223673 225053 225498 225456 225623 225945 225633 225474 225834 225089 224757 224957 225926 226355 227442 228241 229186 229125 229408 230685 231402 231352 230736 230676 231280 230926 230175 231033 229905 228382 226568 226358 226785 226614 227402 228170 227681 227286 226428 227407 229307 228837 228376 229759 228903 229798 227680 227558 228789 228406 228563 228300 227224 227680 228089 228879 232177 232378 234134 235206 235791 234634 234330 232983 236895 234660 235447 234922 234226 234951 235629 233936 234178 234853 233701 232678 231951 232329 231478 230343 229378 228243 227837 226178 227810 227455 227948 226814 227772 228234 226449 227301 226770 226311 227767 228822 227216 227891 226256 225995 225834 224420 224633 223808 224277 224927 225011 224216 224453 223072 221804 223094 222383 221875 222514 223526 223303 222848 221585 224163 223815 225407 225402 226143 225374 225086 223839 223866 225378 226334 225818 226164 228313 227398 228046 229039 227323 226119 225330 226011 225809 224204 226118 223637 223742 224162 224616 225725 226334 225938 226937 226715 227136 225278 224846 225029 222992 222970 222607 221970 222808 222479 223340 221948 223346 223592 223848 223617 224424 224207 225281 226280 223888 223523 223468 224124 223179 222836 221615 221496 222289 223353 223497 225261 225891 222966 222932 222511 222219 222770 222953 221565 221271 221229 220571 221947 222580 223173 224264 222925 222657 224075 223129 224340 223006 221450 222168 221949 220968 219744 218786 218856 218681 219735 220697 220149 220152 220751 220364 221259 220442 220277 222173 222550 223107 223593 220593 220088 220862 224190 223424 222887 223366 224546 225984 226611 226250 226037 224877 226316 225590 225641 226719 225815 226457 224981 225776 226037 225534 225596 226767 225912 227432 226916 226835 225653 227793 227376 228012 227831 227401 228817 228919 228316 226391 224703 225842 227151 226161 224877 226742 227122 225714 225545 225681 226397 226814 228052 226841 228005 227707 226086 226004 225947 226944 227825 226593 226836 224831 225413 225566 225722 226316 225923 225749 225713 225174 222662 223833 222325 222657 222488 224673 224133 223300 223783 223530 224627 225309 226211 225315 225420 225119 224289 225732 224030 224259 224177 224253 224118 226467 226083 224402 226986 226926 227138 226161 225551 227041 225774 224439 223893 223669 224916 223232 223835 225216 226403 225957 225596 226469 226368 227365 225734 225807 226110 225273 226590 226377 225971 226614 225159 226335 226670 227174 227179 226379 225410 226734 225633 225746 225854 225518 224618 225495 225159 225710 224511 224508 224675 226835 227421 226979 228545 229846 229035 226401 226512 226319 227470 228943 228254 226965 227443 227066 228243 226361 228544 228551 227199 225887 227717 227920 227540 228056 227121 228518 229164 228472 230028 229204 228588 230178 228710 230226 230470 229497 229867 230140 231288 231942 231244 231372 230053 230707 231601 230506 231013 232108 231139 231939 231513 230331 228534 230133 229020 229345 230106 231937 231552 231456 230971 229957 229873 230194 228522 228745 228380 228991 230983 229150 228361 228141 231129 229696 230458 230704 232407 229981 230205 230916 230173 229603 229647 229629 229510 229764 229153 228786 228361 229339 230787 230131 230202 230959 231300 230755 230314 229090 230064 228479 228556 229866 230277 229455 230380 229960 230002 228637 227496 228082 228438 229459 229896 229231 228023 226880 226854 227767 227893 227702 228921 229906 230068 231457 230751 231223 231099 229687 231448 231531 231126 231465 231298 231472 230449 230560 231841 231118 231763 231871 231303 232126 231735 233168 231513 231117 231657 233332 232078 232170 232930 230964 231619 233065 233468 232515 233665 233756 232384 232444 231874 231934 231078 230052 229546 229930 230091 230005 229363 229905 230337 231472 229671 230664 230155 229935 228383 229933 229788 229606 229296 230388 230139 231603 232104 231621 232708 231579 232051 232122 232162 232134 232821 232579 232126 231648 232770 233981 234020 233977 234311 236433 234671 232778 232815 233443 233663 234160 233039 232354 231642 231786 233114 233714 234077 233548 235494 233453 234092 234476 233013 231627 231154 233540 231360 230901 230946 229329 229521 229785 229213 229312 229119 228692 228758 229903 230764 230839 231420 229590 229738 229546 230148 230010 228725 230325 231264 231166 231163 232071 232688 231034 229909 228435 227831 228373 228265 226031 225494 226347 226857 225720 225263 225656 226515 227693 227690 228923 228853 229204 229028 228996 228593 228806 229119 229728 231418 232054 231508 230985 231099 231571 230673 232936 231613 231777 232326 231000 230251 229732 230383 230110 230325 231363 231331 231097 231058 230217 228889 228804 229495 230239 229091 228828 229965 231229 230128 229277 231012 230769 230029 228787 228969 229780 228848 229477 229048 228945 230569 230307 229633 230017 230139 231109 231022 232120 231028 230178 230565 230427 230476 231127 229995 231013 230236 229124 229576 229387 231199 231237 230203 231642 230956 231201 231654 232564 232958 233324 230695 231141 230997 232482 230589 230377 232670 232594 230985 230661 230203 228713 230001 228600 230472 228534 229846 229705 228613 228190 227435 227655 226482 225756 225645 225750 225330 225779 225636 225165 226110 224133 224780 224157 225782 226911 226139 227972 227707 226409 226979 227722 227587 230457 229518 228581 229840 229497 230166 229627 228724 226541 227596 228010 226952 227340 225752 227229 228336 229630 229968 229726 230061 229029 228274 230611 230316 229833 228333 230857 231355 229183 229252 228844 229600 229109 228679 228261 228963 230389 230841 230749 229198 227311 228410 228244 226776 226853 225266 226268 226754 226358 225623 224324 225770 226058 225974 225885 227281 227325 224690 225827 227096 227733 227828 228630 227253 227486 227852 226280 225587 227311 227380 227085 227582 227366 228985 227380 226929 225660 224763 225734 224546 223900 222816 224624 223756 221958 222145 223142 224375 223727 224750 224046 225272 225567 226500 227540 226526 227526 227711 228602 226593 226989 226140 225534 225366 226443 226724 226313 225966 225768 227555 228193 227696 227160 226761 229566 228779 227791 227713 227961 226703 225723 227023 227171 225672 225848 226565 227117 227108 226853 226953 226697 227843 225759 226509 227120 225276 224999 225114 224136 223459 225993 223270 222594 219990 220673 221481 220328 219198 219237 220041 220425 219749 219570 219735 219914 218991 218775 217812 218844 218445 218032 219164 218778 218368 219713 218398 219366 218314 218571 217595 218342 218567 219090 220167 219351 218837 217832 219371 219273 219246 217558 218464 219320 217568 217188 217233 217499 216657 216357 216375 216857 215675 217261 217400 217580 217948 217995 218439 217704 217937 216286 217031 217328 216796 218046 218493 219351 218769 218010 218717 218450 219657 218505 220746 218853 219578 220703 221345 220938 222152 221561 222154 220523 222687 223968 223448 223471 222851 223498 223724 224418 224718 223262 224462 223551 224031 223243 222790 221115 220715 221079 220901 222953 223395 223868 223138 223974 225272 224184 224018 224414 223846 223548 223171 223736 222015 222528 222438 221492 220626 220322 220940 221625 219219 218939 221013 220001 220700 220512 220190 219803 222097 221076 219854 219533 220494 222469 222108 220875 220148 218876 220277 220895 221439 220469 222357 223504 224316 223812 223720 222308 220868 222838 223789 222533 222808 221945 222871 224184 223801 224279 224261 222719 220328 221438 221409 222253 222485 224252 223750 224529 223540 224168 224136 224376 224189 222415 222447 222300 222854 221658 222504 220412 222962 222658 222330 222482 223607 221984 223295 224316 224115 221237 221135 220619 221439 220965 221513 221776 220274 219417 219123 219224 220547 220139 219905 220986 218559 218371 218039 217764 218292 217225 215702 215231 217511 215750 215498 215909 218156 218277 217943 217174 217178 215185 215968 216627 217667 217665 219314 219939 218948 221535 221692 220392 220253 221720 220716 219986 219557 220388 220593 220671 221775 220482 220446 219903 219581 219690 221701 221733 224220 224138 223163 223935 224219 221832 219668 219981 220842 220856 220830 220031 219789 220316 221839 221523 222438 220476 220029 220880 221150 221883 220565 220797 222222 220419 220139 222428 219696 221297 221214 223677 223505 222423 222193 222814 222911 223020 219185 219014 218387 219000 220466 221318 220667 220713 221499 223775 224505 225600 223142 223563 223496 222570 219258 219581 220946 220526 222383 221076 222859 222093 221922 222733 220929 221738 223151 223771 224493 224628 226343 227009 225126 224948 225587 224055 224889 223757 224166 225729 223270 222551 222537 222262 221538 222083 223133 222760 223723 224435 224063 224108 223486 222347 222954 223849 222939 223464 222224 223192 222490 221857 221331 221250 221738 221493 220829 221016 221034 221340 222183 223164 221882 223734 224048 225428 225881 225153 224223 224868 223995 225327 225800 226256 224442 224046 222612 222034 222135 222566 222485 220820 222318 222546 222252 223024 222922 224001 225108 223666 223288 222940 223010 223236 222238 222182 220473 220109 221157 222415 222958 221880 222363 221702 221922 223091 221938 222212 221418 222063 220601 220665 221859 223595 222731 220289 221714 222472 221331 221148 219801 220784 221007 219920 220977 220238 222706 222580 223027 222671 222305 222907 223228 223514 223677 223053 221840 222398 222955 221504 221549 220364 219773 221460 220635 219855 221235 220134 220206 219897 219554 220026 220307 218805 218388 218826 219494 220613 220952 224057 222951 220773 221725 222706 222350 222152 223383 223760 223206 223889 224466 225095 224496 224064 225467 225006 225566 225113 223690 223020 222323 223779 222385 223298 224933 224765 226076 226518 224880 225662 225194 227172 225560 223467 223342 223203 222554 223394 224045 223875 221052 221804 222244 223273 223020 222215 221675 222483 222695 222483 221810 222380 223173 224042 224840 224619 225348 223373 223058 223295 220812 221048 220608 220958 222705 221271 219555 219161 219999 220860 219554 219608 222030 221321 220170 219975 220319 221822 221357 221674 222372 222717 222929 222811 220164 220905 220679 222122 222954 223596 223012 226124 225332 224283 223838 224907 223270 222805 222777 224468 225840 225144 226359 227588 226494 224625 223771 223863 225012 224910 223890 223321 222596 223369 223621 223786 222254 221626 220520 220203 220197 219317 219492 218417 218736 217096 217328 218294 218071 217970 216829 216904 217430 218834 217445 217264 216293 217001 216916 216289 216840 213721 213730 214756 214258 216112 216292 216330 215561 215923 216869 214885 214886 214720 216301 215867 215656 217106 217629 216530 216512 217334 217158 213629 214522 214393 213181 214996 214409 214019 212290 213548 214630 217183 217022 217533 217035 217099 216004 215969 217249 217342 218153 217673 216453 215654 215537 218332 218056 218424 218699 219129 219420 219347 218285 219288 218823 216500 217143 217361 216924 216845 217590 216575 217154 217137 216869 215770 217286 217279 217701 217422 216765 216666 218382 217921 218718 218706 218681 217579 213794 213050 212024 213049 212390 211811 211583 212436 214892 215401 213362 214049 214531 216737 216313 212042 211146 211074 210755 208312 207045 206450 207431 205227 204003 209335 202097 201147 178457 156727 139858 122640 128096 132291 131783 134139 132580 133089 133335 133533 132657 132333 132039 133776 134338 131827 127820 138061 152752 163423 180258 187116 187733 185055 193230 209170 218174 224946 230136 228817 223889 222962 222067 221833 221403 222363 223149 223003 224318 223753 226829 226559 224246 226016 225998 227582 226236 223446 225509 225837 226676 227895 226754 230968 228904 223434 211351 205240 178381 177703 179683 173105 176068 181007 174735 168851 153834 140739 130933 117247 116423 117061 116180 115889 116153 116207 116399 116788 117412 120103 120683 121089 127275 130841 137865 140473 145906 147866 141827 137704 133848 128462 119305 120643 121952 121725 122988 128942 129952 130108 136380 141454 133326 129895 132106 126142 118985 117568 117178 116698 116662 116791 118513 120695 121415 125345 129063 133447 132759 132516 129404 123576 118115 117883 120794 121039 119687 123977 131879 132597 133959 137293 136326 132145 130598 127995 124510 120588 117592 119577 121161 120932 123332 129993 132187 132607 133386 134047 131563 132619 135947 139129 136731 128640 126243 131641 129805 130062 134541 133278 132178 131207 132856 126245 125128 125849 127683 127809 128328 127317 127464 127877 128562 128817 129098 130309 129554 130052 131098 130895 131062 131100 130392 128850 129294 128463 126981 126755 126597 127167 125120 123251 122204 120748 119808 119152 119055 119551 119376 119312 119303 118646 118768 118983 119211 119421 120170 120939 122090 123311 123504 123920 124056 123749 123801 123879 123788 123776 123855 124501 124964 125190 125129 124911 123461 121557 121623 121233 121050 120848 120699 120787 120558 120782 121364 122412 125495 129360 130607 128913 127470 127497 126453 126269 123174 121613 120187 119440 119682 119570 119545 119498 119440 119406 119333 119256 119622 119877 119939 120081 120308 120215 120298 120728 120856 121793 122685 124112 125086 25193</MDI>
