<PAMDataset>
  <SRS dataAxisToSRSAxisMapping="2,1">GEOGCS["WGS 84",DATUM["WGS_1984",SPHEROID["WGS 84",6378137,298.257223563,AUTHORITY["EPSG","7030"]],AUTHORITY["EPSG","6326"]],PRIMEM["Greenwich",0],UNIT["degree",0.0174532925199433,AUTHORITY["EPSG","9122"]],AXIS["Latitude",NORTH],AXIS["Longitude",EAST],AUTHORITY["EPSG","4326"]]</SRS>
  <GeoTransform>  1.0616765252466474e+01,  3.2060348588181447e-05,  0.0000000000000000e+00,  6.0007117035829260e+01,  0.0000000000000000e+00, -3.2060348588181447e-05</GeoTransform>
  <Metadata domain="IMAGE_STRUCTURE">
    <MDI key="INTERLEAVE">PIXEL</MDI>
  </Metadata>
  <Metadata>
    <MDI key="AREA_OR_POINT">Area</MDI>
    <MDI key="EXIF_BitsPerSample">8 8 8</MDI>
    <MDI key="EXIF_Compression">5</MDI>
    <MDI key="EXIF_DateTime">2014:09:24 11:42:03</MDI>
    <MDI key="EXIF_Orientation">1</MDI>
    <MDI key="EXIF_PhotometricInterpretation">2</MDI>
    <MDI key="EXIF_PlanarConfiguration">1</MDI>
    <MDI key="EXIF_ResolutionUnit">2</MDI>
    <MDI key="EXIF_RowsPerStrip">5</MDI>
    <MDI key="EXIF_SamplesPerPixel">3</MDI>
    <MDI key="EXIF_Software">Adobe Photoshop CS3 Windows</MDI>
    <MDI key="EXIF_StripByteCounts">166332 159687 153978 149527 146372 143692 141194 139428 137079 136320 134844 133591 132964 132475 132349 131903 131722 131193 130312 130633 130578 129817 128787 128360 127904 126795 126324 125694 125829 125386 125393 125105 124671 124095 123548 123390 123393 122999 123411 123195 122765 123149 123450 124116 123764 123845 123323 123519 123753 123513 122966 122937 123809 124133 123461 123125 123033 123146 123144 123047 122739 122655 121869 122178 122036 121598 122016 121925 121174 120657 120565 120093 120034 120298 120044 120057 119763 119646 119563 119830 118463 118607 118388 118832 118414 117890 117896 117296 117314 117757 117802 117362 117094 116888 117166 116801 116942 116684 116324 116471 116635 116644 117898 117409 117238 117172 117256 118468 120771 119961 119022 117566 117400 117913 117227 119030 118283 115651 115033 115231 115031 115291 115235 115551 114712 114700 114405 113213 113755 113347 113308 113203 111455 111911 112136 112234 112142 111244 111019 110581 110171 109564 107925 109029 108424 107883 107473 107157 106908 107365 107421 107455 107257 107331 107229 107157 107149 107463 106368 106477 106006 106129 105751 105505 106785 106668 106438 107239 106915 113624 114681 112859 112723 112012 111962 111617 110277 111422 111827 111437 110870 110626 111706 111193 110515 109934 108332 109550 110638 109712 113847 107532 101814 100582 99509 100561 101289 101620 102285 101875 101755 100869 99188 99408 99456 100866 101967 102937 103945 105084 106653 108171 108096 110332 109507 108407 105781 105489 101770 104675 132669 148603 153216 160202 143381 159686 137487 122334 103306 102294 103818 108188 109553 107781 105159 103208 100363 101259 100926 101449 101814 101332 103923 103492 105265 106038 105211 105198 105111 105231 105675 104894 105531 106573 106743 107790 109388 113696 157386 205928 161496 154485 157422 202620 190645 197949 193272 155198 197098 228005 208864 198315 191245 191462 193295 195420 193221 192453 190006 192881 199162 198714 194747 189972 190498 195145 197424 193526 189669 191855 197029 197748 193974 187254 196235 210457 216780 188471 171784 192216 184667 188049 180473 210577 190512 137724 115918 116119 128301 130642 123719 121739 121668 122850 124694 124504 122667 122079 124188 130763 135025 121377 116752 122387 170124 226281 217136 198009 201139 210934 219560 223685 223955 224214 224087 224283 224576 224448 225551 224474 224702 226758 226521 226335 226568 225528 225617 227320 227016 228712 227886 228762 230481 230212 231720 231994 232528 232845 232855 231235 230988 229201 228743 228705 230140 228879 229783 229429 229245 229876 229636 228522 228277 229680 228563 227773 227363 227345 225920 223160 222183 221622 220412 220778 221025 220821 220500 221171 222052 222332 222177 222995 221739 223332 223705 224012 224484 223406 225155 225360 225477 225207 222987 223361 224996 224424 224541 223764 223808 224229 224105 223828 224112 223917 222691 222007 223012 223844 223547 223144 223265 223401 224252 223175 223555 224826 223861 223701 225327 225369 226961 226652 226616 225482 224105 224132 226755 230049 225557 224514 223317 223122 221808 222248 222845 222880 222419 222931 223476 222877 218997 219440 218939 218657 220082 221937 222448 221995 223670 224697 224438 224199 224696 223695 223578 224648 225668 225716 220827 219602 219659 219557 219092 220028 220736 221106 219890 219327 221085 222224 222877 223043 223780 223564 221601 222072 222771 221643 223450 223218 224276 225075 223215 223358 222149 222307 222887 222182 223076 222329 222884 222837 221270 223023 222691 221510 222768 222315 222566 223280 221055 220076 222013 223683 223160 224723 223663 225570 223688 224097 225066 224576 225212 225315 225498 225609 225671 225339 224939 224313 225161 222712 222515 223467 223104 224337 223283 223185 222199 222242 223721 222933 223563 224147 225383 225554 225155 225036 225917 226082 224895 225564 224466 225545 225311 224108 223294 223916 223457 223735 222093 221960 222223 221013 221657 222038 220814 222283 222724 223449 222185 222002 223093 221875 221937 223159 222749 223968 223102 223289 223666 222651 222712 223545 223364 223820 223474 223003 222048 223046 223544 222125 223280 224849 222991 221142 222823 223371 223746 222914 221710 222602 223358 223349 222869 222588 223443 220880 221453 221646 222042 222801 223135 223580 222367 220220 219903 220989 221135 220536 221060 222668 221384 220661 222724 222348 221379 220731 221279 222007 221208 221850 222232 222319 221850 223347 222772 222656 220557 221508 221928 223467 222099 222479 221791 220782 221957 222004 222322 221945 221772 221387 222665 221198 222103 220994 222468 222814 221186 220607 221361 221373 219237 217719 217929 217456 217760 219483 219911 218844 219539 220061 220088 218807 219225 221105 221217 222561 223353 223762 224336 225585 224742 225110 223487 225585 225185 223226 224205 223622 224427 224846 225033 224510 223775 223294 224568 223410 223135 225890 224336 224496 224271 224529 223988 222344 222064 222979 223228 223135 223569 223809 222154 223144 223420 222709 221490 221409 220563 220895 221064 220905 222596 223118 223519 223669 224607 223790 223196 222964 224028 224133 223388 222194 222269 222588 221496 221058 221889 221094 222049 221427 222262 220860 221259 221484 222851 222515 223958 224006 222149 223786 223108 224975 224999 225471 226527 226169 224760 224367 223508 223710 221925 222062 223118 223210 224957 224372 222535 224813 223674 224768 224003 224100 224208 224532 223544 224331 224571 223516 224226 226014 226127 223946 224633 224082 224724 223750 224651 224954 224270 224220 224135 224070 224676 223964 223274 223888 222981 223586 222790 222969 221274 222155 221489 222873 221180 222448 223834 224129 223167 223720 224024 223030 223218 224135 224816 225038 223868 221909 221148 222898 223082 223298 223767 222062 222606 220011 219021 221204 221036 221602 220856 221615 221340 219176 217976 217187 217026 218086 218934 219891 220692 222530 220620 219314 219192 218115 218583 218700 220025 219321 219033 218954 218559 216841 216637 217665 218118 217870 217922 218324 219180 219333 219620 219767 221570 222691 223068 222947 221456 222080 219354 218390 218595 219101 219698 219593 219692 220386 218858 218388 218448 218619 218185 219444 218404 220016 220970 219896 219995 219162 221006 219993 219846 221420 222683 223063 222867 223130 222410 220475 220811 220376 220394 218912 221633 220976 219750 220361 221842 224621 224340 226178 227076 225932 226055 224924 223925 224337 225120 225029 224303 223890 225714 226512 225527 227105 227356 227371 227104 225935 227129 227460 227723 225645 227248 225663 226275 226046 228507 230209 230367 229560 230568 232132 230323 229480 229788 229567 228808 229059 229711 229954 229136 230025 230053 229570 229878 229864 229750 230196 229446 228863 229852 230443 228113 227969 228852 227833 227950 227472 228010 227115 227771 227663 230586 230463 229560 229848 229554 229267 227072 224667 224567 224057 225344 226500 226896 226394 225480 225264 225639 227377 227700 226865 225105 225207 226172 227337 227717 228195 227121 225204 223404 224270 224826 225515 226322 226239 226313 227453 226814 228152 227723 228662 229145 230133 229701 230439 229281 229495 230991 231183 229630 229630 229182 230053 230370 229815 231856 231178 231933 232525 232886 232596 231960 231129 230686 230859 233024 232851 231898 231969 231183 232920 231978 231219 231792 231267 230833 232613 231528 231225 229641 229226 229271 229858 229987 231672 230701 231885 231738 231540 233074 231616 232375 231009 228916 229957 231141 230629 231186 231525 231651 230652 231709 231475 231132 231220 229699 232450 232093 232781 230791 231565 231607 232282 229990 230191 227690 228519 227972 229482 227032 229312 228929 228878 229021 227711 228376 226881 225684 227587 226629 227292 228197 227370 227755 226832 226140 228571 229876 229560 228819 228373 226724 225506 225957 227198 225749 226967 226524 226755 224865 225696 226514 222990 221405 222519 223291 223596 223174 224673 223784 223663 222283 222514 222609 222683 222314 222143 220449 218801 219288 221180 221989 223156 223383 224280 226694 225755 227178 228457 228498 226961 224910 224516 226766 224691 223061 223449 222745 224184 224735 226082 225875 225867 225279 224345 224298 226337 224735 224000 221903 222267 222352 221942 223097 222836 222847 223622 225146 225135 225492 225734 226941 226746 228789 226389 226028 225240 224094 225378 223820 223943 222884 223882 223287 224939 224891 226398 226368 225804 226667 226797 227134 226745 225873 226830 227572 226532 228324 228556 229485 229362 228206 228559 228618 228438 228944 226518 226452 224282 221547 224099 224535 223684 224216 223432 223577 225326 225107 227671 226610 226034 223460 224144 224379 224687 224205 225225 224297 225443 226469 227077 228681 227428 228097 228822 229338 227637 224976 225758 224723 224751 224298 224153 224099 223571 223107 224774 225750 223783 222748 224852 223749 225551 223637 224762 221862 222661 225488 222232 222511 224046 225159 227217 225506 225005 225125 224775 225293 224456 224717 226956 227373 224733 224504 224495 224133 224501 220433 220397 220175 219807 219044 219276 220028 218130 217925 216596 217409 217396 216952 216455 214600 214907 215639 214895 216260 216354 216397 215219 213451 213764 213646 213431 214288 214402 210295 212075 212929 210142 209776 214049 212716 213343 211781 210061 211002 209903 210923 212480 209551 208520 210116 208760 208673 207550 207979 208624 210133 208880 211542 212382 214585 213060 212661 210203 209563 209653 210083 212082 211471 212588 214609 215183 215246 216624 218248 217374 216739 217382 218399 217029 216986 216742 216729 216562 215932 215524 215216 216403 217331 217711 217841 219629 218763 220169 219144 219552 217840 218682 219768 218078 215024 211342 210460 211362 211571 210259 207583 208799 209296 206496 208493 208027 207495 207452 207624 208583 207653 207196 208582 209263 210181 209258 209146 210032 210565 212122 213430 211168 210268 212194 213551 212818 213638 215627 213647 212304 211297 211559 212372 213640 214339 213181 210716 212088 212514 210619 209338 211127 210298 211855 212757 213907 214571 216492 216700 215986 215645 217145 218751 217299 216507 217017 217535 217338 217356 218663 219804 219423 219996 220824 219060 221256 223613 220989 220691 222737 220368 220854 217976 218852 218212 216944 217051 217693 215633 214897 215806 215182 215186 216636 215918 215557 215216 211707 212176 211448 212961 211601 209732 206587 206935 208814 208853 207944 206960 210539 211249 213548 212760 211497 212401 215941 215839 216115 213709 215996 215467 217331 216964 215156 214778 213770 215386 215717 213187 215227 215023 215210 214967 215093 217902 217312 217816 218452 219752 218067 220211 218936 216854 216365 217533 215042 216480 215837 214373 213245 214559 215008 213304 212788 212419 211551 212649 214019 212055 212711 211212 212368 212382 212471 213253 214177 214193 214846 214639 216764 215366 216790 216267 215642 216847 216100 215779 216785 217530 216750 217368 219069 218718 218463 218630 220275 219152 220592 220773 221343 223573 224136 222939 224021 223563 225657 226055 226362 228556 227783 225048 225438 224496 222987 221334 222403 220586 219098 219723 220526 218223 216652 214645 214924 214684 216109 216801 218322 219777 220023 221813 221873 219828 221384 219515 218317 219279 223090 222184 220295 220239 219785 219207 218661 216363 216032 215932 217484 217778 218672 219498 220569 219789 219618 218628 220032 220397 220337 221175 219449 216997 217337 220127 217044 217397 217433 219147 218058 217881 219546 220458 219020 218867 219420 219185 223514 223346 221616 222334 224405 224957 222750 222819 222424 220734 221571 220754 220250 219327 219288 219242 219465 218964 219108 217299 217792 217746 217613 217671 217686 216995 216740 218157 219578 220155 217793 216900 216976 218061 219060 216984 216777 216599 217014 216762 216891 216476 214213 215606 215224 215053 216212 215344 211771 212867 214585 212808 212845 212770 212297 212266 212150 211498 212304 212961 215110 214811 215090 213299 211646 212458 212900 211921 211989 210748 210972 214064 215591 215684 216925 217588 218360 216844 216945 218291 216939 216040 215572 216877 217002 216268 214367 214712 217069 216253 216082 216065 214481 213452 212477 213596 214948 215360 216546 217382 216640 215177 215416 214880 216835 213913 212426 212572 210622 211354 211437 209942 211059 210305 211443 212295 210508 213130 212449 210163 210795 210443 210767 210313 209926 210538 212005 211986 212745 214298 214714 213226 212602 211169 210190 208742 207238 209092 209453 207419 209336 209827 209138 212238 208688 207079 212067 211412 212341 212090 211487 214697 214201 212561 211029 214292 212324 209575 212346 212662 213172 211722 212973 212470 213355 210373 210650 208426 207660 207195 207191 206356 205267 207254 209480 209242 210755 210716 211068 212517 211767 211134 211186 211954 214534 212430 212730 214736 213722 213674 212480 213394 213607 211564 213919 216794 216696 217447 215695 215041 216403 217155 217273 217001 215950 216807 216394 216068 216929 217972 216005 216845 218538 218151 217605 217034 217039 217704 218214 216755 216917 217913 217808 217969 217338 217150 217889 219411 219045 219794 218757 218910 218619 215398 213506 213677 215221 213212 211627 211404 211306 212200 210494 209873 211737 210434 211903 208444 208456 206271 204772 206023 205514 207415 208351 206854 207097 206800 208700 207445 207665 207002 206213 204985 204913 204976 205302 206601 205694 206130 207158 205695 203640 203700 205191 207947 209555 207761 208745 207752 208699 206099 203812 204675 204534 205463 205684 204837 206370 202807 204031 206134 207272 204987 206180 206950 207077 206281 205579 204652 205039 205725 207349 207125 205213 205221 205986 206268 206411 204421 204415 203551 203973 203595 204079 204499 204771 204714 205820 206807 205114 205579 206246 206703 206543 205066 207123 206582 207682 206069 205517 203662 202564 204220 204672 204976 207227 207136 209030 209026 209546 208255 204825 204264 203055 200387 201204 202810 202555 201451 203211 204951 205228 205913 207557 208006 207277 206373 204447 204174 206421 206352 206316 206374 206009 203806 204475 204462 206255 207382 207011 207081 207657 209890 208505 207436 207513 209666 210227 206547 207161 206674 206075 207661 206568 206444 205612 207236 206595 207101 207995 209627 209653 208732 208870 209860 212158 211547 211486 213012 212420 213317 213617 215021 213181 214001 214061 214256 213886 213406 211564 210872 211392 211398 210649 210751 209366 210037 211458 210794 211488 211469 212642 212106 211253 210365 209378 209210 207929 207053 207592 207213 207469 206990 206762 204364 206986 207660 206384 208546 207893 209065 208693 208832 211336 210193 210095 209647 208571 209689 208720 209510 209513 209284 210604 210566 212067 212653 212541 213677 214502 213072 213131 213314 214202 212660 212371 211974 211037 208165 206762 208238 211705 212962 210930 210635 215510 216330 216511 216361 216201 215828 216841 216626 216077 216694 215351 214948 215644 214466 214669 215624 214235 214417 212328 212744 214517 213314 212848 211572 211236 211323 211194 210682 211947 211996 212005 213247 213721 213352 213637 213739 214214 213178 215515 215371 214922 213136 213281 213139 214231 213634 213724 213560 213760 214196 213643 214343 214414 215012 214396 213761 212793 212008 212713 213352 211331 210936 211218 210475 210317 209090 208856 208279 208882 210928 210683 209671 209675 211448 213143 212577 213271 214018 213457 211782 211643 211653 213271 212411 211424 212041 214096 213275 213455 213458 213922 215693 214967 213425 214177 212653 210659 211813 211481 212462 211049 209680 210251 210965 211667 212137 212660 212750 211163 211119 211083 210047 211172 210512 210545 209095 210329 210968 211456 210932 212618 210963 210671 210953 211404 210688 211404 212741 214195 212801 213149 214754 216365 216299 215410 214717 213616 215678 214844 216134 213743 213715 212900 211466 210557 211287 211672 210002 210302 209042 208972 209908 210544 208214 207680 206769 209033 208718 207000 208190 208477 209390 208805 208861 209140 209045 209566 209776 210574 210986 210100 209366 210293 210368 210401 209044 206954 208078 207851 206964 208460 206125 206945 206329 206190 206685 206444 206562 207108 205718 205895 206311 204496 205566 205595 206386 205649 205494 205393 205895 206377 206857 205749 207654 208085 209950 211211 210319 210499 208747 206627 205387 205626 204250 204718 204291 204705 204046 203823 204694 205494 204435 203955 204037 206498 206384 207689 207953 205254 204121 202936 201043 202636 202632 200949 201671 202848 202830 202500 202683 203500 202438 204015 203493 203236 204522 206364 206430 206468 206463 206417 207013 204922 204273 204334 204241 204687 203233 202798 201855 203028 203076 203449 202965 203358 202101 202492 203485 202882 203133 203824 203473 203373 203002 202845 204391 204696 203496 202908 203566 204001 204372 202920 201780 203713 203959 203451 203529 203176 204387 203925 201839 202344 203548 202605 202163 202238 202375 204118 203754 203665 203473 202918 204115 203668 201622 201194 201791 201920 202232 201722 201741 202620 201726 202312 203053 203941 202362 202596 203116 203791 202864 201975 203265 205649 203809 203652 203851 205134 205272 202365 202046 202776 202408 200905 201015 199726 198712 198199 198585 200725 192266 182945 176558 166798 160115 159657 157877 158474 133698 120646 125496 127329 125499 124026 120211 121601 124441 121335 118052 123858 142645 141651 157660 156032 164346 160083 170476 189729 185324 202320 198534 205954 198082 206296 204505 210625 215374 211284 209504 211307 210089 209182 208991 210020 211598 210272 209345 208084 209179 211518 211815 211299 211208 213578 218234 214603 207030 206971 206256 200353 204367 197272 187874 180021 174819 175658 174075 164075 154772 140178 139161 136854 132465 124901 114394 111301 110288 110840 112382 114372 115214 115504 119906 121126 121721 125016 125715 121905 126058 126372 127856 131424 131630 131710 129266 125710 123869 123378 123114 125948 126831 119371 119667 122373 122033 118985 118070 116812 112531 108829 107934 108905 108792 111479 115829 117905 118810 119457 121668 120471 118920 119370 122396 120737 116308 118769 125721 126442 129045 132175 130831 123648 124734 124504 123020 121622 123204 122705 117850 123911 127928 128520 134929 141687 136698 129902 134967 131893 128408 128850 133324 124888 118880 125500 125639 125091 127631 130756 125224 122700 123975 124254 120984 121712 122220 118642 116204 116240 114730 115184 115272 116255 116983 118234 119753 120695 122546 123305 125946 125761 126078 124549 117269 116429 116069 116642 117583 117196 115943 115937 117001 120688 123881 124639 124227 125602 125532 125613 124953 125581 124691 124628 124859 125041 125299 125420 125684 125541 126226 126192 126626 126243 126644 124496 122111 119583 118357 118285 117865 117973 118163 118598 118624 118837 119318 118495 119620 120434 120665 121031 120946 120981 122820 124806 125437 125468 125163 124676 125930 126245 125976 125785 126435 126502 127007 127017 127476 125105 122595 122858 122820 124019 123518 124442 124840 124663 127325 128081 129144 132153 137466 139708 141892 153484 156435 156039 153144 149948 144010 135369 76201</MDI>
