<PAMDataset>
  <SRS dataAxisToSRSAxisMapping="2,1">GEOGCS["WGS 84",DATUM["WGS_1984",SPHEROID["WGS 84",6378137,298.257223563,AUTHORITY["EPSG","7030"]],AUTHORITY["EPSG","6326"]],PRIMEM["Greenwich",0],UNIT["degree",0.0174532925199433,AUTHORITY["EPSG","9122"]],AXIS["Latitude",NORTH],AXIS["Longitude",EAST],AUTHORITY["EPSG","4326"]]</SRS>
  <GeoTransform>  1.0619674823785699e+01,  3.1854007728182525e-05,  0.0000000000000000e+00,  6.0005552687710932e+01,  0.0000000000000000e+00, -3.1854007728182525e-05</GeoTransform>
  <Metadata domain="IMAGE_STRUCTURE">
    <MDI key="INTERLEAVE">PIXEL</MDI>
  </Metadata>
  <Metadata>
    <MDI key="AREA_OR_POINT">Area</MDI>
    <MDI key="EXIF_BitsPerSample">8 8 8</MDI>
    <MDI key="EXIF_Compression">5</MDI>
    <MDI key="EXIF_DateTime">2014:09:24 11:43:46</MDI>
    <MDI key="EXIF_Orientation">1</MDI>
    <MDI key="EXIF_PhotometricInterpretation">2</MDI>
    <MDI key="EXIF_PlanarConfiguration">1</MDI>
    <MDI key="EXIF_ResolutionUnit">2</MDI>
    <MDI key="EXIF_RowsPerStrip">5</MDI>
    <MDI key="EXIF_SamplesPerPixel">3</MDI>
    <MDI key="EXIF_Software">Adobe Photoshop CS3 Windows</MDI>
    <MDI key="EXIF_StripByteCounts">119431 119258 118864 118798 118810 118691 118568 118483 118106 118258 118000 118250 117997 118394 118075 118069 118111 117616 118039 117757 117736 117778 117629 117077 117161 117296 116972 117001 116896 116776 116503 116753 116191 116450 115964 116102 116189 115976 115835 115862 115638 115858 115151 115251 115390 115394 115198 115280 115082 115352 114894 115519 115558 115221 115022 115746 115683 115477 115039 115832 115622 115684 115328 115112 115468 115591 114931 115492 115972 116423 116996 117272 116639 116420 116030 116021 115145 115374 115159 115203 115951 115478 115294 115369 115173 115704 115885 115618 116191 116554 117388 118336 117152 118304 117491 118205 119885 119126 118789 118759 118411 118498 117886 118412 119141 117317 115973 115301 115616 116500 115310 115978 115823 115716 115676 115561 115445 115614 115379 115882 115596 116402 122577 123291 120855 120875 120063 120629 120209 120753 120152 120440 120561 121190 121388 121742 120915 120400 120389 120763 120679 120215 120510 121688 125113 116375 114430 114230 114852 114378 114960 115114 115166 116176 115035 115453 115059 115635 116291 115712 116362 115832 115407 116411 115464 115912 116540 119576 119211 119691 120437 123285 124965 124845 125646 126212 124770 136892 147050 151439 141304 174290 174886 147393 151810 145180 144877 127389 122442 123720 122544 120565 121192 120684 118670 117514 118981 119538 119270 119498 119077 119656 119388 119680 120045 120259 119363 118123 118007 118202 118247 118312 118225 121482 137307 142979 156846 171846 178037 165760 165504 184805 180719 175247 193950 205803 228666 233779 224541 222669 222258 223746 223940 220614 219753 220506 222140 223456 222015 220835 220863 222044 224523 221396 220472 221363 221902 224633 221695 219122 220742 221831 225974 230085 219071 210716 199656 185099 186318 202360 213602 202101 193868 165948 128397 131662 130695 139351 148025 142800 141359 141870 143090 142406 140767 142730 142913 141149 143569 131115 156006 173827 203880 229824 229106 223980 225798 225579 225734 224366 224067 220934 222110 220637 221505 221519 221271 221794 222273 221469 220671 222144 220949 220844 220986 221677 221493 222708 221460 222315 221606 221567 221801 221190 219639 219758 220238 218999 219347 219935 219482 219704 220604 219666 220104 221710 220535 222483 221918 222799 221148 219347 219152 219816 218990 220422 219663 220266 219710 225002 222766 221010 222260 223416 223426 223230 223626 224868 226430 225423 225938 226323 224150 223617 222713 223424 224069 224529 224382 225290 224958 225704 225245 225401 225692 224562 223901 224726 224996 224622 223289 224324 223575 223690 224106 224447 224861 225999 225683 224744 225411 224690 224306 223779 223808 224960 224495 226683 225029 227081 228159 227412 227602 227515 227652 227322 228332 230167 232090 226452 227337 225830 227204 226319 225380 226728 227495 225749 226670 227520 225269 223115 223405 223802 222274 223702 223311 222753 223177 223223 223619 220899 222114 222843 223318 222933 223764 223353 222352 223687 223515 222772 224802 224280 222521 222898 222698 222752 223878 223637 223802 224411 226199 226976 227841 226374 226676 226527 225504 224829 226296 225456 225221 224705 224945 223549 225309 228255 223069 223738 222926 223353 223118 223680 222808 224640 224334 223569 223076 223661 223910 224595 225686 223644 224979 225645 224820 225491 226427 226565 226317 226544 226638 226274 226032 226790 226488 227470 226653 225755 227592 226212 226781 226391 225377 225941 224960 224810 226007 224850 226761 225200 226826 226625 225809 225648 226670 225243 226316 225830 226473 227180 227188 226101 226230 225497 226380 227099 225833 226829 226400 227296 227506 226373 227239 226709 226757 227516 226542 227883 228241 228925 227901 227438 227147 228314 228427 228087 227821 227722 227922 227687 227578 227440 226463 227861 227455 227290 226388 225989 226530 226395 227055 227073 226053 227827 226625 226506 226913 226836 228094 227467 228540 228116 227410 226544 226425 227668 228076 226197 225680 227091 224919 226437 226443 227465 226082 226944 225638 226547 226050 226706 226859 227550 227422 228204 227501 228448 226557 227887 227576 228207 227391 227795 227850 227537 227690 228621 228034 226827 227488 226374 226785 226308 225971 225819 227980 227783 228390 226701 226403 225837 225020 224922 224768 224378 224778 224825 223935 224075 225054 226122 225698 226152 225506 225786 224789 224807 226175 225170 225059 224115 224727 223841 223732 223288 223997 224172 223772 224495 224910 224747 224828 224763 224996 224603 224171 224319 225686 226469 225716 226514 226481 227126 225801 226272 225897 226439 226248 225056 225303 225482 225366 226116 227322 226628 226442 226358 225825 226292 226521 228435 227031 225606 227302 227595 226649 225687 226662 227199 227741 227063 228219 227756 228842 229425 229252 230155 229187 229046 229909 229738 230017 231021 231169 232059 231157 231883 232523 232168 232643 232024 232381 233861 232014 232323 231778 233454 233740 232913 233802 233460 233266 233611 232324 232553 233350 233149 233358 233841 233489 232996 232780 233929 233815 233130 234103 235143 234510 234715 234873 235162 235168 235498 235746 233768 234475 234308 234691 235432 235648 235039 235416 236056 235560 234765 234641 236065 234263 235521 236376 234808 236107 235032 234392 235716 236484 235236 235825 236097 236032 236659 237081 236314 234682 235528 235330 233971 235714 236163 234359 235008 234891 234972 234832 234729 234790 234499 233244 233518 232637 232541 233586 233393 233544 233320 233184 233316 234592 232809 233125 232863 232366 231691 231969 232895 231712 231994 231612 231778 230625 231900 232296 231054 230979 231172 230992 232293 232078 231670 232452 231631 232784 231913 231471 231742 230763 231210 230814 230779 230737 232063 230097 230560 229552 230613 230440 229310 230136 231135 230739 231126 230728 231919 232888 232748 231829 232141 232480 231516 233163 232683 234641 234686 233031 233591 233328 234000 234645 234681 234414 233024 233266 233988 233372 234153 234205 232996 232542 232330 232531 233218 233338 232846 234018 234442 233780 234913 232375 232054 232783 232850 232047 231702 232609 232944 232904 232237 232756 234730 233944 234406 232886 233599 233263 232645 233095 232332 232964 232870 233076 232278 232778 232879 233595 233919 233421 234281 233118 233794 233734 234465 232930 233368 233904 234388 234652 235506 235416 235387 235150 233864 235164 234735 234535 235102 233778 234124 235656 236343 235552 235738 235051 235704 236182 235980 235639 235758 235146 235483 236080 235714 235591 236080 235627 234539 234102 234336 233754 233130 234677 235189 233655 233845 234714 233343 233030 234116 232970 234400 236035 235914 236098 235366 235002 234670 235123 236527 235485 236281 235888 235686 236094 235918 235168 235810 234750 236086 235509 236527 237450 236937 235752 236034 235597 235255 234778 233860 235062 233266 232520 233158 233011 233701 234582 234465 235554 234289 233863 234532 235495 235173 235758 234831 236259 235311 234539 236779 236214 236776 236346 235488 236737 236962 238048 237475 236571 236452 236635 236850 236800 237270 237318 237256 236832 235663 236442 237022 235845 236797 236098 236563 237090 236908 237535 237886 238817 238417 237456 238372 237912 237490 237774 238388 236833 237714 237879 238259 238472 237415 238001 237246 237255 237858 239014 237589 237543 237382 237685 238848 239564 239618 238823 238889 237589 237760 236503 236427 237205 238373 238713 238583 238703 237489 236934 238035 236553 237163 237048 238362 237400 237352 236815 236412 235263 235494 234753 234861 235942 236232 236116 238641 236322 237012 237385 236443 234684 233816 233173 232197 231667 232111 232131 232074 232272 231112 231609 232828 232652 233560 234069 235380 235657 235684 235446 236733 237504 238682 238463 238795 238596 238279 236341 236778 236241 235111 234422 236074 235813 235378 234895 236040 234732 234943 234454 233684 235129 235917 235056 233556 235887 235606 235845 235764 236281 235252 236047 234653 235168 232910 233929 233859 233476 233910 234077 234951 234726 234143 234976 236227 233976 235699 234805 234651 233794 234057 233569 235030 233916 233688 233831 233648 233559 233239 233288 233320 234103 235840 236029 234178 234028 234738 233460 232552 232679 232658 232505 232898 232600 233342 232626 233369 232502 233023 233564 231991 232273 232225 232658 232447 232457 232003 232565 232565 231687 232290 231615 232228 232216 232000 231400 230769 232293 231346 231336 232545 233080 231574 231760 232203 230923 229881 230790 231351 232150 232969 233415 234867 232550 234718 233837 231970 233303 232729 233061 233559 232279 232317 233482 233740 232447 232290 231624 231955 231861 232835 232524 231826 230509 231918 231385 231615 231430 231474 229510 229338 230460 230317 229461 230059 229299 229246 229819 230520 230730 230679 230967 230799 228619 231271 231406 231727 229903 229755 230571 230562 229161 228782 228688 228782 228574 227337 226823 226611 227246 226163 225650 225030 226110 225573 226265 226005 226406 228842 229277 228959 228703 230017 230092 226730 227778 227873 227251 228342 229116 226857 227560 230415 228834 227907 228394 230062 230076 230289 228263 228251 229167 228438 227771 229342 230403 231292 232078 231846 231901 232397 230140 229053 229293 227656 228058 228393 229136 228179 228283 227910 227803 226244 226689 226113 225179 225519 226791 226563 226311 225690 224702 225854 227602 227426 228307 228295 227817 226565 226034 227335 225894 225120 224379 225482 224445 225327 223384 222882 224162 223270 223889 225725 224354 225803 225809 226290 226827 226794 227051 225938 226923 228328 226607 226395 226334 226842 226935 226563 226826 227518 226841 226034 225591 225659 226883 226055 225774 225822 224682 226334 224607 222855 225575 224448 224499 225872 224436 225843 226271 224949 223428 223907 224384 222373 221648 224723 225581 226740 227306 227707 227757 229618 229260 230001 228695 229452 229284 230349 228850 228735 229288 228923 227948 227378 227417 227530 227988 224739 224534 225524 225507 224846 223903 224379 223767 222803 221259 221274 221924 222115 223218 223481 222979 221346 221987 222547 221969 221420 220242 220719 220940 223305 222987 222944 223958 223248 222358 225462 224604 224880 226460 227180 226710 226893 225779 224319 223452 223145 223787 223986 223985 225383 223441 223130 223085 224307 222616 224198 223438 223849 223845 224379 223028 222739 222060 220842 221571 222649 222686 223354 222892 224958 223965 225279 224648 224849 224457 225450 224160 223428 223316 223937 223855 224237 223151 223738 224897 223463 223658 224721 225678 224849 225117 224621 224717 223849 223946 224919 225551 225624 226181 227006 227636 227622 226914 228415 229182 229858 229467 230028 229894 228846 230031 230094 229467 229204 229812 229398 230503 231078 231073 232324 230190 229519 228536 229386 228534 229492 228745 227031 227670 228434 226380 226521 227235 226511 227450 227028 227380 228831 230638 230329 229257 230934 229938 231399 231171 230529 231883 231735 229651 230232 228992 230485 230935 230598 229684 229266 229066 230883 228716 228772 229059 230386 231199 231427 230326 230356 231447 231588 230721 230832 231475 231003 230629 229710 230838 231571 230893 230352 230049 230185 231082 230547 229927 229007 230211 230694 230842 230001 230067 228596 228679 228599 228853 229759 229506 229223 230229 230010 231016 229872 231322 231328 230358 231507 230296 230451 230460 231057 231394 231742 228831 229215 229843 228745 230547 229407 228027 228698 228984 227801 228173 228156 228247 228050 228655 228119 228742 228347 227623 226959 227446 227990 229143 230481 227972 229473 229119 226773 225197 225501 228152 228523 228355 228701 228259 228090 229069 227883 228384 228281 226380 227606 227463 227517 227418 227766 228131 227046 226832 228122 227356 228486 228079 228861 227665 228432 227671 227267 226971 227270 227363 227842 226568 226862 225863 227445 226674 227353 226791 228129 227750 227613 228211 227536 227758 228144 226904 227780 227592 226850 228042 228618 229344 229570 227595 228122 227566 228306 228057 227721 227576 226314 226355 226860 225896 226103 226217 224415 223837 224112 224583 224510 224769 225104 225228 225065 225078 225411 224664 224891 225231 222922 223786 223834 223475 225750 225215 224784 225057 223570 223497 223995 224775 223665 223739 225209 226098 226460 224510 224097 224634 224444 224217 223311 224526 225923 226688 226140 226166 226410 226842 225537 223204 224228 224099 225443 226842 226319 225230 224357 223240 224288 224777 223850 223625 223013 225254 226178 226056 225716 223361 225056 226866 224819 224889 225527 227658 227835 226305 226602 228482 226565 227478 227477 227578 229127 228547 227902 226923 227170 227296 228171 227598 230086 229807 231109 228552 229178 229311 228441 227603 227921 229569 230899 229190 228119 227871 227723 228163 226617 227198 227472 226952 227465 225678 224975 227726 226685 226094 225743 225174 225663 224763 224498 224706 224489 226536 225750 226101 227132 226973 226629 228003 227391 227700 228006 228171 228435 227578 226838 227168 226145 227518 227450 225735 226947 226482 227367 226901 226613 227130 226797 225863 225455 225099 225392 225012 225551 225366 224192 223379 223636 222738 223531 223894 222588 223399 223215 223529 223023 222368 223079 222947 223888 224565 223588 223288 223058 223035 225125 225317 224397 223928 223947 224678 224664 224348 224496 223320 221741 222970 222730 222724 223913 224937 225060 223968 224091 224103 222568 222473 224262 223034 222778 222433 221994 222684 222023 223739 224810 224213 223872 223740 224201 222133 222614 224979 224154 224343 223580 224547 223683 223559 224936 225764 225861 226146 225626 225287 226859 226200 226802 225882 226025 225170 224952 225305 225977 224132 225446 225221 225281 226443 226565 226839 225663 224930 224925 224954 225318 225078 224378 224450 224450 224913 226031 226151 224963 225086 223983 224306 223295 223635 223934 222705 223131 223049 222950 222854 223171 222506 222871 223824 222981 223171 223203 224883 225254 223938 224754 225093 225426 223860 223080 223580 223621 224331 224508 222728 223201 222162 222465 222233 220929 221599 221216 220556 222390 221367 221948 221945 221787 220757 219291 218787 221421 219909 218571 218393 219393 219300 219822 218852 219117 218441 218684 218894 219221 219443 219695 218270 218049 218012 217607 218811 217601 219002 219365 219519 220632 221120 221943 222403 220938 219779 219954 219974 220032 217877 218497 218798 217958 217946 217801 217920 218035 219221 218709 218296 218075 218951 217970 215593 215635 214321 215020 214537 216064 217035 218792 217915 218064 218627 221174 218750 218978 219903 220593 220548 221240 219834 220338 221216 221570 220785 220454 220067 219651 217944 217975 217059 218262 217771 217037 217392 216799 216585 218442 218741 218972 218675 218516 220656 220872 220536 220136 221294 221246 222019 221829 222760 221942 221528 220883 219842 220725 219969 218873 219356 218579 217987 218853 218666 218622 218405 217199 216910 216769 216759 217449 216482 216862 216954 217387 217638 217061 217922 217761 217576 217701 217448 217491 218189 216885 216927 216025 216278 216358 215606 215528 216880 217832 217328 217566 217788 217913 217706 216422 215735 216085 216711 215746 215750 215384 214576 216731 216527 217143 216404 215287 215809 213383 213986 215278 214439 214976 216100 214625 215957 216591 216218 216875 216209 216032 215207 215033 215381 215533 215941 215735 215407 216197 216932 216278 216269 215555 216444 217345 216850 217075 216941 216837 215906 215632 214373 216014 216025 216969 216880 216827 217297 217667 217789 218652 217445 216825 217235 216600 215335 215770 215863 216739 216032 216756 217035 215770 216569 216286 215351 214349 214207 215782 214664 213230 212513 212668 212988 213449 213343 213419 213689 213590 213107 211123 211732 212222 212529 212254 211117 211537 210389 210502 210891 209123 209597 209761 209138 209849 210116 209710 209762 209525 209788 209096 208813 209593 209339 209705 209600 211137 212914 212915 213151 214061 212998 213202 213653 213313 213236 211843 209363 210023 207932 209572 209438 210791 211517 210962 209353 211379 212073 211073 211765 210875 211737 211718 209692 209849 209296 208957 208709 208363 207956 208433 208678 208291 208574 209906 209083 208391 209240 210025 211103 212243 212473 211093 209350 207638 209165 210533 209488 209374 207863 207455 206861 206009 207023 206503 206806 206380 206641 207258 206406 207261 206721 206605 206802 206565 207625 208841 209015 209443 209395 209305 209518 209002 209072 208448 208414 208886 207625 209092 207899 207811 208084 209129 208595 208856 209021 209515 208894 209699 210071 210128 210037 210638 209422 208661 208481 209048 209606 209038 209096 211314 210236 211078 211910 211282 211050 211868 210443 210226 210182 210677 211022 212183 213032 213929 214942 215104 214112 215480 216486 212653 213223 211241 211815 211581 211396 210929 210617 210682 209657 209074 207119 208787 208825 209845 209483 211737 221685 225534 214363 198538 154250 125653 127521 134155 138232 139045 136467 135539 135075 135701 135220 134028 133191 135675 137289 134121 131436 142477 164653 187977 212260 216756 199444 195726 201938 197352 213115 231633 230575 222273 220772 222229 222827 220979 221552 220563 223379 223775 225165 223214 224649 224840 225354 222290 222037 222756 220289 219636 218193 217569 217885 218607 221309 221280 211769 211844 203920 189932 177971 177098 175664 163832 174268 187980 169592 167086 154754 143735 119899 118870 118675 118264 118667 118447 118226 118007 118162 118453 118397 117589 117094 117628 117343 117686 117620 117814 125866 128406 135889 148256 156155 159249 159582 151996 133605 123950 120339 118661 118051 117112 118180 122933 123740 129958 138415 141575 143336 143296 137356 124756 119752 118108 117818 117361 117163 116938 118957 123167 124875 134929 137917 139873 140274 138303 123498 121382 120325 118780 117739 117688 117943 118724 123165 123830 137487 143351 145283 152824 151198 136284 130786 126179 118535 118493 118138 118240 119717 125631 126436 131119 143473 145112 151934 153253 144403 132250 130317 121823 118940 119170 118610 118285 120418 121767 122222 128190 131171 132943 137772 136566 134451 135642 132973 126546 128258 128216 123611 121319 122747 123182 128679 133425 135042 136339 141308 135931 135906 137252 134374 127790 127893 128604 127860 127218 126467 126601 126452 127055 126837 126723 126989 127655 127907 128384 128183 127394 127437 127077 125209 122082 120717 120661 120741 120380 120130 120299 120638 120588 120292 120809 121193 121862 121368 121533 121683 121665 121655 122220 124196 125020 125216 125826 125309 124773 125262 125724 125347 125407 125757 125870 125470 124118 122543 121434 121716 121601 122268 121907 122301 121760 122198 122597 123177 124936 127215 129527 130638 130132 128982 128277 127677 126046 124116 124898 124999 125834 126024 126025 126359 126711 126884 126891 127302 127692 128348 128721 78106</MDI>
