<PAMDataset>
  <SRS>GEOGCS["WGS 84",DATUM["WGS_1984",SPHEROID["WGS 84",6378137,298.257223563,AUTHORITY["EPSG","7030"]],AUTHORITY["EPSG","6326"]],PRIMEM["Greenwich",0],UNIT["degree",0.0174532925199433],AUTHORITY["EPSG","4326"]]</SRS>
  <GeoTransform> -7.5520998721903297e+01,  2.7710239925868958e-05,  0.0000000000000000e+00,  4.0283314772877979e+01,  0.0000000000000000e+00, -2.7710239925868958e-05</GeoTransform>
  <Metadata domain="IMAGE_STRUCTURE">
    <MDI key="INTERLEAVE">PIXEL</MDI>
  </Metadata>
  <Metadata>
    <MDI key="AREA_OR_POINT">Area</MDI>
    <MDI key="Raw_profile_type_exif">exif
   12394
45786966000049492a000800000008000001040001000000670f00000101040001000000
7d0a000002010300030000006e0000001a01050001000000740000001b01050001000000
7c000000280103000100000002000000310102000d000000840000003201020014000000
92000000a60000000800080008002c010000010000002c0100000100000047494d502032
2e31302e31320000323031393a30383a32302031383a34343a3137000800000104000100
0000000100000101040001000000ae00000002010300030000000c010000030103000100
000006000000060103000100000006000000150103000100000003000000010204000100
0000120100000202040001000000512f000000000000080008000800ffd8ffe000104a46
494600010100000100010000ffdb004300080606070605080707070909080a0c140d0c0b
0b0c1912130f141d1a1f1e1d1a1c1c20242e2720222c231c1c2837292c30313434341f27
393d38323c2e333432ffdb0043010909090c0b0c180d0d1832211c213232323232323232
323232323232323232323232323232323232323232323232323232323232323232323232
323232323232ffc000110800ae010003012200021101031101ffc4001f00000105010101
01010100000000000000000102030405060708090a0bffc400b510000201030302040305
0504040000017d01020300041105122131410613516107227114328191a1082342b1c115
52d1f02433627282090a161718191a25262728292a3435363738393a434445464748494a
535455565758595a636465666768696a737475767778797a838485868788898a92939495
969798999aa2a3a4a5a6a7a8a9aab2b3b4b5b6b7b8b9bac2c3c4c5c6c7c8c9cad2d3d4d5
d6d7d8d9dae1e2e3e4e5e6e7e8e9eaf1f2f3f4f5f6f7f8f9faffc4001f01000301010101
01010101010000000000000102030405060708090a0bffc400b511000201020404030407
05040400010277000102031104052131061241510761711322328108144291a1b1c10923
3352f0156272d10a162434e125f11718191a262728292a35363738393a43444546474849
4a535455565758595a636465666768696a737475767778797a82838485868788898a9293
9495969798999aa2a3a4a5a6a7a8a9aab2b3b4b5b6b7b8b9bac2c3c4c5c6c7c8c9cad2d3
d4d5d6d7d8d9dae2e3e4e5e6e7e8e9eaf2f3f4f5f6f7f8f9faffda000c03010002110311
003f00f5b8ec93ca1945e9e94a6ca329b4228cf1c0ad0b6314b02943b80e0f1dc54a2219
e9401cfdb1105e1b49e3c1dabb1f6fcaf9cf19ec78fd6b53ece848fddae3e9525eda0750
ea3e65e09f63d7f0e87f0a7404c96d939dea769cf5cd0040b04618e117f2a99218f77dc4
fcaa392d7cb8cbbc9210ade670e47be3e9ed54f4f9d2ee631abdc2b439dc1f2371ce3bfd
3e9d68034d6dd3764229e7d29ccb127545c938031d699021b70ea1de4673b8ee6ce38c7e
038a976840598838192de94014e2b09422cfb819571fbb03e520678e79cf3d6b45238a45
04228cfb548a318a8e38de16772fb9589247a7d3fcff00f5c01e208bfe79a7e54ef262ff
009e6bf9544cdf6795a577768df03b6d8fdff1a9b61f3376f3b71f77b67d6801a218ff00
e79afe54ef2a3fee2fe551c90bbdc47209d9634ce631fc5f534f911d8a1597605396e339
f6a005f262ff009e69ff007c8acdd6e32fa6ccb1055f94ee703ee8c76f7ad2c97e9c2faf
ad53d5637366db5c2c614864c75f4e68030ad2d50428a093818258e49ab26d573c2d4b15
bc84c451c2a29cb2edcee183c67b7383f854aec8b7089e7229ee84649f4fa77a00cd96c6
449d6646f908c4887a63d47bd5816aa4fddad09ada490c7e5c9b029cb7ca09231d3dbb7e
550cf6eea9b2293cbc9186db9dbcf4c7a50040b6ea7a8e95324118e0a026ac3c0cd0b08d
b6b11c36338a58e268a251236f9318c818c9fa50055682307760607b5363b66798caff00
7470883a638e4fbd5986de6527cf7591b395c2e02f1d3dfeb5284a008cc0bb54045ebd71
527929fdc1f9529c2b2027ab71f91a8648af0ee31dc800eefbc80e0ff0e318e07bfb73ea
013886338c228fc2a610c607dc5fcaa92a5e8403cf42d8ea57a9cff2ed4c4b97fb58b76b
c8f7efc15c0ce31d3a753d680347c88ffe79afe542431e5ff76bd7d3daa258eef72ee913
1c6ec0fcf1fe7b558dc1491d49e82801ad1c2abb991703fd9a83ece72d2481473f2a28e0
73d4fa9ab4aa73b98e4fe82925ff00567f0fe74015920442b3853b8a00d8ee07b5590171
9183de88ff00d52fd051f70ffb27f4a0086ed035a48873991760c0cf278feb50c2acf6f3
4d1805a462533c020703f967f1a595cba19149dcee628c7f779c13f5e09fa0ab6aab1441
470aa31f8500531f6c2143c70a8c2e4862727f8bb0fc2ab6dba43b638e1cb4986604e153
3fa9c76e99abc675954105827a85393ffd6aaaf7b6c9771a0623e4618da78e547a500467
ed51afdd8c932649ff0063dfdea70c25122000fc9ebeb9a89b50b5797cb5941707ee8eb4
905c79b249228246420c63b1393fa9fca803481a7160a324e00ace9e6df730c444815831
214e3a63d0d02185665692392419c0f31cb853d8f27fcf14012bdc0910c56f19911c6039
1f22e7dfb8fa66ae46be5c4a9927680327bd44661b4e627c60f1c7f8d30dcf9230e8fec4
e3a7e7da802c3b040589e29ad9c6e61f28c7cbfd4d53b6bb335c14c062013c36768edfd6
a692ed236d92ec4047f13e334013472efde48c0562b9fa552d42ea26b397cb6121076908
41c1f4a6d998e7560e04a4b1c0ddb9597279f4efcfe149a9279d6e595ca01c281d0fb9a0
048e6090ef78dc6073c541269b6d7776978626322e4679c8e8081838ec3b52c6b0849964
086509c310338c76279ee7d6adc76e66977ba903af2011f4e99a0091ae0223318a421476
1d7f5a64d2b08f78b69193ab0da092bedcd25dc8518a8c2c5e5b86cf0327eee3dfad2a49
e4ce2dd5818881f313928c4f4fc79c7e5400c17db59235b795f7e36302a4118ce739ff00
f5fe744d7a2d2232cb6f37b93b063f36e0521478a77488ab80d8446cfcb900e770ce3bf5
1493dfb44f109add95d72d82460f6ce471dcf5c74a0047d4675271a55e310b90018b9f6f
bf4c3a8dc670348bdc6719cc58c7afdfe94eb4bbb790af94e65d8b8088e18ae7185e0fb7
7a9e1b912caead852801c29c8ee28033e6d4f135bf9b673c2825219e42800f94e3a377a5
93584495504523f9885a3d841dc41c11d7dc73d3ae718a66a1730eede8ee1f2087dac063
a119c63f3f5aa42792592036b0bbc0a71e719700838181dfa81401acb7eff2fee25775e1
d117039ee0b601c7f5a65b5959cba87db1ada78a7ddbf0efc6791d0123b93f8d3a08ee96
e1a528a40180a67623ebd2a0bbb99093297554da06d8dc92727af001fe9401b0f791057c
30053ef13d178cf3f85496ee9247e621ceeef9cd73b71672c1a6bc8bf66599d8027c9dd8
fef7527deb52d44f0e9e1a49795e4f971609fc0d006954731fdd35395c15520e72320fad
3273fb87fa500489fea97e82aacd34d102ce9803a8085d5873e9c8f7c8c7d6ad47fead7e
828660303a93d05006335e1d3e48cdd2bc76c1da4570a581c82704e060824e38e7eb5a71
4a975187570ca464283fcea431071fbcc127f4fa564ddd8c96aff68b4046d3b9e2538047
aafa1f6ff2402ecf3105634cedc176d8bdb19db9e9cff9eb9aa6b6b6d2de492c88e9296e
230f839c679c1fc71f8d53d26f66d41638d7cb8e34c8076fcc4f196c1e8724807a77e722
b56068a18d6699951546132d9ce4f279e493c7f9340105c40204ff005989240039dc0000
771c1ff26ab1916e6448a28cdba81f34ac4a30553d063b1f73d39e6a55bc692e2e26dafe
5ab6c3e6260201c7723a9f4cfe82aa22decef23ae5d890c7663007f741c8c10307bf38a0
0905ac4b7db95eea5fdc83933b8e727dfbfd3b558b88655b5ca4b22c4fcb804965039c82
dd0e0743ff00eb6dacc8bb954186438f95bef13df7646738e7e9eb8a77dae498ccab26d5
84a991f3d3b91f77d07eb400ff003dfca48624666cfcc0e090bee091fa669f2413b38659
1864f3bd8038ce78007f5ffebd18e232aa447ccf2b2577fcac09e83073faf5c8a9da3944
6c3c993a7ef1b68270392321b39fa5003e1b92b21908c9388e3527eff3d7bfd7bf1cd4d2
79b3079a1665e405c10037a7383c649ed502c52ba2e36acc4108a46ed98fe2fd7f90f7ab
4b0315fdf3bb01f7954ed0a7d78ed40111b779ae4a34afb5147cc08cef1d7b63a11f5e9c
739ccd5229635d922c4a833f3ede0f1eb9e3e87f5eb5a3029954cb693cce9b895c8c86e4
679206471eb50ea484ac506d91f712c448dc600c63233ea28032a7702ca5592259d95411
80bf281ce464e00c81d067fa5f8a574b66696e90f96a32216603ae0e097e83d7153dc5b8
96d2469ada2f95080cae73d3e9cf3522abccff006641e547b989c2f4249c67b7eb401527
9adc58c8f147e6baab1638f9bee919cf381c76ce4fd735a91ddc92c2a238361dbf788255
7d3d09fc38f714dba6d9652a46000229188ea5b8ff00134e4b28e321a388463041484edc
fe3c7a500674f62d35e4b712c2b7122e76954c10b818033b813dba8fa567d9c7a6df5f4a
3ecc904a14054f991970d824af1c1cf51f81adf92295a555264008c2bb4a54e739c10bd7
8e9f4a4bad262bb502421b192372ee3923d4e68032c08747fdeadc3c8cc85247f37711b7
95ceecf1c9e401f4a647a94fa940cd1c216390e1640d975007de50c475e80f03bf3d294e
9505acca5c191d4ee454270cd9ce0024f41dfb7b55bb71224318814c60b1ecfd39e07ca4
76ebfe3400cb58a08ad8c87ce770c497237976e9d7040cfa0c53268a786c6132a7926265
dcc30c42e4679f5efdea7babb114b023c4d213275ca83903200ce3be0fd3344ad70fb9ae
d8221e11234de1b39e3dce075e2802280c8a4bfd965909ce0b7ca71c70727d7e9d3f0a96
3b659d1a1886c84e32ff004e411d89ce39c7e7dabac22197cd90bbc78da85b2a01e387c8
e790067daade5e59b131dab18248fe00460839cf27af07d8e0770071b58d1fed0496933b
630c7393f53923a76edcf6abb689e543b371620f2589393f8d54597738d833281b5148cf
9631d48f53c7e9f5ab2166f25cc647984f00f414013b75151dc7fc7b49fee9a9555b62ef
c6ec738e99a8ee78b594ff00b07f950055f36664cd936f68d402adca1f519f5ffeb55c81
84912c80302c39de30df8d1080b0a000018e829cb81238cfa37d3fce28023b954980b766
910bf2190e08c60f5a925da232ce70179cf5a6c2c242d224c248d8f18c70470467fcf7a0
c65e5dd211b54fc8bfd4d0072135a8d36e370b5089360b9520951d39039ebcf1f407b569
c5a85ab4056e5e38652a14c8ac0039e84fb720f3ebdaa4b8b4334936e45750d92b1e4939
f5f7faf600702a9c9108e53298a562402e84f0de83839cf3f8f7ef401a1777366b1c6b0d
c2316708d86eb8048c91dc63f1aaeb3acd22816a971b060cafc819ff00be881c7ae2a048
efaf020485228f27f73712eec7a606d3efd7f4a8e4b8bd8656b7b942258a3caba82c8d9f
e166e3bf7c0c71eb4017a0b5babb9d243b638901505b2cc41ea0924923383d47e9576eed
1e6787e671b0eefdd1c648231907a8ff001fc6a08e4f31530928208036c83e6183dd9b24
1ec71562de4db70773471c7821433e59ce793f41f8f5f6e4023803a6c251fe7e70a483db
031d3d39cff3a9589c8f31c0287fd444f8c7a67a1e83a74ebd6a4f381631c2c1e653d01e
003d33e83fc3bd44167693cd5c3483ef0c607fc04f7cf1d7afa8c70015123b8b7f324320
11381f3aae78ec339ec381ebf5ab925a677ef791c7dd44240520f6c003207be7a7d72e88
bcb1ccd1a0465620a30201e3bff88cd57b78922856372fb72090c487009e140f4191c834
016d64326d8e02228c12bb88e4e07451edea7d3a553bb410aba2f987a2ab673c003824f3
d49e4fad58dcc855ade29186deae02851ee31bbd38c76a8ae85c2db4eca90b679625c8fe
1fa73fa50051b896e16c6e6458ee5dd10e00f2f1d3dce7eb57ede568d09da406cb1dfb43
64f3ed548412a5acfe6bb7fabc97121c36411df8ab504fb8612e26908e02aaa9e71eb8fe
bfce801d7f35aa58399662acf1b0004847383c7071537215505eb9241f9c797c74f6aa8d
7124961325e5b6c93cb7da4e083c7f3f6a87edd0a346b99159f81fbd0403effbca00d07f
36563146e645439de7182dd4038ec38e9ffeb54b499e5324b732965e14ec518eb92383fe
3557ce0249a432064dc146d80c993b41ec4d4ffbc2f850b8c71ba2239f4e474ff0a008be
c863b9d80f99b8962ce39619c90703a7cdd3da926831701d2d51580dc5a3041cf23b60f4
3ffebec921881898ec01494776428324f51d33c8fd6a78ed5253ba19d31d595496078efc
fb5004210a88e46406ea460c5f3b460738ea7031c7e3ef569ae4146f38c718070a43e79e
d50c20db4f2b855752429db9ca9c9c9c64f19fe5d2a2df1931b4a56194e772a444bb1c63
20900f1ea05003a31673c2d13794d19181f30db83e8074aaad70134c115c3348f0e0a3aa
e44b8e801f5febcfb55df382ac772c4bc40e0064059b9ea31d4f4e319eb516a1382043e5
99033eecbb85e84642faf71ffeba009ad6291e2469a0642a72177e48fafafe679ab917dd
248c126b16c9e35b905a2588103cbf987afdde9d471d707271cd6ac799a2759a1658f272
5d802707af1dbf2e94016aa9de34af14ab18511843b9c8ce783c0ff1ab0aa58050088c0c
75e4d36e4016730030046dfca8023e5ed82a9c31518aa76f6f796503b075b86cafc846de
30031efcf19ab3137eed7e829b0379f74d2b45246d11318ddd1870723fcfd7a700172258
d50088285eb85e9cf3515c48ed88a13866e0b7a549e4c65b7796bbb39ce29e000060018e
94014711c288a64ca29391d38e87760f5cff00faaab4d0bbedf34c7b448bb210071cf5c7
d33f855a7b8081807cac6599cfa724018fcff2aaf34be4084337ef092db1bb75c6783d3d
7a7028024758dc3f96b897fbe232703a6381e83d7d291a16991636924c364794e5781823
3c0cfebfd69cb1a8cb4e9fbb24961226eea33ea71c9aad25b496d708d1388e291c000ed1
c6477eded8f6efd40226b59ece11046d83b7e5193827d8f51fe7daa5b6be37aaf6d1b2c6
63006c6003b01d40edd88c8fc86295aedaed648f6c7301c04442339f46247f9cf5acb558
6c208a1bd42a8ec444f8c3a3e73f964e323d3ae0f001b518b29865e2b56cb7ca980493ea
72383565d618c2ac88ae4fdd4c0c28f500f61ebffd6150c52bec11bc664976855048e41e
e4ff003c67fa52c707d96432312c091bcb1278e80f4e3e9d075f5c804c495428a8de5819
007048f415164cb219a30248e2c8524f39e879ff003dfad4f3466785802546d382090738
a6f4602050d1edf99548007a7d0d0028f3598a6e09f2ff000ae71f89ef54ee9644495123
42aca774ac7041c7a01d3f2aba26d9b4b6f21c00bf2107f1f4eb556ebc94b59de555691f
7051b412703a0a00a690a398e498869446c14b107667038c70091527950416f06c0e791b
5033124e3b73c7d7d335143bb3199d8231c98e118e9c039f5201fa0cf7c66a5895fca121
6c498010019da3fc4faff9200b74544324046fc9c6d6258b0e0f03db3543cfb98ed83307
9509553324c55464e3b1ed9ede9daa790cee8f2499d841380176fb1e58678f5e3daa3b87
592d192392553e7c6772b1c72cbc03d3f01ed401656d25fb2106eb2c5b2595dbe5c9e78c
fbd2c693c738292b30db9fb8e777d49c903e9fd2a3b582e27b97123407cb203afcdb8700
8cfcdef9f6f7c66af421955844ce9229e632370c13c1ec781e87b77a00a779249b224f21
e41bc020a32a019efc7039c7e1562de6b8dfb5d829dbb776dde0f71c823b1fa9ebc558b8
ccd6c61b88b6ee281b6b641cb0e87aff002aa8969259c8d0197304c58f9ad9c86f438f5e
79e9c7a9a00b30095aee55323f979dd801718e983c67b1a2e64480b23a9612ae377a7619
3dba9e7da966696de556dc84b82a02a632dd477fa9fce869edd43c4d2e58e0b92429c120
6ec9c70323a5001b59a20d2483e5e5ba6d5e307ebc7ad4513a098dcc91b2fcb85e3b761f
91fccb5575091feee152cc7e52c922820f4e8786fa1cd588f6332bba88f69daa3e5cbb77
248f4e9db907af1400ae0ccc65d862c8dbca6edfecc3d3dbafb8a92da4636acd2c677c4c
418d0eee47a7af6a6c52317f2edb64a064193a2c7f975efd3f1a9ece211405771625d8b3
1eac771e4d004ea772838232338351dd7fc7a4dfee37f2aa56573a8497cc93db6c836b1d
e5875c8c0007b13d7d3be78bb72336b283fdc3fca8032db6cf18b7209465dae55beef1d0
d5d8708a14138031c9ac459c2968c5dd9a6d600ef808c3119033bb04e2a45f33802eec40
38c7fa39c1cf4c7cfce7068037d0f146e2fc29c2fafafd2b211dced56bdd3f0e405cdb9c
3139e01df82783c5289479f2c26eec15e3215835b1182790397a0095d104eef290a91374
c81b8e729d7dd8fe22a603cfb778d07cee4b1727183ea075e081e9502462f032a4fa74fb
482db6db7007dfe7eb4b716d3bc90bc11c4aa541381820f1d38c74cf5f6a00b304c7c891
e5042a655942f048eb8f5aaab04b14a8ce5cb4848f991582a9e48ce78031ff00d6aa965a
73acd2486ee278cccc0c063e1792a3bfd2ad3af9202f93248e18963e68191dc85c8040cf
7f6eb401656c97cc900202e464763f5f7e3d691acb66ed800c80a0aa0381d0f504ff003a
4b765f2c348c141fba4ccc0373e9dbdc75ec69d2a2847690bb7f12a4723823eb83fd2803
3ee66934bb88b323cb0393e597e4a74c83fecfbf6fa74d18c4974ac19504678218e4e7dc
63ad362923def34c92b48ff2f3036157fba38e9fcea986fb0cc5623225bb01b18a15d993
f74961d3a63b8e9e94017087863124c5d981c2ee7c6dedc81c11ef4436d2c6176160a000
031cf7eb9cfa629e65755322a2aa9fe26259baf403ff00afc546d28819bc9b8596420b79
4cc31d3b63b9ff001a00b9136e0496cb67047a55293e58ae584632c581727ebedc55832c
6600ea1b0a460e393c83c7ae6a1919fec6c9f2464a92f939393c9c0fa9a00a132b4762c4
c6b88d0b70e72477ed4d2f2dbc090bb02c54ef73e8382734ad6b05b405d503b1c750381d
cf038e326aac93ccca199d7cc3831a807f1cf1fd3d381400eb90bb906f937670082cc3d3
3d31d8fe7cd311d16e2569eeb091b02acd955ce0739181faf34fb79a12e04eafe686276e
d233ef8ea78c72454ed731db3ca00006f50320818c0ee0500123cb1e25867cef7018a10d
d3ae474ec7b669e8de64c1fcd6797ee860fb719fd31f85364485a54bb48c865fbcc32991
ee4761fe353dabc56e6494cb12264e511c1ca8ee78eb400d30bddc28d05ba01b816668d4
e70c3af3ed4e4b6b90fb96de05e4e46c040c7a7231f952c123ed58caf91181c44a46e207
41bbd71d87a0e71d621e5168fed28ec5e46c2f945fe5e7b7cc00c01e9de801ec0c920b72
aca2250d86195e7bae0e7b7af14c4950aa24b2c736f600066e7d88cb923d7bd5ab98d8dc
ed8e284aaa03824023938c654d32d8dc4b6e12389110705bed0c5c7b741cf3ebfcf80064
509958c46353220e1d9b9fbc7b8e41181fe79a92d6ddae6dd3cc0ad0e32a84f2c3b163df
8ff3da9dfb98ad0490ca159636c867c9271df3df38cd48f17951a35ab32bb10a149dc3e9
8edd0f423bd003d6c220a034711c743e58c8fc6a45f316ddb67cf2066c6fe33c9a743297
1b5d0ab81ce3a1fa1a74646c3d7ef1fbdf53400a858a29618620647a1a65cffc7acbfee1
fe552d4571ff001ed2e7fb87f9500611b0b79e366f2a3595d4032796a49e31ce473c123e
84d3a3d27014094650fc87cb5f97ae31c718cd5a871b17e82a59e616f6d24dc1d885b072
3a7d01fe54014e7b782da2863bb955d7cc4108689708db860818c672473dba8ab565636f
2dba4d215b9f376ca1e48d4127030dc0eb803f2ac07bc935bfde2053043966c727b11f8f
1d7a11f9d6de8f78b259411a152b1471a1c0e41dbce7d3b50068c76b0405da285119b962
ab8dd80073ebc003e8053e2ff529fee8a15c3c21c7465cd4714d99160d8e088c36ec7ca7
f1f5a00a96d12cd6323796cce26980c7cadc4add2955e6b8818c96a5c16da403b58e0f70
78e9cf5aad6b753409244b1e375c4de596c92ffbc627a0fafaf1529b8bc66313cf046ae3
8902e36f3c8193c9fe5ef4015e48608ae1920786d9f8258600438ec07524673f4ab51306
88858c1487e570ee4b1603af43bbdbf9539cdbc10c69098c4717de7c8c20f5fae7fa9f62
49691cacb215652a30a3cb0c47e383ff00ebcf3400be7c5e4a73090c338670378fa607d7
a5676a57c850c77ac9142cad8186273fc3d39eff00862b4131862867dcd9525b730c0cf6
c71f8734c791d24c4f129254f97bb186233d89e3af268033f4b9a0ba011c0338c6e67886
5803c6723d874ef8f5ad768e18a2df711a2229385e39fafbf5f6aa4d66b710a441e38675
5c23a1047e5d7d7f5f53496d2dcbe663995d3e4313fcbb71d769c6719ee7afb0e0005ff2
e45712a918396c63705fa73df3d7da92e659bca910c71b2ed2490c7a7d31fd6920718139
2d1ae0feec631ef9038cf7a86e19e5d3e7f21d44654ed3d76f5fc0fd3b7e940197279923
aa60bc04e303a918e9cff0ff003a96da0cef5f26309c0385da411ed8e79f7f5aa2a931fd
f2b832a6151cb1380586470318fae7f415a08db433342720e0b23f3c7a93827f5a008de3
479031b64e0e06554eef5c73fd3b5422de0595fcb936956c84e01190338f7a5b9b992dd7
6946742490c08e3bfa633cf4a823b68279a67b8841624856950670571c647f9fd2802ec3
68042cce1b72c648c16e091cfd3f3ab9751cc2294387c609f96593b9c0e83ffd5d6b3ada
d922b96f2a170b22ee78c11bd81ff6bcce9f856a5bdac33c25e49e6c3b6540b97fbbe98c
fa5004a44b13a171b4004b3eefbaa0f3d7fce3f0aaaa23b88e32d1146519255d724e3a9e
723f4ab771042600ca3cc5241c3c8cc0fe04f355244964d1e6c859b640542171b73b475c
0ebfe7bd00240f3dcb707ca8d9502aed3ce092549ce33ed9f5ab16e93ab82e0797b883b9
c65bf0c127f3078ab02526cc99e28e342a022649cfa0c1039f6acf8a2b5b6b7512979c96
019ae9c3312011cfa9eb8a00b72b08a2df190cb26e01598eddd9ce38cfbfe54d826900f2
923dc55d9b731238ce79e3afcdfa53e7b985e1d8bf70f0a50b0e7d32071e9d6aab6d6ba8
7f72854c7850c77614701b1df861ce7d68034479c40901401872bb4fe7da9d1a0780abe1
b2cd9c1f73f95538e3b34d8c648c94c1e0a0e47ae3dead2936f0b1552c3713b41e993401
600c000741505d3aac1229eaca400067b54a1f72a900e48ce0f6a8e6402095b19628413f
850073b31b98658e4851a46c1c2ee0030c7439e873d0ff002cd134dfda76ee1567f23a32
a02ae78e719c1c8cff00faf18ab522c6d6c04b8db81cfa1aa42f2580b48b1878063790dc
839e4f03b1a002cd9ac52ea075465745daebf2ee0efb4641e8467a7afa56a593c6d6c3c9
8b63ae0302d9c9da02fe1cfe954e38a2b955769237264563b89627037000fd79fc2ade9f
671c32c722e72d8dc08c67e5ce707de80357684876a8c2aae00a4491150297504206209e
83d69cff00eadbe86a34111653f2f98107d714019d6cd14b136172a6695b95059c6f3d0f
a7f9e2ae056daaeeea57828b18f942e7f53da9f0460248022fcd23eecf7e4d45743cefdc
942c320928d83ec3fcf4eb400844b31370b850bf75473bc7a9f51e98aaef22c20178da36
624e41e338cf386fc3a55c8adcc69b5267440001820f41df20e3f0a8fce9c3c6abb08dc7
92c46f1eff0029c7afe14015a2ba48e665728e98f9828c939231dce7ff00af563cc53203
20903aa9f911436c19e38193ce3f4edd2a3f2505db480479dfbb6b118276f6e3dfa9f4a9
5aeb64bb08500f71274e78e4f1e9c7f3a0093288362ee2c589c03fe71dbf3acd9e4b8172
d2c1131424615704bae0720723f3fcbae6d49e55c1488859989de55994edc7d3fc33513b
820095da324b1218b38618e9b7fbb83f87d6802685a2942dcc12a4a4f0bb7a1f503df839
fe94db97b792d2753b4cc77a7cd8c82474fa73fad66c72a433bc2d2b470ca098dc2b46aa
7a7660002707f3e9c9a92e25760f09951a40182be5548e3382339c0e68021b7904910b77
62c08dbf2630460707d0f3d3d05470b29436f16c41bb018f46f4ff0078ff008d6441a836
a578f6e8e82dc2e66da0852abc32e4f7c1cf1e9c9e806fc6c902f965d5936e0348d8ddfe
3c77ef401564b368e57791d9f2bd48ce71db1d31f952da4938910300b13e7732a92cc7a7
41c771f364d4ab2430c87e689598e401205e9c01c019e98e7d29ceed2caac922c64a380e
181e72bea280276f2fc99a443211e51eaa476cf5c73d6a792eb4af2b026b6427904941f9
e7d6b39ff7914b0bef0db189f2a66da073d7a67a55db6b479020d88a010c8f39694e7a91
d719e07209e9ed401745bdb5bc5e6ac71f9a3214edd859bd381fc81fc6aaf977b72265b9
222e03298f20b01ed9ef9eff00952ba2473b3a8844a0108e23f9b3eddfd4719a9424e4ab
469296f989761807a1c618e79c6076140080ccd8222fdeff0078abb1fcc8503e9d2a77b6
c94dd8dd8e5ca03cf181f4ebfe34e0dbe3056f07238385ff003ffeba239c191a295e3385
1cfae73fe140096863ddcc4a8ec3702bc820fa1efdeb3d023dcb5c340a1090b81f36ecae
fcf4e0f27fc6acdd0cc0b2798ceca9bc2e57a8c63b7d7f3a6db46f23cb711b2ec3396f9b
d02ede31f4fe740135bc8b216090279793cab1c93f42055a5f997681807ae474f6aae5ee
5d46d655cf62a738fc3a55864f3202819a3c8c653aafd28005211bcb39c9e413dff1f5a2
7ff8f793fdd3fca9c146c0b92703a9eb514d2811491b901ca3103d463b50072d7b25c32a
15e08e8addc0ea78f4eb8eb8fca9d652218e316ea493c08d402a06077e3239fcbb639ad2
fb3472c238dac40f9d7a823a1fc2a84be769aec2dde344625be68c051e8325b3f801ff00
d700ccbdbf934cd7503bc090cae25018b839dacb807691d074e0f7ae93459dee1cc8e412
5738046074e9ff00d7ac0b17925ba8bedd223346fb5242b82e738e87f03d07b77ad9d1ae
e259a459645520756e3d3d6803766ff5127fba7f9508572abc6edb9fc298f224b6b2346e
aebb4f2a723a5356180dc07247da026339c305cf4fa668023fb52db865757cef6c1da707
a9ea38a4438b4597215c636b367049ef9f734e30e52448c1cb3f2d9e471dfbe3f5e6a344
b98b7641e0755e73f51d0fe1834016268fce849c94c8c90491f9e2ab20e231b19e338c44
5b9ff7882791edf8f3c61eaed7aa4602aae328c33bc7ff0013e9eb52acb88d8188b05383
b5c363d7ad00400dbc8f1c61424a57a2a723a1ee381c77fe74e4c944db2962c70738da33
ed4d768a6da1619405e8bb0a93f4ce31fcfad36e19e381123f337e4285552485e84e78e9
fe1400db7b9b79eed563bcdc40c2631f313c9c6473803f2357488cecdad9d9f2f07a0e09
cfe5555e04b6519f284618b7cf9c8f7c9279e6a0f36364904b7eb23019450476ee3d7a75
c714019de2449278ee044d1901530392c1b23047403af5ce6b2ec9e6b9334534927991a1
0efbb0aa30718cf278ee33c8ebd6babb545780104639de1d7ef60f24fbf7fc4d67dcdb5a
25af9d12c914a172a15cb090639da49e7afb741914019f716451adbecd74a03e172c3719
7ae46739ff006bea0e6ac5b412da912348b26fc0c4780abf867bff0053f8cd288dad2299
549743824b9f9011c919a6c9646785d9ca643650c91ab67b8e98ef40161a546987cccbf2
924918e98f5fad549cf9932e30ca14ff00ac90c7c77e40a8d32eff00b98d9445f265c676
e719cfa9e9d38a75dac2c544bbde348c963e56fddc8f63401324115bd89508788f076cc7
1d0f51d2b6225826dcbf33e00ce4923f03d33f4ac36b787c99386963dac486871838fa62
b5adafa1f31a350c4b36170383c0a000ce2dccb1abc31c993b418f05bd39cf34c5fb62bf
91f69b212f52a0b6e278ed9ff39a5db25c1693ed13aab6ef2f684c0e4fb67b7ea2aec2ae
246cb363a9048ebf974a00a96cc2056465b71876ca89304724f008f7a59121b852b21b74
5ea3648321b3d7a7d3f33f5ab2ace2e248d42819cf3dc606714d2f73b8a8688b003828c3
9efdfa500526b50aa8e6e22621d580dbb80c1c9c73e82a482788dbc4cd19964739211463
712723278e0f6cff008d3af46c4569dd0b306551d06e238c7e191f8d3e680b31223dc540
db183951d79c640c9a006b3edb80c91f96adf2be57383d074e3a91dfd7f0b371731595a4
971312228c6e623b0aad02b4c8e85330b6571d47523d4f18c55e4cec1b80cfe7400aac19
430ce08c8c8c5417b12c96b26739552ca41c104558a8ae78b59bfdc3fca8032c4820b78f
e566fbab8039e481fd6ac88a367572a0b01807b8a802ecb6f33fbab93f955e48811401c3
788e396d6f24f265991769998465003b70c323209e840c0edebd77b4c8ec6fd5a792ca06
6caef678802f95ea4119e841c1a925d3ada7f10491ca09cc62650ac54ee185cf1e98fd69
d633402768d518c9e618e40c7247b1fc31cfd45006bc91c715a4ab1a2a2ec3c28c0e9406
805d85db89cc79ddb4f2b9e99fe9ef48cccd63296ce42b8c9ef8c8cfe3d69e0c5e78e3f7
a06338edf5a008a6b7b7ded23bcaa5ce0ed99c0271e80fb5060b7790c45e46603250cac7
23dc67a54c00667ca838718cfd052b324793c02793dbf13401149241b44ccf8d8db7767b
f4c53b28d288d980931bc479e71d3269a1ad8a6d778587a64607e14ef32df7efdf16f231
bb2338f4a00695549429b8224933b41c64fd323b540f68f2dc3c89a9dca10a10aa88c85e
f9e50f3cd3ef2553033412c426c603161903bd334f976db7fa44b0f98c72769e0fe7cf5c
f5a0041110e8e7539c8930a9c47c9c1ff67af5a436d1aa4c3edb39218872486c12071d3d
c7156fcdb6014799100bf7791c718e29a64b460ca5a0218e5812393ea7f2140114421122
05b861249b980e096e99edd3a7e751dd88e4b770f72ecaa76b860b839e3078ab45619196
78d63774e011827e99aad7663f2b6c4aa37365b031cfbfbd00625f5b0f33cbb5b99bce58
f2f6e85417527af2300e471d0673eb9a8f4d52008e4bd9cb0e177055dbed8c71fe7db3bb
15bc28de608c195860c840dc47a66a8ea1a7f9d9962189076fef500316cd24919fcc94a1
ef91f3f6ce31d3fcfa53c430cc2704ca420dadcf518ed8fad4f6eb30b7412e77e39ab112
1a00a4b1c282388c33b8b8c93b780bd339208c75fe756e3b3b51766310cc1c26ef303903
af4ce7ad5b5880209a9832fa8fce80295b5adb4d6e1d16e115b3c348ea7af3c678a492ca
279c229ba0c803eef3e40a73918ceeff00f555fdc3d45337ef385385fef7afd28028c30d
ba8967863ba320f94ef91d8fea7f4ab6b1202a36cd965c962e7f5e7af34f2027ccbd3b8f
5f7fad516b299b55fb60bc768580c43c6d181d73d7be7fc8c004f208d82c861998872157
9ce41ebf4e3f5a943033ba79440551f3e383edfe7d6a6aab7eceb1218d559b7fdd73c1e0
f5a007c6e5e20cf09424e303a8f7a5de3ed3e4f9727dcdfbf076f5c633eb58b7125c4aea
a1a1b76e17f75380df360e79efe9f5352ec9e4884cb7926de4051282a78ee474e9fa9a00
dada3d2a1ba51f639f8fe06fe558a6e27b49f267590b8cf9725cf41c723e983ffd7ad069
44d6f2b472078cc2fcab64678f734013470abdb046190cb83f955955c0ac93a89575d8f8
8c000a98b278ebcee1fca9d1dfc807cf316fa4207fecd4013dc431c7aa5adce08673e531
ddc746238fc4fe9e9542d527904770e7616965728783f7c01f905cd5d8f510a3f7ccce70
3eec6179fccd11dfdac71ac4b1c8154600201e3f3a00b52294b0756392b1104faf14e766
