<PAMDataset>
  <SRS>GEOGCS["WGS 84",DATUM["WGS_1984",SPHEROID["WGS 84",6378137,298.257223563,AUTHORITY["EPSG","7030"]],AUTHORITY["EPSG","6326"]],PRIMEM["Greenwich",0],UNIT["degree",0.0174532925199433],AUTHORITY["EPSG","4326"]]</SRS>
  <GeoTransform> -7.5510251565583744e+01,  3.2202719571333069e-05,  0.0000000000000000e+00,  4.0281236937719285e+01,  0.0000000000000000e+00, -3.2202719571333069e-05</GeoTransform>
  <Metadata domain="IMAGE_STRUCTURE">
    <MDI key="INTERLEAVE">PIXEL</MDI>
  </Metadata>
  <Metadata>
    <MDI key="AREA_OR_POINT">Area</MDI>
    <MDI key="EXIF_ColorSpace">1</MDI>
    <MDI key="EXIF_ComponentsConfiguration">0x1 0x2 0x3 00</MDI>
    <MDI key="EXIF_CompressedBitsPerPixel">(8)</MDI>
    <MDI key="EXIF_Contrast">0</MDI>
    <MDI key="EXIF_CustomRendered">0</MDI>
    <MDI key="EXIF_DateTime">2019:08:10 13:31:02</MDI>
    <MDI key="EXIF_DateTimeDigitized">2006:01:30 13:40:52</MDI>
    <MDI key="EXIF_DateTimeOriginal">2006:01:30 13:40:52</MDI>
    <MDI key="EXIF_ExifVersion">0220</MDI>
    <MDI key="EXIF_ExposureBiasValue">(0)</MDI>
    <MDI key="EXIF_ExposureMode">0</MDI>
    <MDI key="EXIF_ExposureProgram">2</MDI>
    <MDI key="EXIF_ExposureTime">(0.025)</MDI>
    <MDI key="EXIF_FileSource">0x3</MDI>
    <MDI key="EXIF_Flash">16</MDI>
    <MDI key="EXIF_FlashpixVersion">0100</MDI>
    <MDI key="EXIF_FNumber">(2.8)</MDI>
    <MDI key="EXIF_FocalLength">(7.9)</MDI>
    <MDI key="EXIF_ISOSpeedRatings">120</MDI>
    <MDI key="EXIF_LightSource">0</MDI>
    <MDI key="EXIF_Make">SONY</MDI>
    <MDI key="EXIF_MaxApertureValue">(3)</MDI>
    <MDI key="EXIF_MeteringMode">5</MDI>
    <MDI key="EXIF_Model">DSC-P200</MDI>
    <MDI key="EXIF_Orientation">1</MDI>
    <MDI key="EXIF_PixelXDimension">3072</MDI>
    <MDI key="EXIF_PixelYDimension">2304</MDI>
    <MDI key="EXIF_ResolutionUnit">2</MDI>
    <MDI key="EXIF_Saturation">0</MDI>
    <MDI key="EXIF_SceneCaptureType">0</MDI>
    <MDI key="EXIF_SceneType">0x1</MDI>
    <MDI key="EXIF_Sharpness">0</MDI>
    <MDI key="EXIF_Software">GIMP 2.10.12</MDI>
    <MDI key="EXIF_WhiteBalance">0</MDI>
    <MDI key="EXIF_XResolution">(72)</MDI>
    <MDI key="EXIF_YCbCrPositioning">2</MDI>
    <MDI key="EXIF_YResolution">(72)</MDI>
  </Metadata>
</PAMDataset>
