<PAMDataset>
  <SRS dataAxisToSRSAxisMapping="2,1">GEOGCS["WGS 84",DATUM["WGS_1984",SPHEROID["WGS 84",6378137,298.257223563,AUTHORITY["EPSG","7030"]],AUTHORITY["EPSG","6326"]],PRIMEM["Greenwich",0],UNIT["degree",0.0174532925199433,AUTHORITY["EPSG","9122"]],AXIS["Latitude",NORTH],AXIS["Longitude",EAST],AUTHORITY["EPSG","4326"]]</SRS>
  <GeoTransform>  1.0363450693932641e+01,  3.1495890534997452e-05,  0.0000000000000000e+00,  6.0102553081703263e+01,  0.0000000000000000e+00, -3.1495890534997452e-05</GeoTransform>
  <Metadata domain="IMAGE_STRUCTURE">
    <MDI key="INTERLEAVE">PIXEL</MDI>
  </Metadata>
  <Metadata>
    <MDI key="AREA_OR_POINT">Area</MDI>
    <MDI key="EXIF_BitsPerSample">8 8 8</MDI>
    <MDI key="EXIF_Compression">5</MDI>
    <MDI key="EXIF_DateTime">2014:09:24 12:33:21</MDI>
    <MDI key="EXIF_Orientation">1</MDI>
    <MDI key="EXIF_PhotometricInterpretation">2</MDI>
    <MDI key="EXIF_PlanarConfiguration">1</MDI>
    <MDI key="EXIF_ResolutionUnit">2</MDI>
    <MDI key="EXIF_RowsPerStrip">5</MDI>
    <MDI key="EXIF_SamplesPerPixel">3</MDI>
    <MDI key="EXIF_Software">Adobe Photoshop CS3 Windows</MDI>
    <MDI key="EXIF_StripByteCounts">89285 87614 86420 85673 85649 85087 84985 84244 84176 83567 83498 83510 82478 83253 82181 81940 81844 80323 81022 81486 81812 83933 83717 83594 84283 83996 83908 85831 86119 85540 84694 84490 84910 83935 84173 83783 80054 79339 77549 79082 78275 77782 77366 77416 77509 76695 76698 78044 76376 77361 77607 77138 76957 76396 77041 77173 76528 76369 76311 77758 76873 76246 76367 76343 76194 77159 75615 76262 77272 76612 76603 76248 77449 78113 76512 78067 76833 76572 77041 77019 77170 77085 76083 81140 85019 89273 87023 86083 85873 85961 85891 86592 86216 85621 86360 86299 85930 86101 86261 86608 85049 84971 85195 85100 85511 87063 88196 85201 77591 76713 76970 77091 76763 77317 76983 76281 76829 77357 77067 78485 78520 79372 81812 83245 84025 83297 82987 82482 80821 80855 83015 81767 85432 95661 99505 102773 109716 118150 121221 117601 108028 97527 92527 94568 97245 97107 101433 110995 118520 118559 108305 101319 94073 83355 80063 80311 81095 82078 85015 89822 89855 89904 88714 87152 87354 86930 88801 90105 91805 94232 98862 108517 113336 118198 125580 132078 136270 135520 144878 152347 152512 159548 166758 177850 184102 189932 191961 200942 202428 211134 215264 217310 220811 222739 221463 227556 227151 228936 233716 235038 233173 232896 232657 233966 233398 232300 232991 233108 233485 233430 235525 237123 236821 232911 229630 230766 222020 219258 214375 218432 213307 201019 194006 189390 186809 178554 174188 165445 161277 151730 147678 149824 138213 134574 135110 133380 129240 126095 127322 126449 124242 132301 143596 146433 152388 159603 167043 175146 180060 182198 187601 196418 197505 205684 210634 217187 223234 231747 238647 239436 240190 239486 237729 237331 236908 237183 236544 236508 236527 237229 236590 237687 237747 236994 237372 237835 239110 238919 240355 240854 241243 240644 241745 241360 243495 242360 244425 244420 244662 243960 244207 244578 244275 244669 243496 243401 244121 243466 243122 240793 241193 241244 240099 241384 241994 240964 242497 244383 242774 242102 240140 241421 239256 239132 239909 241291 240296 240737 241672 241579 240386 241058 242710 241264 240799 239519 240743 241159 239388 239792 239255 240170 238786 239179 238184 238962 238493 238572 238659 238359 237805 238188 237031 237426 237402 236220 237252 237231 236392 236994 238023 239950 239956 243143 241744 240164 239073 238775 239303 239985 239593 240644 238008 237826 237642 237618 239534 236259 234855 235287 234955 235554 234460 234153 234718 233976 234464 234405 232326 233764 233559 233281 233245 233859 231757 231786 232039 232713 232288 232230 233933 233322 232359 233018 232424 233325 233725 234523 234090 234479 233685 234768 233384 234028 234874 235030 233431 233751 233714 235726 234186 235440 235416 233919 234906 234738 233701 234054 235161 233764 232282 232771 233710 233476 233390 233461 233450 233921 235135 236871 236338 236295 236442 235687 235792 234819 236602 236680 235831 237090 235095 234568 235479 235267 234772 235215 235764 236725 236481 235147 233874 235267 234531 235882 236149 236080 236079 236175 236998 236191 235311 236788 235482 236211 235830 235825 236415 234333 235414 236896 236032 235648 235903 237118 236371 235623 234774 235933 233542 233264 233962 234204 234532 235294 234376 235524 234852 236301 235987 234713 235570 235866 235456 234589 235966 235876 236079 234462 234966 235776 235228 235126 234422 234723 234136 233695 233894 235216 233573 234069 234395 233740 233679 234372 234592 234586 234477 234332 234626 233048 233525 234527 235912 233581 234753 234134 233915 234332 233509 233747 233125 234163 233450 232984 233481 232582 232303 233993 233599 233628 235686 234571 234493 233555 235458 235650 234570 234961 234301 234251 234652 234241 234271 235254 233943 234168 233078 233419 234139 232270 232598 232804 232886 232504 233019 234205 233041 232428 233294 233210 232207 231637 231870 232000 232574 233149 232453 232442 230850 231745 231745 231061 232634 231438 230763 230680 231673 232323 231465 232282 232159 233522 233413 233446 233036 233472 233146 234378 233448 234823 234596 235338 236062 235360 233908 235006 233652 233555 233841 233622 233249 233559 234233 235162 235246 235077 235291 233819 234948 234212 234064 236593 235512 232535 233006 231603 234076 233530 232710 233086 233194 234117 235327 234081 236017 235446 234343 234372 234255 234124 233479 233050 232785 233193 232569 233073 231979 233171 233377 232239 232565 232173 231579 231243 231429 231813 231267 230209 230503 231231 232564 231084 231031 231087 230662 232203 232227 232186 232248 231717 231721 233441 231705 232854 232844 231264 230665 231085 232738 232068 231852 231972 232155 233240 232441 232978 233428 232023 232868 233259 233116 232029 233948 233563 233318 233419 232222 233698 231570 232057 231787 230881 232077 232693 231618 233285 232824 231565 232224 232495 232801 232685 233053 233654 233617 233745 233025 233159 233240 233729 232383 232960 233099 233844 233023 232978 232965 232527 233585 233552 233442 234040 233772 233388 234296 232728 233735 234123 234955 234018 233791 233696 233948 234289 233194 234692 234559 233758 234996 234548 235539 235129 235245 235876 236086 236058 234581 235528 235861 233533 235963 235902 235576 235999 236086 235714 235935 237621 236752 236721 237322 239102 238262 239526 237724 237565 238138 238749 238786 238516 238194 238044 238096 237895 237469 236599 237178 237793 236932 237729 237055 237267 237528 237837 237715 236538 236161 236632 236409 237108 237553 236776 236976 236542 237505 237678 236625 238092 237862 237414 236946 236746 235689 236731 236370 237310 236184 236517 236662 236046 235998 235890 236242 235791 236014 236907 237519 237423 237526 237150 237241 238427 238267 237988 236992 237565 238894 237246 237549 237693 236464 237115 236364 236167 236313 236670 235707 236527 235651 236188 235000 235620 237034 237090 236583 236850 235236 236334 235783 235299 235863 235303 236442 234829 234251 234182 234609 234501 233402 233890 234209 233264 233264 234656 234604 234180 234244 234702 234583 234822 235983 234145 234501 234871 234333 233973 234477 234783 232910 234039 232538 233855 232448 232848 233504 233432 232559 232976 234483 236844 235216 234994 234614 234416 233419 234275 234659 234733 232586 232134 232570 231475 231474 231963 232779 234449 233340 233721 232084 231558 231171 230241 231706 231249 231618 232089 231943 232578 233163 232141 232698 232427 232700 232651 231739 231486 232535 231858 232487 233386 232563 233240 233050 232913 234708 234240 234759 234124 234528 234541 234644 234374 236206 235122 236593 236673 237109 236940 238143 236953 237232 237612 238311 238795 238969 238823 238446 238466 238681 239444 238352 239417 238121 239046 239520 238397 238809 239773 239840 239890 239926 240907 240607 241190 240578 240419 240799 241861 241745 242140 240569 241391 239574 240641 239926 239585 239783 239043 239868 240881 239901 240586 242719 241477 240611 239629 240992 241876 240475 241298 239476 241612 242033 240698 239400 239825 238212 239174 239057 238613 238611 238384 238437 238059 238051 238863 240748 239306 240601 239091 240304 239334 237358 239347 238096 238661 238273 237808 237433 238508 238644 238993 238429 237821 238910 239394 240230 239087 238139 239534 239145 239143 239889 240848 240251 239872 238857 238437 238349 238631 240082 239450 239380 240659 241049 241787 240664 241547 241717 242003 242495 242948 243465 243591 242650 243396 242513 242506 242533 242459 243447 241498 241900 241046 242665 241811 242639 242900 243116 242267 243184 243198 242447 242968 243383 242692 243401 243731 244931 245566 244937 245043 244850 244475 244582 244865 243945 244681 244538 244805 244450 244365 244207 244596 243832 244597 244788 244091 243714 243296 244175 244396 244414 244095 243969 243782 244743 243839 244252 243393 242219 241616 240650 242120 241904 242417 241849 240743 242105 242218 240685 241397 242363 242903 242563 241948 242095 241909 241096 240443 241808 242086 241939 240257 239942 240578 240979 240877 240472 239805 241589 240598 241277 242212 241876 242047 241177 241246 239959 240341 239431 240212 239113 238498 239746 239417 240036 240698 241294 241094 240193 239275 239552 239847 239157 239260 239856 240424 238989 239585 242087 240761 240322 239993 239532 238982 239520 240538 240407 239256 238863 241010 239215 239803 239900 239823 239433 240380 239675 240331 238469 238187 238251 239743 241021 239139 239638 240401 238473 239310 240941 240099 240899 241703 241451 241183 240463 241408 241312 240011 240329 238606 241580 240550 238846 239105 238838 240016 240259 239315 239601 240033 239565 241387 240091 240601 240910 239103 241622 241429 240640 241457 238698 238134 239020 239526 239736 239277 240004 239670 239011 239779 239664 239352 239675 239872 239689 241711 240691 243654 243774 242848 242543 242896 241495 242560 241490 242219 239630 238731 240332 239365 238709 239380 237908 239311 238239 238808 237619 238653 238189 238119 238329 238583 239345 239843 239989 239587 238367 238328 239055 239308 237984 238456 239057 240149 239893 240386 239391 238771 237685 238387 237598 240058 240724 238432 239070 238977 239209 238582 236437 238448 236961 236869 237358 237432 236335 237109 236826 237339 237129 237574 238404 238311 238436 239263 239608 239660 239194 239927 239387 239821 240226 239609 238668 239442 239838 238827 238823 238462 239252 240032 239051 239820 238996 239226 238543 237468 237789 237911 238056 238122 237721 237965 237238 238599 236977 237892 237805 238307 238332 238857 239043 239623 240487 242293 241726 241399 242521 242788 242231 241309 241498 239952 241163 241282 241778 239858 240260 240680 240463 240596 240703 242525 242467 242494 240991 241669 240236 240467 242113 241100 241072 241063 240989 240676 241661 242420 241196 240710 240959 241517 241534 241580 242690 241984 242066 242236 242050 241913 241039 240929 240078 239516 241067 241912 240493 242032 240007 241399 239930 239663 238593 239131 238885 240115 239108 239706 239997 238834 238789 239328 239355 240082 239256 239293 239105 239296 239781 240176 239801 240514 239498 239560 240388 241070 241621 241900 242102 242080 240980 242141 243279 243834 243317 243368 243979 244285 243577 244600 244163 244647 244894 244442 245194 244955 244301 244715 244226 242999 243034 242335 243263 242033 244040 243383 242279 243505 242668 241480 243167 241916 243471 242726 242279 242131 242278 242938 242836 242074 242764 241312 242377 240869 241177 240102 241831 241627 241451 242549 242818 242042 239923 242341 241124 240071 241847 240586 241016 241601 240542 239123 240503 241918 242626 242012 241054 240631 240130 240659 241682 241973 241180 242668 239983 241139 241658 240986 240452 241259 241547 240830 239377 239438 239559 239607 239850 240536 240005 240721 240160 240005 240671 240490 240172 240608 240878 241783 241870 240181 241232 240566 240458 241196 240184 240203 240482 238962 238892 238618 238960 238967 238552 240427 240419 239850 241333 242876 241060 242536 242702 242780 244111 243949 243706 243940 243317 244407 244385 245231 244241 245483 244502 245106 244832 245289 244858 244659 244064 243814 243724 244501 244381 244361 244176 243599 243729 244002 243684 244175 243644 244318 244056 244026 244834 244504 244556 244703 244523 244513 245135 244816 245032 244593 244538 244429 243785 244312 244526 244440 244857 243912 243997 242713 243500 243712 243966 244257 244391 244310 244751 244444 244282 244446 245110 245363 245567 245548 245359 245330 245261 245549 244773 244378 244963 244387 244091 245462 245779 244968 244205 245884 245322 245440 247099 246344 245669 245638 245824 245960 245269 246871 247019 247246 246466 246283 246334 246400 245228 245443 245614 245212 244883 244693 244196 244150 243562 244005 243919 243990 243567 242477 242983 242149 241390 243170 242513 241903 242395 240157 241313 240838 239077 239587 238407 238819 239006 239154 239851 237756 237322 238318 239101 239755 239669 239391 241354 241721 240266 240770 238626 239394 239422 239681 239587 239838 238392 238012 240045 239834 239730 239380 239825 241510 239641 239963 239823 240623 239229 241148 238870 239585 240400 240412 240133 238404 239878 239317 240341 240740 241942 242839 243504 243211 242941 243312 242258 242609 243146 243497 242945 242072 242114 244138 242545 242170 243811 242989 243892 242429 242632 242545 242438 242621 242722 242464 243095 242651 240706 241943 241417 242068 241847 241948 240983 242024 243506 243526 242371 241796 243371 243875 243453 242792 243790 243911 243065 244226 243921 243864 243912 244056 244010 244743 244319 244204 243904 244450 244296 244394 245528 245261 245496 244792 244710 245269 244876 244850 244759 244776 244460 244812 243824 244598 244296 244395 244223 244178 243445 243904 243552 243916 243691 244427 243967 244450 243962 243058 243035 243520 243392 243509 243484 242593 242222 242180 243821 243067 242500 242947 241742 243617 243960 243847 243360 243784 243930 244070 244066 244780 243980 244064 243724 244116 244372 244682 245323 245337 245542 245908 246073 246967 246154 245714 245521 246016 246578 246011 245677 245864 245909 247663 246638 245313 245456 245789 246245 246856 245632 246746 246043 246730 247105 246808 247084 245545 244443 245254 245151 246428 245944 245492 245507 245340 245159 246937 247853 247229 246128 245379 246598 248336 247075 247417 245875 246355 246473 245276 246092 246251 246214 246025 245770 247064 246851 247912 247435 246218 246227 246320 246620 247441 246656 247039 246523 246805 246176 246640 245690 246082 245638 246506 246569 246290 246325 246127 246244 246241 246064 246569 245393 246280 246388 246101 245965 245884 245878 246599 245473 246038 246097 246430 247075 247298 249189 248576 246479 248305 248162 248593 248570 247505 246551 247364 246014 245803 245202 245133 246206 245437 245563 245999 244101 245181 245737 244865 244565 244537 244304 245407 244926 244978 244598 244807 244861 245370 244656 246043 246221 246754 246035 245102 246886 245954 245852 245297 245815 246532 245692 245921 246638 245665 245410 245944 245825 244821 244695 244873 246589 246611 245648 246112 246910 246287 245884 246344 246577 246029 246259 246049 245719 246031 245969 245624 245932 246095 245245 245837 245326 245806 245546 245456 244766 244510 245451 245092 245247 245250 246160 245269 244744 244499 245293 245302 245396 246847 245572 245462 246256 245530 246355 246478 246460 245959 244574 245986 245560 245921 246286 245062 245804 246242 245377 245220 245743 245710 246542 247067 246602 246638 245241 245342 245439 245202 245635 245033 244735 243679 242780 243636 244027 244119 244171 244355 244290 244737 244411 244538 244692 244054 243375 243366 243811 243712 242777 243962 243118 242822 242509 243128 242450 241400 240394 241469 241024 242555 242099 242096 241834 241895 243011 241591 240601 241123 239739 239953 242422 240596 241693 238918 240821 240120 241348 241724 240538 239075 240413 239809 240511 240736 239889 239333 239209 239087 239817 238801 238718 238399 238106 240070 238104 238974 239223 238083 238433 238313 238937 238346 238868 239226 236976 238187 236724 238045 239007 239087 237528 236647 238183 238003 238828 239427 238349 239296 238644 239757 240088 239363 239680 240133 239017 239531 238647 240071 240298 239345 240373 240668 240734 241234 241520 241682 241495 241027 240857 241549 241987 242671 242662 242567 241336 242854 242374 240974 241529 241837 240628 241778 240476 240494 240049 240043 240407 240071 240835 239590 239356 239689 239059 238958 239062 238407 238121 238207 237673 239024 238712 238054 238945 239154 238941 239174 238336 238890 238934 238867 238694 238689 239138 239450 239147 239343 239383 240133 241120 239571 240260 241388 240449 242182 240953 241268 242264 241714 241319 242719 241033 241531 239799 241981 241231 239341 241702 241480 239615 241030 239578 240130 238779 239329 239163 239532 239625 240227 240709 240022 239275 241066 240206 240118 239578 239037 239762 239207 239081 238482 239088 237829 239212 240058 239454 239208 239868 240158 239405 239829 239927 239028 239017 240167 238628 239352 239378 238756 238867 237979 238443 240088 238749 238754 238451 239839 239167 238604 237882 238087 237723 239284 239021 240259 238795 237927 238182 238489 238242 238363 237898 237639 238131 238512 238667 239530 238337 239174 238905 238633 238716 238853 238217 237872 237598 237822 237453 237351 237313 237084 236307 236182 235995 236341 234329 234876 234961 234678 234443 233503 233069 232721 233437 233599 233613 233026 233776 233635 232529 231796 233555 233681 233552 232950 232303 231835 232515 232648 231688 231358 229938 232891 231693 225302 217301 207671 196674 188730 183942 173891 163664 164694 152118 143365 146252 137823 127097 127706 126336 126348 127341 123050 123642 130529 134193 133597 140482 144155 150223 152884 165799 163592 170983 181027 191400 190589 202271 210478 212658 216991 222500 228079 225230 228350 234736 236118 236223 236908 236466 235509 234501 234497 234446 236797 235777 233683 233250 234105 234022 234786 233372 231655 229993 229087 228071 219458 219848 215875 211770 203661 203344 202662 197328 194489 189695 167790 154722 156614 151487 143740 142517 131068 126094 120512 117326 112205 104511 101187 101856 101080 102607 107566 108876 109067 109935 111301 107710 106537 103983 104137 102915 102871 104918 105621 112751 119181 117517 118778 119458 117833 112130 107937 108322 107701 101110 100488 95807 94874 92218 92938 93405 91359 91634 96998 97718 98033 101476 102415 98352 96855 96030 98468 97993 101607 102340 101337 107809 110400 113096 113336 115541 111506 102246 97903 96143 96233 96351 96596 100861 101919 98730 102061 107775 109436 110008 112657 110034 103091 101473 103036 101851 101944 102921 103564 98318 96135 97500 104582 105877 106243 105879 106591 102352 96021 96206 97866 97448 99258 100929 99735 99991 100537 102027 102162 102037 102237 102471 101283 101532 99790 99518 99834 100900 101100 101056 105738 108420 109659 109951 108874 112703 113887 113140 112760 108919 107574 106132 106777 106962 106704 107167 109093 109884 113387 114841 114806 116239 115975 115409 115763 116026 116365 115976 116371 117484 116990 117925 118874 117973 119056 119105 119728 120217 119328 119543 119342 117295 116270 113189 113002 113336 113815 114310 114254 114212 115424 114531 115640 115942 115693 116539 116950 118009 119497 121245 122813 123483 123077 123171 123600 123419 123474 124253 123963 124537 124960 126090 126430 126560 125686 123999 124480 123891 123693 123621 123170 123522 123314 122993 123839 124250 125614 129711 133840 131405 130229 128085 129296 129284 125756 125164 124134 124438 123965 123716 123809 124244 124586 125941 126420 127704 131014 53851</MDI>
