<PAMDataset>
  <SRS>GEOGCS["WGS 84",DATUM["WGS_1984",SPHEROID["WGS 84",6378137,298.257223563,AUTHORITY["EPSG","7030"]],AUTHORITY["EPSG","6326"]],PRIMEM["Greenwich",0],UNIT["degree",0.0174532925199433],AUTHORITY["EPSG","4326"]]</SRS>
  <GeoTransform>  3.6227280516686204e+00,  1.7019802207010081e-04,  0.0000000000000000e+00,  5.1095115496894621e+01,  0.0000000000000000e+00, -1.7019802207010081e-04</GeoTransform>
  <Metadata domain="IMAGE_STRUCTURE">
    <MDI key="INTERLEAVE">PIXEL</MDI>
  </Metadata>
  <Metadata>
    <MDI key="AREA_OR_POINT">Area</MDI>
    <MDI key="EXIF_BrightnessValue">(6.62)</MDI>
    <MDI key="EXIF_ColorSpace">1</MDI>
    <MDI key="EXIF_ComponentsConfiguration">0x1 0x2 0x3 00</MDI>
    <MDI key="EXIF_CompressedBitsPerPixel">(3)</MDI>
    <MDI key="EXIF_Contrast">0</MDI>
    <MDI key="EXIF_CustomRendered">0</MDI>
    <MDI key="EXIF_DateTime">2011:05:11 10:33:53</MDI>
    <MDI key="EXIF_DateTimeDigitized">2011:05:11 19:58:41</MDI>
    <MDI key="EXIF_DateTimeOriginal">2011:05:11 19:58:41</MDI>
    <MDI key="EXIF_ExifVersion">0230</MDI>
    <MDI key="EXIF_ExposureBiasValue">(4.29497e+08)</MDI>
    <MDI key="EXIF_ExposureMode">0</MDI>
    <MDI key="EXIF_ExposureProgram">3</MDI>
    <MDI key="EXIF_ExposureTime">(0.008)</MDI>
    <MDI key="EXIF_FileSource">0x3</MDI>
    <MDI key="EXIF_Flash">16</MDI>
    <MDI key="EXIF_FlashpixVersion">0100</MDI>
    <MDI key="EXIF_FNumber">(5.6)</MDI>
    <MDI key="EXIF_FocalLength">(35)</MDI>
    <MDI key="EXIF_FocalLengthIn35mmFilm">52</MDI>
    <MDI key="EXIF_ImageDescription">SONY DSC                       </MDI>
    <MDI key="EXIF_ISOSpeedRatings">100</MDI>
    <MDI key="EXIF_LightSource">0</MDI>
    <MDI key="EXIF_Make">SONY</MDI>
    <MDI key="EXIF_MakerNote">SONY DSC </MDI>
    <MDI key="EXIF_MaxApertureValue">(4.64)</MDI>
    <MDI key="EXIF_MeteringMode">5</MDI>
    <MDI key="EXIF_Model">DSLR-A580</MDI>
    <MDI key="EXIF_Orientation">1</MDI>
    <MDI key="EXIF_PixelXDimension">3264</MDI>
    <MDI key="EXIF_PixelYDimension">4912</MDI>
    <MDI key="EXIF_ResolutionUnit">2</MDI>
    <MDI key="EXIF_Saturation">0</MDI>
    <MDI key="EXIF_SceneCaptureType">0</MDI>
    <MDI key="EXIF_SceneType">0x1</MDI>
    <MDI key="EXIF_Sharpness">0</MDI>
    <MDI key="EXIF_Software">Microsoft Windows Photo Viewer 6.1.7600.16385</MDI>
    <MDI key="EXIF_WhiteBalance">0</MDI>
    <MDI key="EXIF_XResolution">(350)</MDI>
    <MDI key="EXIF_YCbCrPositioning">2</MDI>
    <MDI key="EXIF_YResolution">(350)</MDI>
  </Metadata>
</PAMDataset>
